From mboxrd@z Thu Jan 1 00:00:00 1970 Return-Path: Received: from mails.dpdk.org (mails.dpdk.org [217.70.189.124]) by inbox.dpdk.org (Postfix) with ESMTP id B03EB48B68 for ; Fri, 21 Nov 2025 11:01:52 +0100 (CET) Received: from mails.dpdk.org (localhost [127.0.0.1]) by mails.dpdk.org (Postfix) with ESMTP id 8B37E400EF; Fri, 21 Nov 2025 11:01:52 +0100 (CET) Received: from mail-qk1-f227.google.com (mail-qk1-f227.google.com [209.85.222.227]) by mails.dpdk.org (Postfix) with ESMTP id 0086D400EF for ; Fri, 21 Nov 2025 11:01:50 +0100 (CET) Received: by mail-qk1-f227.google.com with SMTP id af79cd13be357-8b2e530a748so165623385a.0 for ; Fri, 21 Nov 2025 02:01:50 -0800 (PST) DKIM-Signature: v=1; a=rsa-sha256; c=relaxed/relaxed; d=iol.unh.edu; s=unh-iol; t=1763719310; x=1764324110; darn=dpdk.org; h=cc:to:from:subject:message-id:date:from:to:cc:subject:date :message-id:reply-to; bh=2NdKf0iiUpuLcc+FkKQ3k+dqLh88OBvYR1lYtpzkj6g=; b=dZv/p6qBE5wfaV9WC/D1cY6yM9Y70PQw1X3nq158RErhKr6Wjd7HqdQI+1DNJo7Ioe MK7KnlWE7dNIky312e+FvEWgh4qY7F6aVw09wO+VBhfgPyEFWaGE8ajLR6mT2HmVr4vl LRWzzemF09TE/D5eURV5mutPUDf6iSaWyFmVw= X-Google-DKIM-Signature: v=1; a=rsa-sha256; c=relaxed/relaxed; d=1e100.net; s=20230601; t=1763719310; x=1764324110; h=cc:to:from:subject:message-id:date:x-gm-gg:x-gm-message-state:from :to:cc:subject:date:message-id:reply-to; bh=2NdKf0iiUpuLcc+FkKQ3k+dqLh88OBvYR1lYtpzkj6g=; b=o3rhYUbv7+XRiScwewDZnHasmZsTUbkob3un27NHem7nsbdLc0Wi+kjFSHX/esVkVP iTjcQFsG/GjQhlzZdQ8jlZOO/maYRzFO7CLAxGNz5XkIMl+PQg+E4BHMzmvo40OPDMjf hVU4nG00QsPZuxIWRgp0lZTdfQSqZ2nIZEiIYUSF+JjZrdtuIDOlHa4/ccZiaOEmRg7n 0LpGXefoxlAyqyPKHG4og7FbC/8L94FE2CpbEXJHbZ6piBObXpHU7VHPVOpqJpUo1Xg0 iOJ8JSONx5YYEkucfIZ17sxRFB5sQ7cqEwnhcCjyNudfnJhr8BX3AvzNZPpT63Fp9CMN +5MQ== X-Gm-Message-State: AOJu0YwXOLGiOgfq0xiqLYpIQ5s8gPnv0He286Nq3+i7aaKqTOlYHf+a 3gNXynL2KIMVHfuAwN+kCHgdL77Zp6JB10bFX7wzR2TfVYFLSH+avRI6iLaolRNwA/+dGQVOjJN Q98c80teBBH3CJVolXip/ByxPoqhOx4zKChgq X-Gm-Gg: ASbGnctAGvhOpw4ereU5jeiUxeRObI4xDs2IbFAqyzZzsc2OhEuan1Yi3vJjglHpqGH h1eJf033rCu9feKZOAWYTSZxLPccxfBLD/lyVGkAuR57UdR2a/MRNGg+KFH2GivdLS3DtRrDTZa ytArqmL+TNEGCJUu4aKeP/0gQ2li5Q/m4jH+ocl2tAqQ+7DyYQl+zQM9VE4QLuxANn6SIjeLpXE 3TtJ/zXpNslNeBTPyir2617olp2hNRt28+aInGIoUV13yMH64c3nSfDx41MfUU216xlyCKosykD MVRSLIxQCoAIjwKZHOqW1e/j0l7xxVN80UZZjiyDfq1DDp0MwaK2gDhb6NP4RNLXjDmiP76T/4p 3WARkNS/1dWaU8jlfxkJe6Kn/itGwOYrW8qo/Lr62iw== X-Google-Smtp-Source: AGHT+IHFgbiMJVKgnpkekYDnDB3MNftAD15buKXjTNjPSNmnxmF5xAf+ZzEQ4NZqEL6+gu6p/L6MZcz+9PxP X-Received: by 2002:a05:620a:1aa7:b0:8b2:dada:29b4 with SMTP id af79cd13be357-8b33d482747mr152478385a.63.1763719310194; Fri, 21 Nov 2025 02:01:50 -0800 (PST) Received: from postal.iol.unh.edu (postal.iol.unh.edu. [132.177.123.84]) by smtp-relay.gmail.com with ESMTPS id af79cd13be357-8b3295cae8esm46447985a.8.2025.11.21.02.01.50 (version=TLS1_2 cipher=ECDHE-ECDSA-AES128-GCM-SHA256 bits=128/128); Fri, 21 Nov 2025 02:01:50 -0800 (PST) X-Relaying-Domain: iol.unh.edu Date: Fri, 21 Nov 2025 02:01:50 -0800 (PST) Message-ID: <6920388e.050a0220.288a68.6b52SMTPIN_ADDED_MISSING@mx.google.com> Received: from [172.21.0.4] (unknown [172.18.0.240]) by postal.iol.unh.edu (Postfix) with ESMTP id E1AE76051830; Fri, 21 Nov 2025 05:01:49 -0500 (EST) Subject: |SUCCESS| [GIT MASTER] 0bd935abcb823f581ce53986986aa54eaf6f8140 From: dpdklab@iol.unh.edu To: Test Report Cc: dpdk-test-reports@iol.unh.edu, Xueming Li , Kevin Traynor , Luca Boccassi Content-Type: text/plain X-BeenThere: test-report@dpdk.org X-Mailman-Version: 2.1.29 Precedence: list List-Id: automatic DPDK test reports List-Unsubscribe: , List-Archive: List-Post: List-Help: List-Subscribe: , Errors-To: test-report-bounces@dpdk.org _Testing PASS_ Branch: tags/v24.11 0bd935abcb823f581ce53986986aa54eaf6f8140 --> testing pass Upstream job id: Generic-Unit-Test-DPDK#394787 Test environment and result as below: +------------------------------+---------------------------+------------------------------+--------------+----------------+ | Environment | cryptodev_sw_zuc_autotest | cryptodev_sw_snow3g_autotest | lpm_autotest | dpdk_unit_test | +==============================+===========================+==============================+==============+================+ | Debian 12 (arm) | PASS | PASS | SKIPPED | SKIPPED | +------------------------------+---------------------------+------------------------------+--------------+----------------+ | Ubuntu 20.04 | SKIPPED | SKIPPED | PASS | PASS | +------------------------------+---------------------------+------------------------------+--------------+----------------+ | Fedora Linux 40 | SKIPPED | SKIPPED | SKIPPED | PASS | +------------------------------+---------------------------+------------------------------+--------------+----------------+ | Fedora Linux 42 | SKIPPED | SKIPPED | SKIPPED | PASS | +------------------------------+---------------------------+------------------------------+--------------+----------------+ | Fedora Linux 41 | SKIPPED | SKIPPED | SKIPPED | PASS | +------------------------------+---------------------------+------------------------------+--------------+----------------+ | Ubuntu 24.04 | SKIPPED | SKIPPED | SKIPPED | PASS | +------------------------------+---------------------------+------------------------------+--------------+----------------+ | CentOS Stream 10 | SKIPPED | SKIPPED | SKIPPED | PASS | +------------------------------+---------------------------+------------------------------+--------------+----------------+ | Red Hat Enterprise Linux 9.5 | SKIPPED | SKIPPED | SKIPPED | PASS | +------------------------------+---------------------------+------------------------------+--------------+----------------+ | CentOS Stream 9 | SKIPPED | SKIPPED | SKIPPED | PASS | +------------------------------+---------------------------+------------------------------+--------------+----------------+ | Debian GNU/Linux 12 | SKIPPED | SKIPPED | SKIPPED | PASS | +------------------------------+---------------------------+------------------------------+--------------+----------------+ | Ubuntu 22.04 | SKIPPED | SKIPPED | SKIPPED | PASS | +------------------------------+---------------------------+------------------------------+--------------+----------------+ Debian 12 (arm) Kernel: Depends on container host Compiler: gcc (Debian 12.2.0-14) 12.2.0 Ubuntu 20.04 Kernel: 5.4 Compiler: gcc gcc (Ubuntu 9.4.0-1ubuntu1~20.04.2) 9.4.0 Fedora Linux 40 Kernel: 5.4 Compiler: gcc gcc (GCC) 14.2.1 20240912 (Red Hat 14.2.1-3) Fedora Linux 42 Kernel: 5.4 Compiler: clang gcc (GCC) 15.2.1 20250808 (Red Hat 15.2.1-1) Fedora Linux 41 Kernel: 5.4 Compiler: clang gcc (GCC) 14.3.1 20250523 (Red Hat 14.3.1-1) Ubuntu 24.04 Kernel: 5.4 Compiler: gcc gcc (Ubuntu 13.3.0-6ubuntu2~24.04) 13.3.0 CentOS Stream 10 Kernel: 5.4 Compiler: gcc gcc (GCC) 14.2.1 20250110 (Red Hat 14.2.1-8) Red Hat Enterprise Linux 9.5 Kernel: 5.4 Compiler: gcc gcc (GCC) 11.5.0 20240719 (Red Hat 11.5.0-2) CentOS Stream 9 Kernel: 5.4 Compiler: gcc gcc (GCC) 11.5.0 20240719 (Red Hat 11.5.0-11) Debian GNU/Linux 12 Kernel: 5.4 Compiler: gcc gcc (Debian 12.2.0-14+deb12u1) 12.2.0 Ubuntu 22.04 Kernel: 5.4 Compiler: gcc gcc (Ubuntu 11.4.0-1ubuntu1~22.04) 11.4.0 To view detailed results, visit: https://lab.dpdk.org/results/dashboard/tarballs/35668/ UNH-IOL DPDK Community Lab To manage your email subscriptions, visit: https://lab.dpdk.org/results/dashboard/preferences/subscriptions/