From mboxrd@z Thu Jan 1 00:00:00 1970 Return-Path: Received: from mails.dpdk.org (mails.dpdk.org [217.70.189.124]) by inbox.dpdk.org (Postfix) with ESMTP id 0343048B68 for ; Fri, 21 Nov 2025 11:42:21 +0100 (CET) Received: from mails.dpdk.org (localhost [127.0.0.1]) by mails.dpdk.org (Postfix) with ESMTP id F19154026F; Fri, 21 Nov 2025 11:42:20 +0100 (CET) Received: from mail-oi1-f227.google.com (mail-oi1-f227.google.com [209.85.167.227]) by mails.dpdk.org (Postfix) with ESMTP id 3E1D84026F for ; Fri, 21 Nov 2025 11:42:19 +0100 (CET) Received: by mail-oi1-f227.google.com with SMTP id 5614622812f47-450b5338459so768344b6e.2 for ; Fri, 21 Nov 2025 02:42:19 -0800 (PST) DKIM-Signature: v=1; a=rsa-sha256; c=relaxed/relaxed; d=iol.unh.edu; s=unh-iol; t=1763721738; x=1764326538; darn=dpdk.org; h=cc:to:from:subject:message-id:date:from:to:cc:subject:date :message-id:reply-to; bh=4ZOFU/CUqIiLJXLl+jYaWmqrjieEfu9z4HD/qBmDdEc=; b=gypJRzn2KhpkWftKUkpuvJwOlBf5gJ25o/v0OLpRo5sz0tUEAkdziGP2TDd6oHzOUC uFsIICfQTTL5uFYXJhUaCM/X9FyVGKnhldfD/mmjVlTVqehgZCXRJ2hVcLOEUuKurMt6 adWiaXVnThQXM2lUhqPjJWqnkd8K4AGGST02I= X-Google-DKIM-Signature: v=1; a=rsa-sha256; c=relaxed/relaxed; d=1e100.net; s=20230601; t=1763721738; x=1764326538; h=cc:to:from:subject:message-id:date:x-gm-gg:x-gm-message-state:from :to:cc:subject:date:message-id:reply-to; bh=4ZOFU/CUqIiLJXLl+jYaWmqrjieEfu9z4HD/qBmDdEc=; b=eNltsIRoJFIpA44bjZXF3pyEti2C0SRJIQ/A1obmRdKdCYMofLO9N82gyjrR7xVwTL eJkK+pfSpk8edBv8ntDI+oxPUy+EVvzwAYd3NszsMCKUWRVKTWbRXUrL6ee0pvnIEVt4 iDQ3itHXTYK9FazyT26iLpS+gp0QRKXHPH+UuYbdzaQV1hI4oGsOCBXlGtZMrlOODav+ 3jcWWKV3rrSgllopYer3fDl17ityi4p97GZIyvU0CNFsMU+15ScMHySLXh0c9zqXk86A dAZ6zu8lnCEi3OPwFZyPRIUS3CEaYnQJ3N+OMAxyT/e+Rnw/A8LYz5P36BLRNrXN1gM/ mwGA== X-Gm-Message-State: AOJu0Yz/Qi6W4bfXkIMEMxXrPMi8v8BNyyN4drEAGiNRgumz20woKTTf hEccI32Q34V7C/bu/pnBGjm7mrkcNCerv7YGAYPC657qBa+zqsOGKWMoYuxD0tNDmuJtdeyM9t7 UjC13P6XWRGpvRcZGISUSjQWKDjzUS+ghJKZ93EYs2LO2y9784Fme X-Gm-Gg: ASbGncuKBzRkeZYd1zWogTSUDNB2AuNUEIzhs8iH0YlhANxOvo8GVY4KvZHtvxPUR6J kTcJkyDtyMmtDRMbfqSV8YaM2RMuP/ks0VTSaXgNMravzqO1pQDynlArXGbVGufQiA13bB/x6gV dgOBIbKs4QkmpfkvjGtqYwGd67ZiiK4VD3k/ujr5p41Rt6r7Kes6i44b5hLSX0/X169Rfob6/mw DC5oDG17KDkXD41FqH/7z4caqZvnPtghxT6mTP4LAMiC9I0/4V6p1Zqolkk/+W6hMKnZN4K/gLY q8V8S68g2ZKrH6CCV3meps+MGyHUzgGx1zS7EDlUKJmTyBposz8cVmCPy5Jx/gFQ7xW9Rskb4j/ Xhv4CRQM8ErmvflQiCKc= X-Google-Smtp-Source: AGHT+IHYHj2Ev9GhzGbIW8n1S7bD9qyErAqaL/tQNJhlef2wTLq9I9RY1mzV8HvG6eIYSfzwJRnRKmc/18Qy X-Received: by 2002:a05:6808:c2b3:b0:450:b430:d501 with SMTP id 5614622812f47-451128746a0mr814851b6e.5.1763721738429; Fri, 21 Nov 2025 02:42:18 -0800 (PST) Received: from postal.iol.unh.edu (postal.iol.unh.edu. [2606:4100:3880:1234::84]) by smtp-relay.gmail.com with ESMTPS id 586e51a60fabf-3ec9dc63cdesm489742fac.13.2025.11.21.02.42.18 (version=TLS1_2 cipher=ECDHE-ECDSA-AES128-GCM-SHA256 bits=128/128); Fri, 21 Nov 2025 02:42:18 -0800 (PST) X-Relaying-Domain: iol.unh.edu Date: Fri, 21 Nov 2025 02:42:18 -0800 (PST) Message-ID: <6920420a.050a0220.5813.88c2SMTPIN_ADDED_MISSING@mx.google.com> Received: from [172.21.0.4] (unknown [172.18.0.240]) by postal.iol.unh.edu (Postfix) with ESMTP id D00476051830; Fri, 21 Nov 2025 05:42:17 -0500 (EST) Subject: |SUCCESS| [GIT MASTER] 0bd935abcb823f581ce53986986aa54eaf6f8140 From: dpdklab@iol.unh.edu To: Test Report Cc: dpdk-test-reports@iol.unh.edu, Xueming Li , Kevin Traynor , Luca Boccassi Content-Type: text/plain X-BeenThere: test-report@dpdk.org X-Mailman-Version: 2.1.29 Precedence: list List-Id: automatic DPDK test reports List-Unsubscribe: , List-Archive: List-Post: List-Help: List-Subscribe: , Errors-To: test-report-bounces@dpdk.org _Testing PASS_ Branch: tags/v24.11 0bd935abcb823f581ce53986986aa54eaf6f8140 --> testing pass Upstream job id: Generic-DPDK-Compile-Meson#446395 Test environment and result as below: +------------------------------+--------------------+ | Environment | dpdk_meson_compile | +==============================+====================+ | Ubuntu 20.04 | PASS | +------------------------------+--------------------+ | Debian GNU/Linux 12 | PASS | +------------------------------+--------------------+ | Red Hat Enterprise Linux 9.5 | PASS | +------------------------------+--------------------+ | Fedora Linux 42 | PASS | +------------------------------+--------------------+ | Ubuntu 24.04 | PASS | +------------------------------+--------------------+ | CentOS Stream 10 | PASS | +------------------------------+--------------------+ | CentOS Stream 9 | PASS | +------------------------------+--------------------+ | Ubuntu 22.04 | PASS | +------------------------------+--------------------+ Ubuntu 20.04 Kernel: 5.15 Compiler: aarch64-linux-gnu-gcc gcc (Ubuntu 9.4.0-1ubuntu1~20.04.2) 9.4.0 Debian GNU/Linux 12 Kernel: 5.4 Compiler: gcc gcc (Debian 12.2.0-14+deb12u1) 12.2.0 Red Hat Enterprise Linux 9.5 Kernel: 5.4 Compiler: gcc gcc (GCC) 11.5.0 20240719 (Red Hat 11.5.0-2) Fedora Linux 42 Kernel: 5.4 Compiler: clang gcc (GCC) 15.2.1 20250808 (Red Hat 15.2.1-1) Ubuntu 24.04 Kernel: 5.4 Compiler: gcc gcc (Ubuntu 13.3.0-6ubuntu2~24.04) 13.3.0 CentOS Stream 10 Kernel: 5.4 Compiler: gcc gcc (GCC) 14.2.1 20250110 (Red Hat 14.2.1-8) CentOS Stream 9 Kernel: 5.4 Compiler: gcc gcc (GCC) 11.5.0 20240719 (Red Hat 11.5.0-11) Ubuntu 22.04 Kernel: 5.4 Compiler: gcc gcc (Ubuntu 11.4.0-1ubuntu1~22.04) 11.4.0 To view detailed results, visit: https://lab.dpdk.org/results/dashboard/tarballs/35668/ UNH-IOL DPDK Community Lab To manage your email subscriptions, visit: https://lab.dpdk.org/results/dashboard/preferences/subscriptions/