From mboxrd@z Thu Jan 1 00:00:00 1970 Return-Path: Received: from mails.dpdk.org (mails.dpdk.org [217.70.189.124]) by inbox.dpdk.org (Postfix) with ESMTP id DE09C48B69 for ; Fri, 21 Nov 2025 12:49:16 +0100 (CET) Received: from mails.dpdk.org (localhost [127.0.0.1]) by mails.dpdk.org (Postfix) with ESMTP id B6BE34026F; Fri, 21 Nov 2025 12:49:16 +0100 (CET) Received: from mail-qt1-f225.google.com (mail-qt1-f225.google.com [209.85.160.225]) by mails.dpdk.org (Postfix) with ESMTP id 8D7E94026F for ; Fri, 21 Nov 2025 12:49:15 +0100 (CET) Received: by mail-qt1-f225.google.com with SMTP id d75a77b69052e-4ee04609ffaso7982391cf.3 for ; Fri, 21 Nov 2025 03:49:15 -0800 (PST) DKIM-Signature: v=1; a=rsa-sha256; c=relaxed/relaxed; d=iol.unh.edu; s=unh-iol; t=1763725755; x=1764330555; darn=dpdk.org; h=references:in-reply-to:cc:to:from:subject:message-id:date:from:to :cc:subject:date:message-id:reply-to; bh=8lzoX5gSKiSnAcXuVXDssvhiMBHaQ6J+wxRuzlmvtnA=; b=HhzoL7rre90t/TpcS5ffX3ewevp0hGx7+xUQ8OesP7FuluN3toO+4taISrHZIE1EqM nHdq2tkuernsI5QjOP2hZ3mzmfe8d0hB9OZVCLEFf44PWVUOJ6SBMbPtbMVH4pgFtsvj GZlLWP2HfHCMwub1rUUhkAL6JueOGqn/FbbVQ= X-Google-DKIM-Signature: v=1; a=rsa-sha256; c=relaxed/relaxed; d=1e100.net; s=20230601; t=1763725755; x=1764330555; h=references:in-reply-to:cc:to:from:subject:message-id:date:x-gm-gg :x-gm-message-state:from:to:cc:subject:date:message-id:reply-to; bh=8lzoX5gSKiSnAcXuVXDssvhiMBHaQ6J+wxRuzlmvtnA=; b=AlBXrMbqEjyuSNlIpyiW2VqRqphhgp+PeNv6cnBsTWW/OQAAqYdICi/BXAlQRSZ1p1 kwnyMQFUCRNUmGz8Ky6LkQ3osZL/qe0Qa4zW0YVuNlUE7M3ItBIfpwStS6NZoP9px6WA Km/PZAhP9ZszNgEHbs/20WVUr/67YIyhHDtyoX3yvMTzLKkcCrj6clbptNvbbs+ekyzH FskqIwFOFd97Ep77FHyZVE/QtGk1PY2HTDiJEDT4JduRlnpwUsYBVzdOCPOAHuEnjYz5 LCTiiyuNy/viAcxbmfcihnM4yBZMVS/Y7/5uyLbJtRpNqpiwgDF90rdFG3/dueJ3HQuD gv7Q== X-Gm-Message-State: AOJu0YxdSaS1GxajKdHtxBhgZO7ni+Yf9Fce3QcYCoYdMDn+EHDdUISE axl6RMlQlqWieLfc1RAwiCjvAsxEUXGTGzMqaDGnWVA/c1dr/oihTE/qwmUs5aimgC7xXtjfCJT HEcTdK7Gj6zhb3D0lOC814EBYOK2PPIqWT3upADd/Sh77 X-Gm-Gg: ASbGncu4+OGQJN8DYi1XpQvFbR5nPuBA5GBZUVsooyWN77ouSxwiyeqQIjHvvy2L7US 7sMG2mgvZgvqBUMxK/11bxnUl1Nayo7iNZxqEjhjYRqOEe7zwbzXUHAx5DeAleGKZ7J70Kl8JLE zJDmr9HFwK+R93gWe6zU0opJ0/PwkckoOKPaeX5PJ3yH+UMta2iuQ+TvUFJik2eagU0Gk4AKpRW 0v3w0EeRfS7CRfpKtzBHTpKkJ5tdHrwWoY1GHsVfOxDWmjgsx84UcgiXnKWo7U7GIijb0BCsNIC GOkJci5c5gxY/PkEdWq4Wj0nwcmTwp+HOaW6WZ4ALBIcnid/DRqJdWnXOWKBCwv9lLc+F9aJ4kj PfyDwPJwWrMXsJEvLUxC9AS20QiruTKmDRCcjpBVWPQ== X-Google-Smtp-Source: AGHT+IEBhUkbqXpfzxmOiUMzz/FKddULNGP88vA6J5nCCR8Ahd6ZML4c0sar4M0vuzYjcwhvDsNIruo1bVC5 X-Received: by 2002:ac8:5e4b:0:b0:4ed:a9c0:1e30 with SMTP id d75a77b69052e-4ee58864203mr25054981cf.25.1763725754708; Fri, 21 Nov 2025 03:49:14 -0800 (PST) Received: from postal.iol.unh.edu (postal.iol.unh.edu. [132.177.123.84]) by smtp-relay.gmail.com with ESMTPS id 6a1803df08f44-8846e57624esm6000916d6.16.2025.11.21.03.49.14 (version=TLS1_2 cipher=ECDHE-ECDSA-AES128-GCM-SHA256 bits=128/128); Fri, 21 Nov 2025 03:49:14 -0800 (PST) X-Relaying-Domain: iol.unh.edu Date: Fri, 21 Nov 2025 03:49:14 -0800 (PST) Message-ID: <692051ba.050a0220.311ae9.d713SMTPIN_ADDED_MISSING@mx.google.com> Received: from [172.21.0.4] (unknown [172.18.0.240]) by postal.iol.unh.edu (Postfix) with ESMTP id 70DF36051830; Fri, 21 Nov 2025 06:49:14 -0500 (EST) Subject: |SUCCESS| pw158950 [PATCH] net/txgbe: remove the build dependency on From: dpdklab@iol.unh.edu To: Test Report Cc: dpdk-test-reports@iol.unh.edu, Stephen Hemminger In-Reply-To: <19590B42346A2673+20251121061951.466049-1-jiawenwu@trustnetic.com> References: <19590B42346A2673+20251121061951.466049-1-jiawenwu@trustnetic.com> Content-Type: text/plain X-BeenThere: test-report@dpdk.org X-Mailman-Version: 2.1.29 Precedence: list List-Id: automatic DPDK test reports List-Unsubscribe: , List-Archive: List-Post: List-Help: List-Subscribe: , Errors-To: test-report-bounces@dpdk.org Test-Label: iol-unit-amd64-testing Test-Status: SUCCESS http://dpdk.org/patch/158950 _Testing PASS_ Submitter: Jiawen Wu Date: Friday, November 21 2025 06:19:51 DPDK git baseline: Repo:dpdk-next-net Branch: master CommitID:a544492a05ec5bd542a5d0706b8c466398b8fbb0 158950 --> testing pass Upstream job id: Generic-VM-Unit-Test-DPDK#32722 Test environment and result as below: +-------------------------------+----------------+ | Environment | dpdk_unit_test | +===============================+================+ | CentOS Stream 9 | PASS | +-------------------------------+----------------+ | CentOS Stream 10 | PASS | +-------------------------------+----------------+ | Red Hat Enterprise Linux 8.10 | PASS | +-------------------------------+----------------+ | Ubuntu 20.04 | PASS | +-------------------------------+----------------+ | Ubuntu 22.04 | PASS | +-------------------------------+----------------+ | Fedora Linux 41 | PASS | +-------------------------------+----------------+ | Fedora Linux 42 | PASS | +-------------------------------+----------------+ | Fedora Linux 40 | PASS | +-------------------------------+----------------+ | Red Hat Enterprise Linux 9.5 | PASS | +-------------------------------+----------------+ | Ubuntu 24.04 | PASS | +-------------------------------+----------------+ | Debian GNU/Linux 12 | PASS | +-------------------------------+----------------+ | Windows Server 2022 | PASS | +-------------------------------+----------------+ CentOS Stream 9 Kernel: 5.15 Compiler: gcc gcc (GCC) 11.5.0 20240719 (Red Hat 11.5.0-11) CentOS Stream 10 Kernel: 5.15 Compiler: gcc gcc (GCC) 14.2.1 20250110 (Red Hat 14.2.1-8) Red Hat Enterprise Linux 8.10 Kernel: 5.15 Compiler: gcc gcc (GCC) 8.5.0 20210514 (Red Hat 8.5.0-22) Ubuntu 20.04 Kernel: 5.15 Compiler: gcc gcc (Ubuntu 9.4.0-1ubuntu1~20.04.2) 9.4.0 Ubuntu 22.04 Kernel: 5.15 Compiler: gcc gcc (Ubuntu 11.4.0-1ubuntu1~22.04) 11.4.0 Fedora Linux 41 Kernel: 5.15 Compiler: gcc gcc (GCC) 14.3.1 20250523 (Red Hat 14.3.1-1) Fedora Linux 42 Kernel: 5.15 Compiler: gcc gcc (GCC) 15.2.1 20250808 (Red Hat 15.2.1-1) Fedora Linux 40 Kernel: 5.15 Compiler: clang gcc (GCC) 14.2.1 20240912 (Red Hat 14.2.1-3) Red Hat Enterprise Linux 9.5 Kernel: 5.15 Compiler: gcc gcc (GCC) 11.5.0 20240719 (Red Hat 11.5.0-2) Ubuntu 24.04 Kernel: 5.15 Compiler: gcc gcc (Ubuntu 13.3.0-6ubuntu2~24.04) 13.3.0 Debian GNU/Linux 12 Kernel: 5.15 Compiler: gcc gcc (Debian 12.2.0-14+deb12u1) 12.2.0 Windows Server 2022 Kernel: 10.0.20348.2031 Compiler: clang 15.0.7, gcc 14.1.0 (MinGW), and MSVC VS 19.39.33521 To view detailed results, visit: https://lab.dpdk.org/results/dashboard/patchsets/34649/ UNH-IOL DPDK Community Lab To manage your email subscriptions, visit: https://lab.dpdk.org/results/dashboard/preferences/subscriptions/