From mboxrd@z Thu Jan 1 00:00:00 1970 Return-Path: Received: from mails.dpdk.org (mails.dpdk.org [217.70.189.124]) by inbox.dpdk.org (Postfix) with ESMTP id E53C048ACE for ; Fri, 21 Nov 2025 13:00:19 +0100 (CET) Received: from mails.dpdk.org (localhost [127.0.0.1]) by mails.dpdk.org (Postfix) with ESMTP id B71DA4026F; Fri, 21 Nov 2025 13:00:19 +0100 (CET) Received: from mail-il1-f226.google.com (mail-il1-f226.google.com [209.85.166.226]) by mails.dpdk.org (Postfix) with ESMTP id 260DD4026F for ; Fri, 21 Nov 2025 13:00:18 +0100 (CET) Received: by mail-il1-f226.google.com with SMTP id e9e14a558f8ab-4330d2ea04eso7698895ab.3 for ; Fri, 21 Nov 2025 04:00:18 -0800 (PST) DKIM-Signature: v=1; a=rsa-sha256; c=relaxed/relaxed; d=iol.unh.edu; s=unh-iol; t=1763726417; x=1764331217; darn=dpdk.org; h=references:in-reply-to:cc:to:from:subject:message-id:date:from:to :cc:subject:date:message-id:reply-to; bh=bGzgX1Za+Uw/3KQ9hlTF+mn5yxIWMUT0BfCt2gQP2/0=; b=i4ZwMCs3fzuU7txLchYdTPulYlLe5UAhTJRbNcKDDGFCn7kcNSWRZbkWG9z3+fi2X3 503zKMwIGbR9Kd5SvhBl81+dJthJSJt8Y3EO03HHr8BH5jEV82cxHD5BMKhhnDHpmRnN VniK7SW5aZKOO7sewwKcoUIveg8m/nroU3JGI= X-Google-DKIM-Signature: v=1; a=rsa-sha256; c=relaxed/relaxed; d=1e100.net; s=20230601; t=1763726417; x=1764331217; h=references:in-reply-to:cc:to:from:subject:message-id:date:x-gm-gg :x-gm-message-state:from:to:cc:subject:date:message-id:reply-to; bh=bGzgX1Za+Uw/3KQ9hlTF+mn5yxIWMUT0BfCt2gQP2/0=; b=H0GsWNKEqzbZFYFxzUHVnqGIicT0YRva9eTtV6bG3qCwpJzpBxEvUK7ZQymt0Yk2M1 IxBxlVs2j4xNOdoBD0OTYawXmC8ZvMNLyKWM5pNA/BXJHz2Cm5424GSn5+/N5i987jDz jJCw/KpVNBC98zUBCVL2sR5mbMtshGoqKQiihmCtRBAJc8waQvctaWxfsPvVi9Qh98YO LlBGs+QeyYdQPt9FdxwuiqkpoyO6CluWw/kEMRavQvH6KExwR7jhH3ugqSAEPwhJ5Sim umke2HVhT3fKnhfLxp1Mc+3tBIOZ43A8InedR3XwaSxkiXTt8Iw4qHKSKOYxn6CjwyUs y2lg== X-Gm-Message-State: AOJu0YwnZEkjmz+FlF5RCA0QCwlSMsryltqArLzCIFnSl8upA5HSqUA1 pZrpO/SEq/SwQN5RP19QtdNhCA8iFvwQ7yssFpFfSTjM9oK8HzYacOIcwyRBPzZbZhgzVz40l0+ xqmuI/t50MqWNXNYKpCPT38SGio9hWpIcvET96ZbKTZQy X-Gm-Gg: ASbGnctbFyJKz058PQ4iCW84ZZ1NU9c29mjVMmVlzpW8Xe+E8hHvM0BqZy31RoxIjwq 1LgivL0ez96WlZzJAZqxut3ho4DKR/uu+qy9SM9BbZQ6utM2Rt4SI87evh4N1tQTq4Evrir9xfH TvYuni4lF9o9HqePsAWWnr+TNVXVGgvvSFT5UUm2ry8UAPT0IaBTxLXjOnEt7azrxO/m4yhSo4x G4Sv1WujJ2djZLSHBbTbGkL+YC4D+sxYvUVbBlFhbd3NQkhN69BITYSML7vpIsMy145u8Di+i0W 3nmxwOGsV0tY6+y6Wn97kV041hKg1qTAhqCGcJrWUgy5htZRUKHi4JG/1cfJB0yTtkveQmlKH14 /clfi+2IckL2c9oeDCiokH+q+9wz789bgMDsn7EDfMA== X-Google-Smtp-Source: AGHT+IGpmpYZS1TPk9TZ1R63lGPh+dqMoYXHXbuGC8mJb1yefPpDkfR2h6i9w3qfnqLj54t8Rs1osE8rxGbH X-Received: by 2002:a05:6e02:1745:b0:435:a148:d2b with SMTP id e9e14a558f8ab-435b8ec701cmr16143135ab.42.1763726417314; Fri, 21 Nov 2025 04:00:17 -0800 (PST) Received: from postal.iol.unh.edu (postal.iol.unh.edu. [132.177.123.84]) by smtp-relay.gmail.com with ESMTPS id e9e14a558f8ab-435a90b0239sm4694935ab.25.2025.11.21.04.00.17 (version=TLS1_2 cipher=ECDHE-ECDSA-AES128-GCM-SHA256 bits=128/128); Fri, 21 Nov 2025 04:00:17 -0800 (PST) X-Relaying-Domain: iol.unh.edu Date: Fri, 21 Nov 2025 04:00:17 -0800 (PST) Message-ID: <69205451.050a0220.2a2d2d.8389SMTPIN_ADDED_MISSING@mx.google.com> Received: from [172.21.0.5] (unknown [172.18.0.240]) by postal.iol.unh.edu (Postfix) with ESMTP id 625B26051830; Fri, 21 Nov 2025 07:00:16 -0500 (EST) Subject: |SUCCESS| pw158950 [PATCH] net/txgbe: remove the build dependency on From: dpdklab@iol.unh.edu To: Test Report Cc: dpdk-test-reports@iol.unh.edu, Stephen Hemminger In-Reply-To: <19590B42346A2673+20251121061951.466049-1-jiawenwu@trustnetic.com> References: <19590B42346A2673+20251121061951.466049-1-jiawenwu@trustnetic.com> Content-Type: text/plain X-BeenThere: test-report@dpdk.org X-Mailman-Version: 2.1.29 Precedence: list List-Id: automatic DPDK test reports List-Unsubscribe: , List-Archive: List-Post: List-Help: List-Subscribe: , Errors-To: test-report-bounces@dpdk.org Test-Label: iol-compile-amd64-testing Test-Status: SUCCESS http://dpdk.org/patch/158950 _Testing PASS_ Submitter: Jiawen Wu Date: Friday, November 21 2025 06:19:51 DPDK git baseline: Repo:dpdk-next-net Branch: master CommitID:a544492a05ec5bd542a5d0706b8c466398b8fbb0 158950 --> testing pass Upstream job id: Generic-DPDK-Compile-Meson#446443 Test environment and result as below: +-------------------------------+--------------------+------------------+-------------------+-------------------------+----------------------+ | Environment | dpdk_meson_compile | dpdk_compile_ovs | dpdk_msvc_compile | dpdk_llvm_clang_compile | dpdk_mingw64_compile | +===============================+====================+==================+===================+=========================+======================+ | Ubuntu 20.04 | PASS | SKIPPED | SKIPPED | SKIPPED | SKIPPED | +-------------------------------+--------------------+------------------+-------------------+-------------------------+----------------------+ | CentOS Stream 9 | PASS | SKIPPED | SKIPPED | SKIPPED | SKIPPED | +-------------------------------+--------------------+------------------+-------------------+-------------------------+----------------------+ | Debian GNU/Linux 12 | PASS | SKIPPED | SKIPPED | SKIPPED | SKIPPED | +-------------------------------+--------------------+------------------+-------------------+-------------------------+----------------------+ | CentOS Stream 10 | PASS | SKIPPED | SKIPPED | SKIPPED | SKIPPED | +-------------------------------+--------------------+------------------+-------------------+-------------------------+----------------------+ | Fedora Linux 42 | PASS | PASS | SKIPPED | SKIPPED | SKIPPED | +-------------------------------+--------------------+------------------+-------------------+-------------------------+----------------------+ | openSUSE Leap 15.6 | PASS | SKIPPED | SKIPPED | SKIPPED | SKIPPED | +-------------------------------+--------------------+------------------+-------------------+-------------------------+----------------------+ | Ubuntu 24.04 | PASS | PASS | SKIPPED | SKIPPED | SKIPPED | +-------------------------------+--------------------+------------------+-------------------+-------------------------+----------------------+ | Red Hat Enterprise Linux 9.5 | PASS | SKIPPED | SKIPPED | SKIPPED | SKIPPED | +-------------------------------+--------------------+------------------+-------------------+-------------------------+----------------------+ | Red Hat Enterprise Linux 8.10 | PASS | SKIPPED | SKIPPED | SKIPPED | SKIPPED | +-------------------------------+--------------------+------------------+-------------------+-------------------------+----------------------+ | Alpine Linux 3.22.0 | PASS | SKIPPED | SKIPPED | SKIPPED | SKIPPED | +-------------------------------+--------------------+------------------+-------------------+-------------------------+----------------------+ | FreeBSD 14.2 | PASS | SKIPPED | SKIPPED | SKIPPED | SKIPPED | +-------------------------------+--------------------+------------------+-------------------+-------------------------+----------------------+ | Ubuntu 22.04 | PASS | SKIPPED | SKIPPED | SKIPPED | SKIPPED | +-------------------------------+--------------------+------------------+-------------------+-------------------------+----------------------+ | Windows Server 2022 | SKIPPED | SKIPPED | PASS | SKIPPED | PASS | +-------------------------------+--------------------+------------------+-------------------+-------------------------+----------------------+ | Windows Server 2025 | SKIPPED | SKIPPED | SKIPPED | PASS | SKIPPED | +-------------------------------+--------------------+------------------+-------------------+-------------------------+----------------------+ Ubuntu 20.04 Kernel: 4.19 Compiler: gcc gcc (Ubuntu 9.4.0-1ubuntu1~20.04.2) 9.4.0 CentOS Stream 9 Kernel: 5.15 Compiler: gcc gcc (GCC) 11.5.0 20240719 (Red Hat 11.5.0-11) Debian GNU/Linux 12 Kernel: 5.15 Compiler: gcc gcc (Debian 12.2.0-14+deb12u1) 12.2.0 CentOS Stream 10 Kernel: 5.15 Compiler: gcc gcc (GCC) 14.2.1 20250110 (Red Hat 14.2.1-8) Fedora Linux 42 Kernel: 5.15 Compiler: gcc gcc (GCC) 15.2.1 20250808 (Red Hat 15.2.1-1) openSUSE Leap 15.6 Kernel: 5.15 Compiler: gcc gcc (SUSE Linux) 7.5.0 Ubuntu 24.04 Kernel: 5.15 Compiler: gcc gcc (Ubuntu 13.3.0-6ubuntu2~24.04) 13.3.0 Red Hat Enterprise Linux 9.5 Kernel: 5.15 Compiler: gcc gcc (GCC) 11.5.0 20240719 (Red Hat 11.5.0-2) Red Hat Enterprise Linux 8.10 Kernel: 5.15 Compiler: gcc gcc (GCC) 8.5.0 20210514 (Red Hat 8.5.0-22) Alpine Linux 3.22.0 Kernel: 5.15 Compiler: gcc gcc (Alpine 14.2.0) 14.2.0 FreeBSD 14.2 Kernel: 14.2-RELEASE Compiler: clang 18.1.6 Ubuntu 22.04 Kernel: 5.15 Compiler: gcc gcc (Ubuntu 11.4.0-1ubuntu1~22.04) 11.4.0 Windows Server 2022 Kernel: 10.0.20348.2031 Compiler: clang 15.0.7, gcc 14.1.0 (MinGW), and MSVC VS 19.39.33521 Windows Server 2025 Kernel: 10.0.26100 Compiler: clang 15.0.7, gcc 14.1.0 (MinGW), and MSVC VS 19.39.33521 To view detailed results, visit: https://lab.dpdk.org/results/dashboard/patchsets/34649/ UNH-IOL DPDK Community Lab To manage your email subscriptions, visit: https://lab.dpdk.org/results/dashboard/preferences/subscriptions/