From mboxrd@z Thu Jan 1 00:00:00 1970 Return-Path: Received: from mails.dpdk.org (mails.dpdk.org [217.70.189.124]) by inbox.dpdk.org (Postfix) with ESMTP id 2584348B27 for ; Fri, 21 Nov 2025 13:04:57 +0100 (CET) Received: from mails.dpdk.org (localhost [127.0.0.1]) by mails.dpdk.org (Postfix) with ESMTP id 21371402DB; Fri, 21 Nov 2025 13:04:57 +0100 (CET) Received: from mail-vs1-f99.google.com (mail-vs1-f99.google.com [209.85.217.99]) by mails.dpdk.org (Postfix) with ESMTP id 199BA402DB for ; Fri, 21 Nov 2025 13:04:55 +0100 (CET) Received: by mail-vs1-f99.google.com with SMTP id ada2fe7eead31-5dfaceec8deso1284274137.0 for ; Fri, 21 Nov 2025 04:04:55 -0800 (PST) DKIM-Signature: v=1; a=rsa-sha256; c=relaxed/relaxed; d=iol.unh.edu; s=unh-iol; t=1763726694; x=1764331494; darn=dpdk.org; h=references:in-reply-to:cc:to:from:subject:message-id:date:from:to :cc:subject:date:message-id:reply-to; bh=zZaBOUEaLoPHN1RWUPtcxI8lFsBopM5G4toAgyDF9Sk=; b=C8pvuo1vOFDWSETBvVykaNDGhFDZJxM6HPxyxAYQRWepArRAYQB0l77EbWAaV0tgLV eF2tKU336jIsAs9vw71CtbCfRS31kPScdGLBrUQsp5y7X1V1rgM2cN8F5pKhTJVxMyY3 Qraco/tZFfVgzyNlUfoumm/na/ACjep/ZFRNE= X-Google-DKIM-Signature: v=1; a=rsa-sha256; c=relaxed/relaxed; d=1e100.net; s=20230601; t=1763726694; x=1764331494; h=references:in-reply-to:cc:to:from:subject:message-id:date:x-gm-gg :x-gm-message-state:from:to:cc:subject:date:message-id:reply-to; bh=zZaBOUEaLoPHN1RWUPtcxI8lFsBopM5G4toAgyDF9Sk=; b=tJCkY1NcTIoFwWu94pTkoerayxGnF5VZ7Vh2l2VrXlPxLo3pEHiU91TL9/4tAr7+nU cdXhCmpIbGmoEF6XmDMyl8rnyis5O1guuA+RHv1+hEFcpzrwA0eN4vqdqMYArH08b5gF PgjtYdZbCL1uAwgRWbubS2h6E8bneGL0PrsqTOCpgUdSqgoV/KVYTR9TDq8HqgQ3z+Lg UuiJvO0NcHHFGkRogUZrh2r0CjoNeLI0BGCHoviOrDdFslXPEUY7Su6nFHXn4VcVxaYP 2hTwWdBShI3kI3XuIbGNZ65P08Z2q0+McCnr1AaN2qV31lGYQC3p7+9+DAsUni/P3hrK Wyxw== X-Gm-Message-State: AOJu0YxfBeV1GjPTFsbV+feeUw0Hi6eaUuC8WMaCfr4jaGGSopFhhD1m FYh3RcQwov1qnfoUjC/3B2XsVPIAjNwvb9AMLbfRtA+lEHdXNXnn9p1vwABq+TrSu3m8GDcWzf6 HSfLJ2449f8onH9TjCo/WI1qDxXoTAZE9eDqk9UnsfL9SJSn9E0/T7nWsN0V2 X-Gm-Gg: ASbGnctz/K/Hj0/oBWJCNbMnTIG4SvxdGoOYBlCnNLF/1g+Drmbfz45PygokzG77YFF UjZhoSDDiu6QpX4g1NfRMh8vgP3HL2GJuHRhpesxvPgT+luAXbQMlAEu8rO4wCnmace1NPiaD/2 UV4He7Xhg4zlsZ7FTZkyHjYGVy7aIOKYSMOZX+ZWai5wW5k0bzq2GB5+3/w8iJvqDnD516w9CA7 GqDzRKCoAEcGEIMEd1MXeE0v2SKksC1gSDfytc99+MpsSmDf+87r4rjrlVbPU+zEjP2ZVm6q8BX 1c1SRc8W1zZ45pcuWsfqoXPLde6wmxOW7DfGUR9NilBlZ+c8319le/8dRdSaWWcfQtAeXohRdR6 o32QPh/rg7kyiIFhKWNA= X-Google-Smtp-Source: AGHT+IH/zBt3UX2Aqu1m7d7qU5pOmx5sGPynFFtjYm36U2KnafC9vMRxRE6gPzyOV5unV8qrvcE79+mgKOdL X-Received: by 2002:a05:6102:1613:b0:5e1:866c:4f8f with SMTP id ada2fe7eead31-5e1dcfac356mr615403137.15.1763726694403; Fri, 21 Nov 2025 04:04:54 -0800 (PST) Received: from postal.iol.unh.edu (postal.iol.unh.edu. [2606:4100:3880:1234::84]) by smtp-relay.gmail.com with ESMTPS id ada2fe7eead31-5e1bd9d2e92sm628735137.2.2025.11.21.04.04.54 (version=TLS1_2 cipher=ECDHE-ECDSA-AES128-GCM-SHA256 bits=128/128); Fri, 21 Nov 2025 04:04:54 -0800 (PST) X-Relaying-Domain: iol.unh.edu Date: Fri, 21 Nov 2025 04:04:54 -0800 (PST) Message-ID: <69205566.050a0220.7277d.e4cfSMTPIN_ADDED_MISSING@mx.google.com> Received: from [172.21.0.3] (unknown [172.18.0.240]) by postal.iol.unh.edu (Postfix) with ESMTP id 1198C6051830; Fri, 21 Nov 2025 07:04:54 -0500 (EST) Subject: |SUCCESS| pw158952-158968 [PATCH] [v6,18/18] vfio: introduce cdev mo From: dpdklab@iol.unh.edu To: Test Report Cc: dpdk-test-reports@iol.unh.edu In-Reply-To: References: Content-Type: text/plain X-BeenThere: test-report@dpdk.org X-Mailman-Version: 2.1.29 Precedence: list List-Id: automatic DPDK test reports List-Unsubscribe: , List-Archive: List-Post: List-Help: List-Subscribe: , Errors-To: test-report-bounces@dpdk.org Test-Label: iol-unit-amd64-testing Test-Status: SUCCESS http://dpdk.org/patch/158968 _Testing PASS_ Submitter: Burakov, Anatoly Date: Friday, November 21 2025 10:09:03 DPDK git baseline: Repo:dpdk Branch: master CommitID:ef98b88455bf4a7c8b7aa3106a761c9e9270d6a3 158952-158968 --> testing pass Upstream job id: Generic-VM-Unit-Test-DPDK#32723 Test environment and result as below: +-------------------------------+----------------+ | Environment | dpdk_unit_test | +===============================+================+ | Fedora Linux 41 | PASS | +-------------------------------+----------------+ | Ubuntu 24.04 | PASS | +-------------------------------+----------------+ | Fedora Linux 42 | PASS | +-------------------------------+----------------+ | Debian GNU/Linux 12 | PASS | +-------------------------------+----------------+ | CentOS Stream 10 | PASS | +-------------------------------+----------------+ | Red Hat Enterprise Linux 9.5 | PASS | +-------------------------------+----------------+ | Ubuntu 22.04 | PASS | +-------------------------------+----------------+ | CentOS Stream 9 | PASS | +-------------------------------+----------------+ | Fedora Linux 40 | PASS | +-------------------------------+----------------+ | Red Hat Enterprise Linux 8.10 | PASS | +-------------------------------+----------------+ | Ubuntu 20.04 | PASS | +-------------------------------+----------------+ | Windows Server 2022 | PASS | +-------------------------------+----------------+ Fedora Linux 41 Kernel: 5.15 Compiler: gcc gcc (GCC) 14.3.1 20250523 (Red Hat 14.3.1-1) Ubuntu 24.04 Kernel: 5.15 Compiler: gcc gcc (Ubuntu 13.3.0-6ubuntu2~24.04) 13.3.0 Fedora Linux 42 Kernel: 5.15 Compiler: gcc gcc (GCC) 15.2.1 20250808 (Red Hat 15.2.1-1) Debian GNU/Linux 12 Kernel: 5.15 Compiler: gcc gcc (Debian 12.2.0-14+deb12u1) 12.2.0 CentOS Stream 10 Kernel: 5.15 Compiler: gcc gcc (GCC) 14.2.1 20250110 (Red Hat 14.2.1-8) Red Hat Enterprise Linux 9.5 Kernel: 5.15 Compiler: gcc gcc (GCC) 11.5.0 20240719 (Red Hat 11.5.0-2) Ubuntu 22.04 Kernel: 5.15 Compiler: gcc gcc (Ubuntu 11.4.0-1ubuntu1~22.04) 11.4.0 CentOS Stream 9 Kernel: 5.15 Compiler: gcc gcc (GCC) 11.5.0 20240719 (Red Hat 11.5.0-11) Fedora Linux 40 Kernel: 5.15 Compiler: clang gcc (GCC) 14.2.1 20240912 (Red Hat 14.2.1-3) Red Hat Enterprise Linux 8.10 Kernel: 5.15 Compiler: gcc gcc (GCC) 8.5.0 20210514 (Red Hat 8.5.0-22) Ubuntu 20.04 Kernel: 5.15 Compiler: gcc gcc (Ubuntu 9.4.0-1ubuntu1~20.04.2) 9.4.0 Windows Server 2022 Kernel: 10.0.20348.2031 Compiler: clang 15.0.7, gcc 14.1.0 (MinGW), and MSVC VS 19.39.33521 To view detailed results, visit: https://lab.dpdk.org/results/dashboard/patchsets/34650/ UNH-IOL DPDK Community Lab To manage your email subscriptions, visit: https://lab.dpdk.org/results/dashboard/preferences/subscriptions/