From mboxrd@z Thu Jan 1 00:00:00 1970 Return-Path: Received: from mails.dpdk.org (mails.dpdk.org [217.70.189.124]) by inbox.dpdk.org (Postfix) with ESMTP id 9F47148B27 for ; Fri, 21 Nov 2025 13:25:51 +0100 (CET) Received: from mails.dpdk.org (localhost [127.0.0.1]) by mails.dpdk.org (Postfix) with ESMTP id 7B4864026F; Fri, 21 Nov 2025 13:25:51 +0100 (CET) Received: from mail-vk1-f225.google.com (mail-vk1-f225.google.com [209.85.221.225]) by mails.dpdk.org (Postfix) with ESMTP id 0C2D24026F for ; Fri, 21 Nov 2025 13:25:50 +0100 (CET) Received: by mail-vk1-f225.google.com with SMTP id 71dfb90a1353d-55b22d3b39fso566849e0c.2 for ; Fri, 21 Nov 2025 04:25:49 -0800 (PST) DKIM-Signature: v=1; a=rsa-sha256; c=relaxed/relaxed; d=iol.unh.edu; s=unh-iol; t=1763727949; x=1764332749; darn=dpdk.org; h=references:in-reply-to:cc:to:from:subject:message-id:date:from:to :cc:subject:date:message-id:reply-to; bh=jwr2Bvy9/024y8xT3EGZ6oXcDZK8bDumIfWGomFIZsY=; b=XUcbHJZyT9n8jJHyRToimahRGIsEbTbndLd/AmTTZjS9xethS05Ts6XLtwpHka4l5z 7OTrT3emaiy1oWG2zGlwsnm1u7GTLdJH5Ouc3nQ5MYEXkKYQDcwCDeNl0bg6BGTfeh+/ A87YUrivd2boP2bjAIxubJTM2WQVbaHzV1FCA= X-Google-DKIM-Signature: v=1; a=rsa-sha256; c=relaxed/relaxed; d=1e100.net; s=20230601; t=1763727949; x=1764332749; h=references:in-reply-to:cc:to:from:subject:message-id:date:x-gm-gg :x-gm-message-state:from:to:cc:subject:date:message-id:reply-to; bh=jwr2Bvy9/024y8xT3EGZ6oXcDZK8bDumIfWGomFIZsY=; b=AcgNht252htNMYi3ITAgkV+J9Q5VYkUo/8JxORVhW/vAGg8kPDvI0f6RClbnDDR1y+ snQCAKzh4eCycdq0iATd/Q6YlWTqeyzabXwjexsMTQVelPw1E14nE6aXzPnPxOQrb/q5 X2Xz+PDrN5WqY24ns7DvVOKglZe+Tshd9fnPorjRllgktg/h7SoWU7IrcXeqqU+ycm5q sKfOjb+5LaLQ2KAyGS77O1wGuwOMANCvtQ0Oh8MCslL4Aik+RHU7VP5eOaNg9bFJki1q PYXCEr2Umt81oEPfCh8CA5EIFA8SkW4T/6Blo+yNZgRktymtMmovHoeEpSmeADiI/zwH t23A== X-Gm-Message-State: AOJu0YxHbhD+S8gnkofxFEaS54aOjQOk2gRNwnMHmkS2+zRGKCjyNXUc sKlr5oefMIyI5kwFojreW0X3bPNydCzU5C60M/PgdKSIVfBiI3MZBrgi3kfJTWDaE4zFet+ZTv4 L1bX8fKEHI5pkzo5mKEvfyq3M3qJf5B5aT02bCcVM20yMc9pWlv/OphBRxwfJ X-Gm-Gg: ASbGncufFVpNNXCtP2692aWRnLQU+BMt7iDbKctvQUqMwpo6rs6gr6nowKYT73wQHgh lFq/NuBUydwUX9lvRfFDWurBv2gxf8Wk1/p6WBga+v8mjV83/7PwMvQGLGHNhgOcuUZLeBcJBm0 76XcbnOcv+/IvKc3YW8et4Gnkolb84kdTEhdVneu4yTdJQSubQRYzdsxLLjb6ppYvJqWwhaW03+ 77pWBWaLrSkZGTTvThuBVEpbuJdqH6U8F+kIpfvdVKiNVrKJgoFXeYAubG2IHCH8Gs/fhUS1U7T kJzmGldnK5wz2VIXqIxBXdiM4bUTV5fUkA3zS1m/AOlwkaCJbdRsW384KA+yFkhW3RlgoXA7GLK tFcSN75KWTrwdZKIxNLk= X-Google-Smtp-Source: AGHT+IHq3o4mbDLOBEfbymdGaKQvwD6PHVVt1tiNYGJ++3nkW3cd9TASB3O26RuzFGeVbRfpCEixYHDGCmmK X-Received: by 2002:a05:6122:a15:b0:54a:23dd:5a9e with SMTP id 71dfb90a1353d-55b8d69c434mr616079e0c.3.1763727949290; Fri, 21 Nov 2025 04:25:49 -0800 (PST) Received: from postal.iol.unh.edu (postal.iol.unh.edu. [2606:4100:3880:1234::84]) by smtp-relay.gmail.com with ESMTPS id 71dfb90a1353d-55b7f8721c5sm560548e0c.8.2025.11.21.04.25.49 (version=TLS1_2 cipher=ECDHE-ECDSA-AES128-GCM-SHA256 bits=128/128); Fri, 21 Nov 2025 04:25:49 -0800 (PST) X-Relaying-Domain: iol.unh.edu Date: Fri, 21 Nov 2025 04:25:49 -0800 (PST) Message-ID: <69205a4d.050a0220.3b7a4c.b953SMTPIN_ADDED_MISSING@mx.google.com> Received: from [172.21.0.3] (unknown [172.18.0.240]) by postal.iol.unh.edu (Postfix) with ESMTP id E80136051830; Fri, 21 Nov 2025 07:25:48 -0500 (EST) Subject: |SUCCESS| pw158952-158968 [PATCH] [v6,18/18] vfio: introduce cdev mo From: dpdklab@iol.unh.edu To: Test Report Cc: dpdk-test-reports@iol.unh.edu In-Reply-To: References: Content-Type: text/plain X-BeenThere: test-report@dpdk.org X-Mailman-Version: 2.1.29 Precedence: list List-Id: automatic DPDK test reports List-Unsubscribe: , List-Archive: List-Post: List-Help: List-Subscribe: , Errors-To: test-report-bounces@dpdk.org Test-Label: iol-unit-amd64-testing Test-Status: SUCCESS http://dpdk.org/patch/158968 _Testing PASS_ Submitter: Burakov, Anatoly Date: Friday, November 21 2025 10:09:03 DPDK git baseline: Repo:dpdk Branch: master CommitID:ef98b88455bf4a7c8b7aa3106a761c9e9270d6a3 158952-158968 --> testing pass Upstream job id: Generic-VM-Unit-Test-DPDK#32724 Test environment and result as below: +-------------------------------+----------------+ | Environment | dpdk_unit_test | +===============================+================+ | Fedora Linux 41 | PASS | +-------------------------------+----------------+ | Ubuntu 24.04 | PASS | +-------------------------------+----------------+ | Fedora Linux 42 | PASS | +-------------------------------+----------------+ | Debian GNU/Linux 12 | PASS | +-------------------------------+----------------+ | CentOS Stream 10 | PASS | +-------------------------------+----------------+ | Red Hat Enterprise Linux 9.5 | PASS | +-------------------------------+----------------+ | Ubuntu 22.04 | PASS | +-------------------------------+----------------+ | CentOS Stream 9 | PASS | +-------------------------------+----------------+ | Fedora Linux 40 | PASS | +-------------------------------+----------------+ | Red Hat Enterprise Linux 8.10 | PASS | +-------------------------------+----------------+ | Ubuntu 20.04 | PASS | +-------------------------------+----------------+ | Windows Server 2022 | PASS | +-------------------------------+----------------+ Fedora Linux 41 Kernel: 5.15 Compiler: gcc gcc (GCC) 14.3.1 20250523 (Red Hat 14.3.1-1) Ubuntu 24.04 Kernel: 5.15 Compiler: gcc gcc (Ubuntu 13.3.0-6ubuntu2~24.04) 13.3.0 Fedora Linux 42 Kernel: 5.15 Compiler: gcc gcc (GCC) 15.2.1 20250808 (Red Hat 15.2.1-1) Debian GNU/Linux 12 Kernel: 5.15 Compiler: gcc gcc (Debian 12.2.0-14+deb12u1) 12.2.0 CentOS Stream 10 Kernel: 5.15 Compiler: gcc gcc (GCC) 14.2.1 20250110 (Red Hat 14.2.1-8) Red Hat Enterprise Linux 9.5 Kernel: 5.15 Compiler: gcc gcc (GCC) 11.5.0 20240719 (Red Hat 11.5.0-2) Ubuntu 22.04 Kernel: 5.15 Compiler: gcc gcc (Ubuntu 11.4.0-1ubuntu1~22.04) 11.4.0 CentOS Stream 9 Kernel: 5.15 Compiler: gcc gcc (GCC) 11.5.0 20240719 (Red Hat 11.5.0-11) Fedora Linux 40 Kernel: 5.15 Compiler: clang gcc (GCC) 14.2.1 20240912 (Red Hat 14.2.1-3) Red Hat Enterprise Linux 8.10 Kernel: 5.15 Compiler: gcc gcc (GCC) 8.5.0 20210514 (Red Hat 8.5.0-22) Ubuntu 20.04 Kernel: 5.15 Compiler: gcc gcc (Ubuntu 9.4.0-1ubuntu1~20.04.2) 9.4.0 Windows Server 2022 Kernel: 10.0.20348.2031 Compiler: clang 15.0.7, gcc 14.1.0 (MinGW), and MSVC VS 19.39.33521 To view detailed results, visit: https://lab.dpdk.org/results/dashboard/patchsets/34650/ UNH-IOL DPDK Community Lab To manage your email subscriptions, visit: https://lab.dpdk.org/results/dashboard/preferences/subscriptions/