From mboxrd@z Thu Jan 1 00:00:00 1970 Return-Path: Received: from mails.dpdk.org (mails.dpdk.org [217.70.189.124]) by inbox.dpdk.org (Postfix) with ESMTP id 1E4E348B27 for ; Fri, 21 Nov 2025 13:30:24 +0100 (CET) Received: from mails.dpdk.org (localhost [127.0.0.1]) by mails.dpdk.org (Postfix) with ESMTP id E9BF64026F; Fri, 21 Nov 2025 13:30:23 +0100 (CET) Received: from mail-il1-f228.google.com (mail-il1-f228.google.com [209.85.166.228]) by mails.dpdk.org (Postfix) with ESMTP id A35124026F for ; Fri, 21 Nov 2025 13:30:22 +0100 (CET) Received: by mail-il1-f228.google.com with SMTP id e9e14a558f8ab-43379251ff9so14064585ab.1 for ; Fri, 21 Nov 2025 04:30:22 -0800 (PST) DKIM-Signature: v=1; a=rsa-sha256; c=relaxed/relaxed; d=iol.unh.edu; s=unh-iol; t=1763728222; x=1764333022; darn=dpdk.org; h=references:in-reply-to:cc:to:from:subject:message-id:date:from:to :cc:subject:date:message-id:reply-to; bh=DNtRm3wc97hJmFYT9cBf6Tx7Y32lF6UPsDcJqLwLQ2s=; b=AwXM3FTOi9FMX5JQ0K0W8ahH5cJkZ0mT7vcq/DpLWGsxDZAhcuYUW6UgJZkCmx0nos ZAg8CvoNh+8LOrqTgsF9iGynkFuERsMZvdvVcNSin48+PRyIhMMe3ltKNvQtQzx47CE4 zKU5zGd9IyC0KrI9OMVoLuFVy5BaPF1X/EWDc= X-Google-DKIM-Signature: v=1; a=rsa-sha256; c=relaxed/relaxed; d=1e100.net; s=20230601; t=1763728222; x=1764333022; h=references:in-reply-to:cc:to:from:subject:message-id:date:x-gm-gg :x-gm-message-state:from:to:cc:subject:date:message-id:reply-to; bh=DNtRm3wc97hJmFYT9cBf6Tx7Y32lF6UPsDcJqLwLQ2s=; b=Qt1j7xp9LKUTl+3PLqyrlmBN0aybVMeDT/z0vyDhg4dwXoYrlqRQVYxVG/OUVbF4vG QX52k2mTtRm1Dn7V9oSaC9lV/z7Jl0plPe8cwx83CHnSHFXp/ElSVrMuE0iL3WGb0cNi UOgN7mhq8BZq8gvIZAEIXD/SnTDi/jscEU+wcTxhhJ8Qao8Rsoc2b8pS8YybU17PwO0I PHbrbN4PImGuzOENr/D1Y+A9JrCl346TwozRfv2oxIFmfQ8/xp4MhArvbUJoHBSBnKGV MXQdM51JWaB+T/Mrpxf0pv9ItfAiJfzjvmlMLydswlLq0epum8SyAl+YjYSt+9SmUL/l GHPA== X-Gm-Message-State: AOJu0Yy0AjfRvzHJPAtyJQCSYYsNrfCwo8ED+r1rlJ5g6Vq+5dyJUa6s 7ZgRvR409/mbXpmVvyT43YJFauCJcl0/6/9UqcQNC7z7nPu9DQGPleaIoCw3gFrFG4Cm++zzPDC XWzipgYBr291tEQOvLDjNuFW6OLxl3uYWH10YsmV8MuN0 X-Gm-Gg: ASbGncvPoE2oJa7p5LzWt8/tA2rjHiPue23rYnjlrzqAmzQpIETbFCgY7TzhBbenuNx JyDnk/fJXFN7yqNzeSi4mvnZkMJwICTXGFWpPpnvweCsEcW9IEJNBgYafnSbkX5G17m38ltx3SH uNnuZh5sbp2VykTugCak3jN44i5LwrrDUZ+flDZh8RutJkuxIMfCbzrvZ9b3T47E22wOadLEn7/ eO6TcTllf0dO0qtmvGsx6VeQUBFF4LR9/XwWU5aAFFKbBLOO31ol31CYNkjgYjP1lZqJiUHxRsA Qyraq6NeAbcDtVGfRyBAHx2XKVeHFHCtHtQJS6ePuw6lSe4DsH4o+3zrzkrDzI+PWgHovd/5tOy exVBfYZqvZOQqG/p9scwujbDtnU7jb1OxDtphTEtUlQ== X-Google-Smtp-Source: AGHT+IETKrR35SMtB93dct1YzFb9C55RPvZjxyF6pQ86Ie7CPBMavOtM9biTCj3Y8mXiJ0FhtfdnDqHcW62B X-Received: by 2002:a92:cad1:0:b0:433:786a:5203 with SMTP id e9e14a558f8ab-435aa8d10f9mr35305415ab.10.1763728221862; Fri, 21 Nov 2025 04:30:21 -0800 (PST) Received: from postal.iol.unh.edu (postal.iol.unh.edu. [132.177.123.84]) by smtp-relay.gmail.com with ESMTPS id e9e14a558f8ab-435a90afba3sm4919335ab.22.2025.11.21.04.30.21 (version=TLS1_2 cipher=ECDHE-ECDSA-AES128-GCM-SHA256 bits=128/128); Fri, 21 Nov 2025 04:30:21 -0800 (PST) X-Relaying-Domain: iol.unh.edu Date: Fri, 21 Nov 2025 04:30:21 -0800 (PST) Message-ID: <69205b5d.050a0220.3c90.7d50SMTPIN_ADDED_MISSING@mx.google.com> Received: from [172.21.0.2] (unknown [172.18.0.240]) by postal.iol.unh.edu (Postfix) with ESMTP id 7DADA6051830; Fri, 21 Nov 2025 07:30:21 -0500 (EST) Subject: |SUCCESS| pw158952-158968 [PATCH] [v6,18/18] vfio: introduce cdev mo From: dpdklab@iol.unh.edu To: Test Report Cc: dpdk-test-reports@iol.unh.edu In-Reply-To: References: Content-Type: text/plain X-BeenThere: test-report@dpdk.org X-Mailman-Version: 2.1.29 Precedence: list List-Id: automatic DPDK test reports List-Unsubscribe: , List-Archive: List-Post: List-Help: List-Subscribe: , Errors-To: test-report-bounces@dpdk.org Test-Label: iol-compile-amd64-testing Test-Status: SUCCESS http://dpdk.org/patch/158968 _Testing PASS_ Submitter: Burakov, Anatoly Date: Friday, November 21 2025 10:09:03 DPDK git baseline: Repo:dpdk Branch: master CommitID:ef98b88455bf4a7c8b7aa3106a761c9e9270d6a3 158952-158968 --> testing pass Upstream job id: Generic-DPDK-Compile-Meson#446456 Test environment and result as below: +-------------------------------+--------------------+------------------+-------------------+-------------------------+----------------------+ | Environment | dpdk_meson_compile | dpdk_compile_ovs | dpdk_msvc_compile | dpdk_llvm_clang_compile | dpdk_mingw64_compile | +===============================+====================+==================+===================+=========================+======================+ | CentOS Stream 9 | PASS | SKIPPED | SKIPPED | SKIPPED | SKIPPED | +-------------------------------+--------------------+------------------+-------------------+-------------------------+----------------------+ | Ubuntu 20.04 | PASS | SKIPPED | SKIPPED | SKIPPED | SKIPPED | +-------------------------------+--------------------+------------------+-------------------+-------------------------+----------------------+ | FreeBSD 14.2 | PASS | SKIPPED | SKIPPED | SKIPPED | SKIPPED | +-------------------------------+--------------------+------------------+-------------------+-------------------------+----------------------+ | Ubuntu 24.04 | PASS | PASS | SKIPPED | SKIPPED | SKIPPED | +-------------------------------+--------------------+------------------+-------------------+-------------------------+----------------------+ | Fedora Linux 42 | PASS | PASS | SKIPPED | SKIPPED | SKIPPED | +-------------------------------+--------------------+------------------+-------------------+-------------------------+----------------------+ | CentOS Stream 10 | PASS | SKIPPED | SKIPPED | SKIPPED | SKIPPED | +-------------------------------+--------------------+------------------+-------------------+-------------------------+----------------------+ | Red Hat Enterprise Linux 9.5 | PASS | SKIPPED | SKIPPED | SKIPPED | SKIPPED | +-------------------------------+--------------------+------------------+-------------------+-------------------------+----------------------+ | openSUSE Leap 15.6 | PASS | SKIPPED | SKIPPED | SKIPPED | SKIPPED | +-------------------------------+--------------------+------------------+-------------------+-------------------------+----------------------+ | Red Hat Enterprise Linux 8.10 | PASS | SKIPPED | SKIPPED | SKIPPED | SKIPPED | +-------------------------------+--------------------+------------------+-------------------+-------------------------+----------------------+ | Debian GNU/Linux 12 | PASS | SKIPPED | SKIPPED | SKIPPED | SKIPPED | +-------------------------------+--------------------+------------------+-------------------+-------------------------+----------------------+ | Alpine Linux 3.22.0 | PASS | SKIPPED | SKIPPED | SKIPPED | SKIPPED | +-------------------------------+--------------------+------------------+-------------------+-------------------------+----------------------+ | Ubuntu 22.04 | PASS | SKIPPED | SKIPPED | SKIPPED | SKIPPED | +-------------------------------+--------------------+------------------+-------------------+-------------------------+----------------------+ | Windows Server 2022 | SKIPPED | SKIPPED | PASS | SKIPPED | PASS | +-------------------------------+--------------------+------------------+-------------------+-------------------------+----------------------+ | Windows Server 2025 | SKIPPED | SKIPPED | SKIPPED | PASS | SKIPPED | +-------------------------------+--------------------+------------------+-------------------+-------------------------+----------------------+ CentOS Stream 9 Kernel: 5.15 Compiler: gcc gcc (GCC) 11.5.0 20240719 (Red Hat 11.5.0-11) Ubuntu 20.04 Kernel: 4.19 Compiler: gcc gcc (Ubuntu 9.4.0-1ubuntu1~20.04.2) 9.4.0 FreeBSD 14.2 Kernel: 14.2-RELEASE Compiler: clang 18.1.6 Ubuntu 24.04 Kernel: 5.15 Compiler: gcc gcc (Ubuntu 13.3.0-6ubuntu2~24.04) 13.3.0 Fedora Linux 42 Kernel: 5.15 Compiler: gcc gcc (GCC) 15.2.1 20250808 (Red Hat 15.2.1-1) CentOS Stream 10 Kernel: 5.15 Compiler: gcc gcc (GCC) 14.2.1 20250110 (Red Hat 14.2.1-8) Red Hat Enterprise Linux 9.5 Kernel: 5.15 Compiler: gcc gcc (GCC) 11.5.0 20240719 (Red Hat 11.5.0-2) openSUSE Leap 15.6 Kernel: 5.15 Compiler: gcc gcc (SUSE Linux) 7.5.0 Red Hat Enterprise Linux 8.10 Kernel: 5.15 Compiler: gcc gcc (GCC) 8.5.0 20210514 (Red Hat 8.5.0-22) Debian GNU/Linux 12 Kernel: 5.15 Compiler: gcc gcc (Debian 12.2.0-14+deb12u1) 12.2.0 Alpine Linux 3.22.0 Kernel: 5.15 Compiler: gcc gcc (Alpine 14.2.0) 14.2.0 Ubuntu 22.04 Kernel: 5.15 Compiler: gcc gcc (Ubuntu 11.4.0-1ubuntu1~22.04) 11.4.0 Windows Server 2022 Kernel: 10.0.20348.2031 Compiler: clang 15.0.7, gcc 14.1.0 (MinGW), and MSVC VS 19.39.33521 Windows Server 2025 Kernel: 10.0.26100 Compiler: clang 15.0.7, gcc 14.1.0 (MinGW), and MSVC VS 19.39.33521 To view detailed results, visit: https://lab.dpdk.org/results/dashboard/patchsets/34650/ UNH-IOL DPDK Community Lab To manage your email subscriptions, visit: https://lab.dpdk.org/results/dashboard/preferences/subscriptions/