From mboxrd@z Thu Jan 1 00:00:00 1970 Return-Path: Received: from mails.dpdk.org (mails.dpdk.org [217.70.189.124]) by inbox.dpdk.org (Postfix) with ESMTP id 9D66A48B60 for ; Fri, 21 Nov 2025 14:15:24 +0100 (CET) Received: from mails.dpdk.org (localhost [127.0.0.1]) by mails.dpdk.org (Postfix) with ESMTP id 7CD3140267; Fri, 21 Nov 2025 14:15:24 +0100 (CET) Received: from mail-pf1-f227.google.com (mail-pf1-f227.google.com [209.85.210.227]) by mails.dpdk.org (Postfix) with ESMTP id 1CA6640267 for ; Fri, 21 Nov 2025 14:15:23 +0100 (CET) Received: by mail-pf1-f227.google.com with SMTP id d2e1a72fcca58-7b9a98b751eso1612898b3a.1 for ; Fri, 21 Nov 2025 05:15:23 -0800 (PST) DKIM-Signature: v=1; a=rsa-sha256; c=relaxed/relaxed; d=iol.unh.edu; s=unh-iol; t=1763730922; x=1764335722; darn=dpdk.org; h=references:in-reply-to:cc:to:from:subject:message-id:date:from:to :cc:subject:date:message-id:reply-to; bh=G6Cr8HR0/RGjFMShdlinyxAcPzjr2FER3oDMzatCwKY=; b=NenCB9arxf8FSQximjQSuQXeT3r1Rt61m3iT5k9sGatFnhEc9S+njW81t/OprjiOe8 rXXLz0u4Em8YD32LBIviklXX471eYtD+Qpb47yB3nCg86KovvSR/dtx2mBysV7k+6zL5 +ZzA0QF8WpoQ4pb++50/yCm82YEKuC7a5T4bM= X-Google-DKIM-Signature: v=1; a=rsa-sha256; c=relaxed/relaxed; d=1e100.net; s=20230601; t=1763730922; x=1764335722; h=references:in-reply-to:cc:to:from:subject:message-id:date:x-gm-gg :x-gm-message-state:from:to:cc:subject:date:message-id:reply-to; bh=G6Cr8HR0/RGjFMShdlinyxAcPzjr2FER3oDMzatCwKY=; b=H/lvLLNfj5qA+FQFGh6DMX+iIFhSBnF5/31KBsQuJDaLMPHEWZP+PzHkpctc3BmUPi Ds8xdm+fVFBHsFuscJW+e6N6FOvfW4qe0KVW63Lzoyd5igpJ76MA06D9nhruiJ+jXdJo h49QGQNaOUVaDohq1nCFoQvKxE6pIWL9vK+kvA3EfRb2Riw+x9/APrfRui301JRYB3ip EJ21Vpfo94/GVKG2qZnyyWfVODxJT3XY3TRw0OnXKDEHvJQhpsXpeF29Q2Qblh9v9OlK AnRxpQ5SBkV6/L4MdQTYWPXh2sDPCmycIuT64NAJVMC7qi/dEt8AT3ZOYLPajxUW4Pzb Mchg== X-Gm-Message-State: AOJu0Yzgus4UFJtqKvK/BRztXbPyYHOW5fXc9uTJv0wnFFBEGqQ58A1M dyeyX/5LyMRvdO0ogXnN0q3jTbQlKxZVh0dTZOVsAAPIjlOyCAEiOkg987HmLgZWXPAJ0VqoY46 /qO6MUSn8Fy4hbGXaHk+wNfkgQpAmy4+A3SCcKvpagQIE X-Gm-Gg: ASbGncuEfeNPesAgwjp8X02UsKEKKGv7sGYJQYef95rQb4jzTK9DGjAPNRTImg7U7JN DgQL9/L1YCN5iSK1RzRt6vmSOPEMqSvCWEMKdHrR9uQ8Lxpwag1Ghwt7Ki6FT07Uew430pEdpMp xlrh8Jq9kiKIATMUBuKmWpeFn2DLE2pfj1hTOcTgaNyUQ1+vEsa3wlTDD6bfVUPAPABEtrGuhsh n3lWlgqTmdbr+DmmRFZHD6q6dkjWyL0/vQYD0BFWqO3sf5CUDyGyDo4OP95I0jeGP4/GhmUJNso NBdzc5dgNMDqTLFeVSE2iyIxnxeMvc4pTsM6FF0h4arr4LxR/swjxaV0zkwD1ZY6FyeFszNCXkr 3Q3HCbejqgisdgPdQSIQwwDDhc18Czvn/J5DDwVUYgQ== X-Google-Smtp-Source: AGHT+IFU41thANgWToywMWlTrrtnBZJQU0JjxnrBieXwtUpwMmOTLn5ZwloHqaBxypbgNUti3YgvJKcTGPN7 X-Received: by 2002:a05:7022:52b:b0:119:e55a:9bf0 with SMTP id a92af1059eb24-11c9d7152cbmr675121c88.12.1763730921488; Fri, 21 Nov 2025 05:15:21 -0800 (PST) Received: from postal.iol.unh.edu (postal.iol.unh.edu. [132.177.123.84]) by smtp-relay.gmail.com with ESMTPS id a92af1059eb24-11c93da9fc6sm649374c88.2.2025.11.21.05.15.21 (version=TLS1_2 cipher=ECDHE-ECDSA-AES128-GCM-SHA256 bits=128/128); Fri, 21 Nov 2025 05:15:21 -0800 (PST) X-Relaying-Domain: iol.unh.edu Date: Fri, 21 Nov 2025 05:15:21 -0800 (PST) Message-ID: <692065e9.050a0220.38a935.2b3fSMTPIN_ADDED_MISSING@mx.google.com> Received: from [172.21.0.3] (unknown [172.18.0.240]) by postal.iol.unh.edu (Postfix) with ESMTP id 80EBF60003F7; Fri, 21 Nov 2025 08:15:20 -0500 (EST) Subject: |SUCCESS| pw158950 [PATCH] net/txgbe: remove the build dependency on From: dpdklab@iol.unh.edu To: Test Report Cc: dpdk-test-reports@iol.unh.edu, Stephen Hemminger In-Reply-To: <19590B42346A2673+20251121061951.466049-1-jiawenwu@trustnetic.com> References: <19590B42346A2673+20251121061951.466049-1-jiawenwu@trustnetic.com> Content-Type: text/plain X-BeenThere: test-report@dpdk.org X-Mailman-Version: 2.1.29 Precedence: list List-Id: automatic DPDK test reports List-Unsubscribe: , List-Archive: List-Post: List-Help: List-Subscribe: , Errors-To: test-report-bounces@dpdk.org Test-Label: iol-unit-arm64-testing Test-Status: SUCCESS http://dpdk.org/patch/158950 _Testing PASS_ Submitter: Jiawen Wu Date: Friday, November 21 2025 06:19:51 DPDK git baseline: Repo:dpdk-next-net Branch: master CommitID:a544492a05ec5bd542a5d0706b8c466398b8fbb0 158950 --> testing pass Upstream job id: Generic-Unit-Test-DPDK#394834 Test environment and result as below: +------------------------------+------------------------------+---------------------------+--------------+----------------+ | Environment | cryptodev_sw_snow3g_autotest | cryptodev_sw_zuc_autotest | lpm_autotest | dpdk_unit_test | +==============================+==============================+===========================+==============+================+ | Debian 12 (arm) | PASS | PASS | SKIPPED | SKIPPED | +------------------------------+------------------------------+---------------------------+--------------+----------------+ | Ubuntu 20.04 | SKIPPED | SKIPPED | PASS | PASS | +------------------------------+------------------------------+---------------------------+--------------+----------------+ | CentOS Stream 9 | SKIPPED | SKIPPED | SKIPPED | PASS | +------------------------------+------------------------------+---------------------------+--------------+----------------+ | Fedora Linux 41 | SKIPPED | SKIPPED | SKIPPED | PASS | +------------------------------+------------------------------+---------------------------+--------------+----------------+ | Red Hat Enterprise Linux 9.5 | SKIPPED | SKIPPED | SKIPPED | PASS | +------------------------------+------------------------------+---------------------------+--------------+----------------+ | Fedora Linux 40 | SKIPPED | SKIPPED | SKIPPED | PASS | +------------------------------+------------------------------+---------------------------+--------------+----------------+ | Fedora Linux 42 | SKIPPED | SKIPPED | SKIPPED | PASS | +------------------------------+------------------------------+---------------------------+--------------+----------------+ | Ubuntu 22.04 | SKIPPED | SKIPPED | SKIPPED | PASS | +------------------------------+------------------------------+---------------------------+--------------+----------------+ | Debian GNU/Linux 12 | SKIPPED | SKIPPED | SKIPPED | PASS | +------------------------------+------------------------------+---------------------------+--------------+----------------+ | CentOS Stream 10 | SKIPPED | SKIPPED | SKIPPED | PASS | +------------------------------+------------------------------+---------------------------+--------------+----------------+ | Ubuntu 24.04 | SKIPPED | SKIPPED | SKIPPED | PASS | +------------------------------+------------------------------+---------------------------+--------------+----------------+ Debian 12 (arm) Kernel: Depends on container host Compiler: gcc (Debian 12.2.0-14) 12.2.0 Ubuntu 20.04 Kernel: 5.4 Compiler: gcc gcc (Ubuntu 9.4.0-1ubuntu1~20.04.2) 9.4.0 CentOS Stream 9 Kernel: 5.4 Compiler: gcc gcc (GCC) 11.5.0 20240719 (Red Hat 11.5.0-11) Fedora Linux 41 Kernel: 5.4 Compiler: clang gcc (GCC) 14.3.1 20250523 (Red Hat 14.3.1-1) Red Hat Enterprise Linux 9.5 Kernel: 5.4 Compiler: gcc gcc (GCC) 11.5.0 20240719 (Red Hat 11.5.0-2) Fedora Linux 40 Kernel: 5.4 Compiler: clang gcc (GCC) 14.2.1 20240912 (Red Hat 14.2.1-3) Fedora Linux 42 Kernel: 5.4 Compiler: clang gcc (GCC) 15.2.1 20250808 (Red Hat 15.2.1-1) Ubuntu 22.04 Kernel: 5.4 Compiler: gcc gcc (Ubuntu 11.4.0-1ubuntu1~22.04) 11.4.0 Debian GNU/Linux 12 Kernel: 5.4 Compiler: gcc gcc (Debian 12.2.0-14+deb12u1) 12.2.0 CentOS Stream 10 Kernel: 5.4 Compiler: gcc gcc (GCC) 14.2.1 20250110 (Red Hat 14.2.1-8) Ubuntu 24.04 Kernel: 5.4 Compiler: gcc gcc (Ubuntu 13.3.0-6ubuntu2~24.04) 13.3.0 To view detailed results, visit: https://lab.dpdk.org/results/dashboard/patchsets/34649/ UNH-IOL DPDK Community Lab To manage your email subscriptions, visit: https://lab.dpdk.org/results/dashboard/preferences/subscriptions/