From mboxrd@z Thu Jan 1 00:00:00 1970 Return-Path: Received: from mails.dpdk.org (mails.dpdk.org [217.70.189.124]) by inbox.dpdk.org (Postfix) with ESMTP id 88E1148B60 for ; Fri, 21 Nov 2025 15:28:24 +0100 (CET) Received: from mails.dpdk.org (localhost [127.0.0.1]) by mails.dpdk.org (Postfix) with ESMTP id 61FB640267; Fri, 21 Nov 2025 15:28:24 +0100 (CET) Received: from mail-pg1-f227.google.com (mail-pg1-f227.google.com [209.85.215.227]) by mails.dpdk.org (Postfix) with ESMTP id BEF9340267 for ; Fri, 21 Nov 2025 15:28:22 +0100 (CET) Received: by mail-pg1-f227.google.com with SMTP id 41be03b00d2f7-bcfd82f55ebso1572973a12.1 for ; Fri, 21 Nov 2025 06:28:22 -0800 (PST) DKIM-Signature: v=1; a=rsa-sha256; c=relaxed/relaxed; d=iol.unh.edu; s=unh-iol; t=1763735302; x=1764340102; darn=dpdk.org; h=references:in-reply-to:cc:to:from:subject:message-id:date:from:to :cc:subject:date:message-id:reply-to; bh=gkfMYGPXEp1nHvq4qNe83jWPvWF+xxmM+82SoHPMuZY=; b=SxjRFpzzINzr12tXZNllNQWfrOvwWXzPVQr4siUdM8zjcxgORMNVKEstHdcRY2V4mj WF9/Tp8gIif17JJNopZuf9Gaf7smfngaVbltWXPkFEVRDUkLD1ZZEbz0CjvrjVXhhxEZ 4GI9uPTmSxV2PgOBDxeHjHCnVABXUQ9arCbbs= X-Google-DKIM-Signature: v=1; a=rsa-sha256; c=relaxed/relaxed; d=1e100.net; s=20230601; t=1763735302; x=1764340102; h=references:in-reply-to:cc:to:from:subject:message-id:date:x-gm-gg :x-gm-message-state:from:to:cc:subject:date:message-id:reply-to; bh=gkfMYGPXEp1nHvq4qNe83jWPvWF+xxmM+82SoHPMuZY=; b=wchX9kronKc8knjZ3C35csbsVFYa2axu8a5pAxcrxrIPv9uJpQEQlUIIOvofmRP8oS CtHi9qJK4Wr4wyPHSgxi8Reqg4mLwOyjV+CyMOT3atY51+/Szaxv2eJ20mOkzcPOL/1s OiHflxYHwCb4d2E9E3YpHCgNgHe1h36g3YfdHL7D56dJdO7hIt0x63w0hsZo+KWGspUZ ooJr0T50Zma+iOOnJ6fUJKc+p0PkiPmKkUUhcgGc8KFUfgLoShDi24sHXB7JD2PPUaUg Q46KBYdmyiVWLFFkl2JDl1DHR04VfNXk9d1+H3GWfvtZrUVa1C8o4oI0miNFN6gJECGX m5yA== X-Gm-Message-State: AOJu0YzYrImH3XDcaIjg8FPJrHlNnJ29FLuk8ia8jJjX9l0jV35FwEY5 PG84NliV6ucpfm+1yMx6ovmeDiD7XIvRdTWQFMDahfUT374V8so6osHrpVyN5QSJmDDlZ3BHg0r iO1EjCrlJAHLOJP1c9RHBwQXbrvww7CW+PobD0ndd03/f X-Gm-Gg: ASbGncv0RsLd70DBfpap/oLTC9bWaJIE1wwHa0HTQf76RSymSWjR+tnU7OeiKanFHdu 0ddIqzUKOMJB++0I6dPSJrEhFawXq5lyVatgellpmYTam4y78PClOipTjsoBRf1aCOr1qrsVN/N izKoBH7UF1YSPUizzNSmMRgB7RtT+8FdGG9K03Ossgd2BIuB/3zJYAZfRdKo8tNOA6Dg9MNqm7+ mYpx3Za1LScbW+yWeZkrsKg26cyLXYnSAlL5SE8g5lDskBQcskT0fqVFv6naGX9yEkBN5SuJoLU S2qRXIZ9N0PkTe6QPmmgVWLzZl5UBzUj0LADAG+wG5XvZduDUeMI3PJeT00lt56VT9RYV96DkvE wmv4LP8sgnqo7Td173P4e9B6SkzkWJoZwDqL6vr1erw== X-Google-Smtp-Source: AGHT+IEwLr1wMwRAosGuNdNU0LKNliiGciktIBsPQbUJbvfJvErmU6IRXLgLmPDDpgFVze2vtAVkzhs1OxsP X-Received: by 2002:a17:903:b87:b0:298:5fde:5a77 with SMTP id d9443c01a7336-29b6bfd5a15mr29019435ad.22.1763735301643; Fri, 21 Nov 2025 06:28:21 -0800 (PST) Received: from postal.iol.unh.edu (postal.iol.unh.edu. [132.177.123.84]) by smtp-relay.gmail.com with ESMTPS id d9443c01a7336-29b5b1f4fa7sm6221205ad.32.2025.11.21.06.28.21 (version=TLS1_2 cipher=ECDHE-ECDSA-AES128-GCM-SHA256 bits=128/128); Fri, 21 Nov 2025 06:28:21 -0800 (PST) X-Relaying-Domain: iol.unh.edu Date: Fri, 21 Nov 2025 06:28:21 -0800 (PST) Message-ID: <69207705.170a0220.3290aa.f344SMTPIN_ADDED_MISSING@mx.google.com> Received: from [172.21.0.2] (unknown [172.18.0.240]) by postal.iol.unh.edu (Postfix) with ESMTP id B68A26050A61; Fri, 21 Nov 2025 09:28:20 -0500 (EST) Subject: |SUCCESS| pw158952-158968 [PATCH] [v6,18/18] vfio: introduce cdev mo From: dpdklab@iol.unh.edu To: Test Report Cc: dpdk-test-reports@iol.unh.edu In-Reply-To: References: Content-Type: text/plain X-BeenThere: test-report@dpdk.org X-Mailman-Version: 2.1.29 Precedence: list List-Id: automatic DPDK test reports List-Unsubscribe: , List-Archive: List-Post: List-Help: List-Subscribe: , Errors-To: test-report-bounces@dpdk.org Test-Label: iol-compile-arm64-testing Test-Status: SUCCESS http://dpdk.org/patch/158968 _Testing PASS_ Submitter: Burakov, Anatoly Date: Friday, November 21 2025 10:09:03 DPDK git baseline: Repo:dpdk Branch: master CommitID:ef98b88455bf4a7c8b7aa3106a761c9e9270d6a3 158952-158968 --> testing pass Upstream job id: Generic-DPDK-Compile-Meson#446471 Test environment and result as below: +------------------------------+--------------------+ | Environment | dpdk_meson_compile | +==============================+====================+ | Ubuntu 20.04 | PASS | +------------------------------+--------------------+ | Fedora Linux 42 | PASS | +------------------------------+--------------------+ | Red Hat Enterprise Linux 9.5 | PASS | +------------------------------+--------------------+ | Debian GNU/Linux 12 | PASS | +------------------------------+--------------------+ | Ubuntu 24.04 | PASS | +------------------------------+--------------------+ | CentOS Stream 10 | PASS | +------------------------------+--------------------+ | Ubuntu 22.04 | PASS | +------------------------------+--------------------+ | CentOS Stream 9 | PASS | +------------------------------+--------------------+ Ubuntu 20.04 Kernel: 5.4 Compiler: gcc gcc (Ubuntu 9.4.0-1ubuntu1~20.04.2) 9.4.0 Fedora Linux 42 Kernel: 5.4 Compiler: clang gcc (GCC) 15.2.1 20250808 (Red Hat 15.2.1-1) Red Hat Enterprise Linux 9.5 Kernel: 5.4 Compiler: gcc gcc (GCC) 11.5.0 20240719 (Red Hat 11.5.0-2) Debian GNU/Linux 12 Kernel: 5.4 Compiler: gcc gcc (Debian 12.2.0-14+deb12u1) 12.2.0 Ubuntu 24.04 Kernel: 5.4 Compiler: gcc gcc (Ubuntu 13.3.0-6ubuntu2~24.04) 13.3.0 CentOS Stream 10 Kernel: 5.4 Compiler: gcc gcc (GCC) 14.2.1 20250110 (Red Hat 14.2.1-8) Ubuntu 22.04 Kernel: 5.4 Compiler: gcc gcc (Ubuntu 11.4.0-1ubuntu1~22.04) 11.4.0 CentOS Stream 9 Kernel: 5.4 Compiler: gcc gcc (GCC) 11.5.0 20240719 (Red Hat 11.5.0-11) To view detailed results, visit: https://lab.dpdk.org/results/dashboard/patchsets/34650/ UNH-IOL DPDK Community Lab To manage your email subscriptions, visit: https://lab.dpdk.org/results/dashboard/preferences/subscriptions/