From mboxrd@z Thu Jan 1 00:00:00 1970 Return-Path: Received: from mails.dpdk.org (mails.dpdk.org [217.70.189.124]) by inbox.dpdk.org (Postfix) with ESMTP id CD3D648B69 for ; Fri, 21 Nov 2025 17:13:40 +0100 (CET) Received: from mails.dpdk.org (localhost [127.0.0.1]) by mails.dpdk.org (Postfix) with ESMTP id C636940267; Fri, 21 Nov 2025 17:13:40 +0100 (CET) Received: from mail-vk1-f226.google.com (mail-vk1-f226.google.com [209.85.221.226]) by mails.dpdk.org (Postfix) with ESMTP id C8018402A6 for ; Fri, 21 Nov 2025 17:13:38 +0100 (CET) Received: by mail-vk1-f226.google.com with SMTP id 71dfb90a1353d-55b2f2ae1cbso1435420e0c.1 for ; Fri, 21 Nov 2025 08:13:38 -0800 (PST) DKIM-Signature: v=1; a=rsa-sha256; c=relaxed/relaxed; d=iol.unh.edu; s=unh-iol; t=1763741618; x=1764346418; darn=dpdk.org; h=references:in-reply-to:cc:to:from:subject:message-id:date:from:to :cc:subject:date:message-id:reply-to; bh=rvgdqU9QoL2aFUNLDJpgvJV2CoXnAXXxT7GGi+wlB4E=; b=UYbsX97dxnB/+XQsC30pCP/OqecRfdodqXgF8tNCiP0N6zg84TLbUq9Y2d7Uin9giB ZUb33mG1jJ2OoLibhmPV5NihXw9jsNO3J2g0B07W9VdIwE7tci84vvG3r9Tmv0IfFqnL cBtF6XL2fuAeSuQiK/lnStixyBSOGKpynua04= X-Google-DKIM-Signature: v=1; a=rsa-sha256; c=relaxed/relaxed; d=1e100.net; s=20230601; t=1763741618; x=1764346418; h=references:in-reply-to:cc:to:from:subject:message-id:date:x-gm-gg :x-gm-message-state:from:to:cc:subject:date:message-id:reply-to; bh=rvgdqU9QoL2aFUNLDJpgvJV2CoXnAXXxT7GGi+wlB4E=; b=pxMxm+90/F6XD7vm35qXz1/qhRg5hTmmvbibNMFfgBBzMkK3FFnryVJNK6iI9Gy6uB 5/Y6h6n1ZKt106pfnaEYhR3piCU+TWsaiPhiL1n+Gy/Nnds3KU1mrfc6E3L+rvWwnFuZ Zi+YXUIHoxDSsGxKrI9grjMjH9FsG0GHIcA55OKEZvckG96o2udOhskAjrOGCHbXi0Lj ife05qH0Z1zJCiNy+UNEi+TNwKR3obqb8IrQk5NRJKeMVrqR6TFr29kmIoUvoXR7EZRh o7tOK1BKh68GY4KjI5ulqD/H1pC30szgMFDa/QS9yQKCYC9U6ZlxcjK9o1tWrxQjuazQ 8tfw== X-Gm-Message-State: AOJu0YwGzRpbD/j3tbdQnL6BdKXF68j+0KIcNDsGAUBirvPcGxA9+fwT 0jGgdNENVaXffm2k8YCeQlP8abNtPxHxJy4YhJzeM8Dxy6moPb3NelKDHpghsNRt2r4PimIaTfM iQm69ktVjETacTmXCb5TxKL7pFImYeRjMmG0UIV3QtbuIt5DmQwPccAuedsiP X-Gm-Gg: ASbGncvfrvqtIhgtQSWC5clLxnwXGHcSA/c42+kUqz8KaYYVCzPtvC831C06jDJVF63 al2alJTdMeYJdrQbYxWSMAlbOjxMPgCWPcShOVTyenEevbwa+T70hz+yfyFGhI+QjDy+4Mql1g6 L7I/LQM6AGeV4oALEZIKfw9bWwnXzUFSKQCo3FFo7lTPoTDjORc56v8aB8jkpiv65OkQOzcj8x0 KdhmIC1fFqZZCzA5vM/uwZlmemEgO7u7VTpyspG5twjckyGXrjqUR+/LuUcu/qIIu1Q1Fu7fr9S TfwJWGoYhQ8v+KSC72l8/cOXpkY4jZbijWjVGyFdRFtLxR+MMDUmNUn1VMlH0zyaLugXh0H3E3z XIXi7GdR9JLF8YIWMGmo= X-Google-Smtp-Source: AGHT+IHxiuI9wqJo+BXI5di6shdMUQ3HP8NVp+ixCTMIhsGc4ic08Y3rk6QFVmMh9lmapFzDKiuh/6iNGiqZ X-Received: by 2002:a05:6122:904:b0:55b:305b:4e41 with SMTP id 71dfb90a1353d-55b8d7f6514mr1003939e0c.18.1763741618089; Fri, 21 Nov 2025 08:13:38 -0800 (PST) Received: from postal.iol.unh.edu (postal.iol.unh.edu. [2606:4100:3880:1234::84]) by smtp-relay.gmail.com with ESMTPS id 71dfb90a1353d-55b7f7dc9aesm582515e0c.3.2025.11.21.08.13.38 (version=TLS1_2 cipher=ECDHE-ECDSA-AES128-GCM-SHA256 bits=128/128); Fri, 21 Nov 2025 08:13:38 -0800 (PST) X-Relaying-Domain: iol.unh.edu Date: Fri, 21 Nov 2025 08:13:38 -0800 (PST) Message-ID: <69208fb2.050a0220.b8d1e.e9dbSMTPIN_ADDED_MISSING@mx.google.com> Received: from [172.21.0.2] (unknown [172.18.0.240]) by postal.iol.unh.edu (Postfix) with ESMTP id CFCBA6051830; Fri, 21 Nov 2025 11:13:37 -0500 (EST) Subject: |SUCCESS| pw158950 [PATCH] net/txgbe: remove the build dependency on From: dpdklab@iol.unh.edu To: Test Report Cc: dpdk-test-reports@iol.unh.edu, Stephen Hemminger In-Reply-To: <19590B42346A2673+20251121061951.466049-1-jiawenwu@trustnetic.com> References: <19590B42346A2673+20251121061951.466049-1-jiawenwu@trustnetic.com> Content-Type: text/plain X-BeenThere: test-report@dpdk.org X-Mailman-Version: 2.1.29 Precedence: list List-Id: automatic DPDK test reports List-Unsubscribe: , List-Archive: List-Post: List-Help: List-Subscribe: , Errors-To: test-report-bounces@dpdk.org Test-Label: iol-compile-arm64-testing Test-Status: SUCCESS http://dpdk.org/patch/158950 _Testing PASS_ Submitter: Jiawen Wu Date: Friday, November 21 2025 06:19:51 DPDK git baseline: Repo:dpdk-next-net Branch: master CommitID:a544492a05ec5bd542a5d0706b8c466398b8fbb0 158950 --> testing pass Upstream job id: Generic-DPDK-Compile-Meson#446436 Test environment and result as below: +------------------------------+--------------------+ | Environment | dpdk_meson_compile | +==============================+====================+ | Red Hat Enterprise Linux 9.5 | PASS | +------------------------------+--------------------+ | Ubuntu 20.04 | PASS | +------------------------------+--------------------+ | Fedora Linux 42 | PASS | +------------------------------+--------------------+ | Debian GNU/Linux 12 | PASS | +------------------------------+--------------------+ | Ubuntu 22.04 | PASS | +------------------------------+--------------------+ | Ubuntu 24.04 | PASS | +------------------------------+--------------------+ | CentOS Stream 10 | PASS | +------------------------------+--------------------+ | CentOS Stream 9 | PASS | +------------------------------+--------------------+ Red Hat Enterprise Linux 9.5 Kernel: 5.4 Compiler: gcc gcc (GCC) 11.5.0 20240719 (Red Hat 11.5.0-2) Ubuntu 20.04 Kernel: 5.15 Compiler: aarch64-linux-gnu-gcc gcc (Ubuntu 9.4.0-1ubuntu1~20.04.2) 9.4.0 Fedora Linux 42 Kernel: 5.4 Compiler: gcc gcc (GCC) 15.2.1 20250808 (Red Hat 15.2.1-1) Debian GNU/Linux 12 Kernel: 5.4 Compiler: gcc gcc (Debian 12.2.0-14+deb12u1) 12.2.0 Ubuntu 22.04 Kernel: 5.4 Compiler: gcc gcc (Ubuntu 11.4.0-1ubuntu1~22.04) 11.4.0 Ubuntu 24.04 Kernel: 5.4 Compiler: gcc gcc (Ubuntu 13.3.0-6ubuntu2~24.04) 13.3.0 CentOS Stream 10 Kernel: 5.4 Compiler: gcc gcc (GCC) 14.2.1 20250110 (Red Hat 14.2.1-8) CentOS Stream 9 Kernel: 5.4 Compiler: gcc gcc (GCC) 11.5.0 20240719 (Red Hat 11.5.0-11) To view detailed results, visit: https://lab.dpdk.org/results/dashboard/patchsets/34649/ UNH-IOL DPDK Community Lab To manage your email subscriptions, visit: https://lab.dpdk.org/results/dashboard/preferences/subscriptions/