From mboxrd@z Thu Jan 1 00:00:00 1970 Return-Path: Received: from mails.dpdk.org (mails.dpdk.org [217.70.189.124]) by inbox.dpdk.org (Postfix) with ESMTP id 59A7648B6C for ; Fri, 21 Nov 2025 18:21:06 +0100 (CET) Received: from mails.dpdk.org (localhost [127.0.0.1]) by mails.dpdk.org (Postfix) with ESMTP id 372A740267; Fri, 21 Nov 2025 18:21:06 +0100 (CET) Received: from mail-qk1-f225.google.com (mail-qk1-f225.google.com [209.85.222.225]) by mails.dpdk.org (Postfix) with ESMTP id 705C040267 for ; Fri, 21 Nov 2025 18:21:05 +0100 (CET) Received: by mail-qk1-f225.google.com with SMTP id af79cd13be357-8b2e530a748so208101285a.0 for ; Fri, 21 Nov 2025 09:21:05 -0800 (PST) DKIM-Signature: v=1; a=rsa-sha256; c=relaxed/relaxed; d=iol.unh.edu; s=unh-iol; t=1763745665; x=1764350465; darn=dpdk.org; h=references:in-reply-to:cc:to:from:subject:message-id:date:from:to :cc:subject:date:message-id:reply-to; bh=SHayNNLBkuLKbXWBRilrzJNS/LogkYDln1u/DLrlxjI=; b=JPeQ4gUB8vyu5fbbOTw9/rOSUN+0ad1koKwIJNPTN/oh53ngSLcXPVjXYFioBqcFF9 gi5xuhIQQYjmSSCfbaJ2KYhSqbQah+0MrLZ1wH/PM/e2TPnCEYAzeU0fwgs+iqLCJCB/ +5UIbHAgCl6d+kqT5hOQZGchlvm0pegr+yxQQ= X-Google-DKIM-Signature: v=1; a=rsa-sha256; c=relaxed/relaxed; d=1e100.net; s=20230601; t=1763745665; x=1764350465; h=references:in-reply-to:cc:to:from:subject:message-id:date:x-gm-gg :x-gm-message-state:from:to:cc:subject:date:message-id:reply-to; bh=SHayNNLBkuLKbXWBRilrzJNS/LogkYDln1u/DLrlxjI=; b=fKU0IUMzOLhd3BaqpDxKijRvmIAWQ6eTaL9syPlPyzBREp8LlLeQrcUY1CThoGNHoH T2pLPRA3eOXIb2zukNONU9B/dWX8gFC9ag3jGEG+NDhVSNbYD5fOBTmH5MiyT+0YWccu 9yEaGpUwmbs3Yz0wiOcAjF3m/Ziz8KossrTkeqoG4LAra2HCkj8nb8YUBU/L6PCJC9Fb Kv5ALtvHrEN25XVZXwUinrZkuIUdzLTNA7AFo2phjoQ3Iz6XXJccBpq7erWQga2w4gwL QElNvEXA1q83coFUfNROdSSgA/UWh+d/MDY1etFIl1Yw2CXJY8pIQ2OPGUaXFEm+cEHT HVjg== X-Gm-Message-State: AOJu0YxaZql4mLCTD77fD2zw/RhgS8IUIbRKg46EyDLdTF6+ucRUX8mA woIrQ72OmmPSrcMaMaIbxbylWboc1hOMviiS8fshsJigePeY2YocrEy0uxtG7/plq6s2jiQTVd6 PISpOCbKdl1ZOQCnu/zpcLcacuWEmbfsE7aSsuGx3NzpnRt+x49Vg X-Gm-Gg: ASbGncujLun/xnQ3dJRVO6+0CIklpgzKc5Y50yQfV68+GP5SC8sOxSjyFYiNzdgMt9O p8iEk+w/xu4FeKpW9hSUxbNg3Z3nd6p4SpU/7ncriORmGAdDzqzmAbVCY3YKOBZ5mMW88wfa5J3 Xr9D7vavySxY89cb8Zrf1rAQ8iWuS3R53az0DxJgUKWvX478ZxRh0T/Qr6KHyRzHS93bUYUvyil H1Qt+waSxzdkmGj9vsnsdjMyKXd5WpQDBwkJpYGvCeploboSOyVZsboRiUFHcwwLrBx/YRxi6Fp YaVifj+r/TMR6MC4f/Up//rQEh1TkHdYnDnGWxF/EBrRnCOuphBKKFJWm2e6CytUoaqjVxeUsby jTgvpYRkaQj0o7C9Q3bU= X-Google-Smtp-Source: AGHT+IE+YNfiGhkUj6PwNg60nqtZLDqjtOWWWg8CIGfHLgJiuvp+7oIBaT4Uq0TY/8wqWiEV0Mlp5X2tbsx3 X-Received: by 2002:a05:620a:28c9:b0:866:f322:c6c0 with SMTP id af79cd13be357-8b33d48275dmr383226085a.60.1763745664677; Fri, 21 Nov 2025 09:21:04 -0800 (PST) Received: from postal.iol.unh.edu (postal.iol.unh.edu. [2606:4100:3880:1234::84]) by smtp-relay.gmail.com with ESMTPS id af79cd13be357-8b32959f681sm58247785a.5.2025.11.21.09.21.04 (version=TLS1_2 cipher=ECDHE-ECDSA-AES128-GCM-SHA256 bits=128/128); Fri, 21 Nov 2025 09:21:04 -0800 (PST) X-Relaying-Domain: iol.unh.edu Date: Fri, 21 Nov 2025 09:21:04 -0800 (PST) Message-ID: <69209f80.050a0220.21716d.d247SMTPIN_ADDED_MISSING@mx.google.com> Received: from [172.21.0.2] (unknown [172.18.0.240]) by postal.iol.unh.edu (Postfix) with ESMTP id 605386050A61; Fri, 21 Nov 2025 12:21:04 -0500 (EST) Subject: |SUCCESS| pw158817 [PATCH] net/bnxt: fix unintialized warning From: dpdklab@iol.unh.edu To: Test Report Cc: dpdk-test-reports@iol.unh.edu, Ajit Khaparde In-Reply-To: <20251114185240.1363648-1-stephen@networkplumber.org> References: <20251114185240.1363648-1-stephen@networkplumber.org> Content-Type: text/plain X-BeenThere: test-report@dpdk.org X-Mailman-Version: 2.1.29 Precedence: list List-Id: automatic DPDK test reports List-Unsubscribe: , List-Archive: List-Post: List-Help: List-Subscribe: , Errors-To: test-report-bounces@dpdk.org Test-Label: iol-unit-amd64-testing Test-Status: SUCCESS http://dpdk.org/patch/158817 _Testing PASS_ Submitter: Stephen Hemminger Date: Friday, November 14 2025 18:52:40 DPDK git baseline: Repo:dpdk-next-net-brcm Branch: master CommitID:bfb6c9fbcbaada197af422b704cf71b777f85fff 158817 --> testing pass Upstream job id: Generic-VM-Unit-Test-DPDK#32726 Test environment and result as below: +-------------------------------+----------------+ | Environment | dpdk_unit_test | +===============================+================+ | Fedora Linux 40 | PASS | +-------------------------------+----------------+ | Ubuntu 22.04 | PASS | +-------------------------------+----------------+ | CentOS Stream 10 | PASS | +-------------------------------+----------------+ | Ubuntu 20.04 | PASS | +-------------------------------+----------------+ | Fedora Linux 41 | PASS | +-------------------------------+----------------+ | Debian GNU/Linux 12 | PASS | +-------------------------------+----------------+ | Fedora Linux 42 | PASS | +-------------------------------+----------------+ | Red Hat Enterprise Linux 8.10 | PASS | +-------------------------------+----------------+ | Red Hat Enterprise Linux 9.5 | PASS | +-------------------------------+----------------+ | CentOS Stream 9 | PASS | +-------------------------------+----------------+ | Ubuntu 24.04 | PASS | +-------------------------------+----------------+ | Windows Server 2022 | PASS | +-------------------------------+----------------+ Fedora Linux 40 Kernel: 5.15 Compiler: gcc gcc (GCC) 14.2.1 20240912 (Red Hat 14.2.1-3) Ubuntu 22.04 Kernel: 5.15 Compiler: gcc gcc (Ubuntu 11.4.0-1ubuntu1~22.04) 11.4.0 CentOS Stream 10 Kernel: 5.15 Compiler: gcc gcc (GCC) 14.2.1 20250110 (Red Hat 14.2.1-8) Ubuntu 20.04 Kernel: 5.15 Compiler: gcc gcc (Ubuntu 9.4.0-1ubuntu1~20.04.2) 9.4.0 Fedora Linux 41 Kernel: 5.15 Compiler: clang gcc (GCC) 14.3.1 20250523 (Red Hat 14.3.1-1) Debian GNU/Linux 12 Kernel: 5.15 Compiler: gcc gcc (Debian 12.2.0-14+deb12u1) 12.2.0 Fedora Linux 42 Kernel: 5.15 Compiler: gcc gcc (GCC) 15.2.1 20250808 (Red Hat 15.2.1-1) Red Hat Enterprise Linux 8.10 Kernel: 5.15 Compiler: gcc gcc (GCC) 8.5.0 20210514 (Red Hat 8.5.0-22) Red Hat Enterprise Linux 9.5 Kernel: 5.15 Compiler: gcc gcc (GCC) 11.5.0 20240719 (Red Hat 11.5.0-2) CentOS Stream 9 Kernel: 5.15 Compiler: gcc gcc (GCC) 11.5.0 20240719 (Red Hat 11.5.0-11) Ubuntu 24.04 Kernel: 5.15 Compiler: gcc gcc (Ubuntu 13.3.0-6ubuntu2~24.04) 13.3.0 Windows Server 2022 Kernel: 10.0.20348.2031 Compiler: clang 15.0.7, gcc 14.1.0 (MinGW), and MSVC VS 19.39.33521 To view detailed results, visit: https://lab.dpdk.org/results/dashboard/patchsets/34599/ UNH-IOL DPDK Community Lab To manage your email subscriptions, visit: https://lab.dpdk.org/results/dashboard/preferences/subscriptions/