From mboxrd@z Thu Jan 1 00:00:00 1970 Return-Path: Received: from mails.dpdk.org (mails.dpdk.org [217.70.189.124]) by inbox.dpdk.org (Postfix) with ESMTP id 4612948B6C for ; Fri, 21 Nov 2025 18:52:13 +0100 (CET) Received: from mails.dpdk.org (localhost [127.0.0.1]) by mails.dpdk.org (Postfix) with ESMTP id 40D02402E5; Fri, 21 Nov 2025 18:52:13 +0100 (CET) Received: from mail-qk1-f225.google.com (mail-qk1-f225.google.com [209.85.222.225]) by mails.dpdk.org (Postfix) with ESMTP id 47025402E7 for ; Fri, 21 Nov 2025 18:52:12 +0100 (CET) Received: by mail-qk1-f225.google.com with SMTP id af79cd13be357-8b2dcdde65bso324447885a.0 for ; Fri, 21 Nov 2025 09:52:12 -0800 (PST) DKIM-Signature: v=1; a=rsa-sha256; c=relaxed/relaxed; d=iol.unh.edu; s=unh-iol; t=1763747531; x=1764352331; darn=dpdk.org; h=references:in-reply-to:cc:to:from:subject:message-id:date:from:to :cc:subject:date:message-id:reply-to; bh=laiTLvAuVl9lKCvdpJ7nB0zS6wh++W6geCp/N8PMZts=; b=Sz1JNFyJh7j4sc/cmemyo/+px/f0Kwn+Jev5hqkBTm4/fVLYujcNGH+tDkR+tVP0+5 XDsrUH14FOVStskQswoYfKNOA0ORRTFKhbCYbWYdgvwSu9bVeen2GEpxX1nRQe4kUnuz rqrI4tbbCMBDudI8t1Y7EJOy++s2y4G/apo6A= X-Google-DKIM-Signature: v=1; a=rsa-sha256; c=relaxed/relaxed; d=1e100.net; s=20230601; t=1763747531; x=1764352331; h=references:in-reply-to:cc:to:from:subject:message-id:date:x-gm-gg :x-gm-message-state:from:to:cc:subject:date:message-id:reply-to; bh=laiTLvAuVl9lKCvdpJ7nB0zS6wh++W6geCp/N8PMZts=; b=Ma+DULYLy5melmwvAkidZ/Yv0n2WgCwS2p2PGiom4klSqK9dT3BYSZOTYQt8FnxUMQ re2W7VdHtWEJKpd41b/zEvQMzJizmQxb3RS/kO9tjLWuyWWKIyOdHU85HfUAzT8TXpom Y3PufkOpTX6TAwjlSSVYVd38U0L3mN1EuzqHUdTkYux5S49hsoumE/IJm4v/t0DauhkL N8aDbAwFrJsWzUMG8K7Kmf9N8DpxE2PTRYMLOZ3zH189FC7W9AxxtnW2X+VlQjKja2P2 Tl2h3X3sRhSgyj7yX1Fs/1oiM6hhiEZc4LPk/mOINsLxzJxcA4Y0znsGXrRyK4hoLoRE Yvzg== X-Gm-Message-State: AOJu0YzytVFAEQKPcuztE+VnRnHvZ1o3sNoq2K/sr1z1waiuy0Iw37iK HfLAzUCjoVDP0GBw+1fO3Q3AtBtN0qUf9zPbPzpnMR3t5oRq5smzhJutkj5tzTlj/np3NzM3ycP fxf0Y98l0yrtE4EcDUl1qwCiBi6RKJ0TD0dGXwyHXNeqzWSqnaZJ2 X-Gm-Gg: ASbGnctBz51m8pt/zSqwZbkdZ/+Bv6TjHILAhYjKHWPpguS4jEsFEiKYQYjy9oSS7u+ INMlt5vtd8s7ti1IYquSHG62B8xcSDXfnmwzeqsHMMt7AR4bdHPY3Nb3c1+bSt2hgDewur+j8bP EZ5lKmExtHyktlvU9woHxILWjgsW1qJ1lUPjrFJjGiHDKFdzES4wEo5ATtRe4OOCy8yN9K7nYgq zX0G8u1GJsvCWBehJ1tImHpJ/CH3Ml7AUvdtdH5jj4WecT2YLB7I3K/Z/c9e+DYJXX/d//myu5n u2TfdiNfs8XJLQHiVtskoexf3PFxn3xjiU9gjSxwLVfsxW0lQM/UPCGLFP3FGoLVzgvKlz4yUA4 fhIALmw5W5vSUr/qKrZA= X-Google-Smtp-Source: AGHT+IEGhgK0pYVSn92MjAgYafkqUGhmYgZDGq7Q/1WDrk+s6odq3dNlqkiuvOmbMAOrr9y5dkFuidFViAzN X-Received: by 2002:a05:620a:1a03:b0:8b0:f2bd:4764 with SMTP id af79cd13be357-8b33d4d84aemr400858285a.63.1763747531625; Fri, 21 Nov 2025 09:52:11 -0800 (PST) Received: from postal.iol.unh.edu (postal.iol.unh.edu. [2606:4100:3880:1234::84]) by smtp-relay.gmail.com with ESMTPS id af79cd13be357-8b3295cae8esm56239685a.8.2025.11.21.09.52.11 (version=TLS1_2 cipher=ECDHE-ECDSA-AES128-GCM-SHA256 bits=128/128); Fri, 21 Nov 2025 09:52:11 -0800 (PST) X-Relaying-Domain: iol.unh.edu Date: Fri, 21 Nov 2025 09:52:11 -0800 (PST) Message-ID: <6920a6cb.050a0220.288a68.c06fSMTPIN_ADDED_MISSING@mx.google.com> Received: from [172.21.0.2] (unknown [172.18.0.240]) by postal.iol.unh.edu (Postfix) with ESMTP id 4238A6050A61; Fri, 21 Nov 2025 12:52:11 -0500 (EST) Subject: |SUCCESS| pw158817 [PATCH] net/bnxt: fix unintialized warning From: dpdklab@iol.unh.edu To: Test Report Cc: dpdk-test-reports@iol.unh.edu, Ajit Khaparde In-Reply-To: <20251114185240.1363648-1-stephen@networkplumber.org> References: <20251114185240.1363648-1-stephen@networkplumber.org> Content-Type: text/plain X-BeenThere: test-report@dpdk.org X-Mailman-Version: 2.1.29 Precedence: list List-Id: automatic DPDK test reports List-Unsubscribe: , List-Archive: List-Post: List-Help: List-Subscribe: , Errors-To: test-report-bounces@dpdk.org Test-Label: iol-compile-amd64-testing Test-Status: SUCCESS http://dpdk.org/patch/158817 _Testing PASS_ Submitter: Stephen Hemminger Date: Friday, November 14 2025 18:52:40 DPDK git baseline: Repo:dpdk-next-net-brcm Branch: master CommitID:bfb6c9fbcbaada197af422b704cf71b777f85fff 158817 --> testing pass Upstream job id: Generic-DPDK-Compile-Meson#446491 Test environment and result as below: +-------------------------------+--------------------+-------------------+-------------------------+------------------+----------------------+ | Environment | dpdk_meson_compile | dpdk_msvc_compile | dpdk_llvm_clang_compile | dpdk_compile_ovs | dpdk_mingw64_compile | +===============================+====================+===================+=========================+==================+======================+ | CentOS Stream 9 | PASS | SKIPPED | SKIPPED | SKIPPED | SKIPPED | +-------------------------------+--------------------+-------------------+-------------------------+------------------+----------------------+ | Debian GNU/Linux 12 | PASS | SKIPPED | SKIPPED | SKIPPED | SKIPPED | +-------------------------------+--------------------+-------------------+-------------------------+------------------+----------------------+ | Fedora Linux 42 | PASS | SKIPPED | SKIPPED | PASS | SKIPPED | +-------------------------------+--------------------+-------------------+-------------------------+------------------+----------------------+ | Red Hat Enterprise Linux 8.10 | PASS | SKIPPED | SKIPPED | SKIPPED | SKIPPED | +-------------------------------+--------------------+-------------------+-------------------------+------------------+----------------------+ | openSUSE Leap 15.6 | PASS | SKIPPED | SKIPPED | SKIPPED | SKIPPED | +-------------------------------+--------------------+-------------------+-------------------------+------------------+----------------------+ | CentOS Stream 10 | PASS | SKIPPED | SKIPPED | SKIPPED | SKIPPED | +-------------------------------+--------------------+-------------------+-------------------------+------------------+----------------------+ | FreeBSD 14.2 | PASS | SKIPPED | SKIPPED | SKIPPED | SKIPPED | +-------------------------------+--------------------+-------------------+-------------------------+------------------+----------------------+ | Ubuntu 20.04 | PASS | SKIPPED | SKIPPED | SKIPPED | SKIPPED | +-------------------------------+--------------------+-------------------+-------------------------+------------------+----------------------+ | Red Hat Enterprise Linux 9.5 | PASS | SKIPPED | SKIPPED | SKIPPED | SKIPPED | +-------------------------------+--------------------+-------------------+-------------------------+------------------+----------------------+ | Ubuntu 22.04 | PASS | SKIPPED | SKIPPED | SKIPPED | SKIPPED | +-------------------------------+--------------------+-------------------+-------------------------+------------------+----------------------+ | Ubuntu 24.04 | PASS | SKIPPED | SKIPPED | PASS | SKIPPED | +-------------------------------+--------------------+-------------------+-------------------------+------------------+----------------------+ | Alpine Linux 3.22.0 | PASS | SKIPPED | SKIPPED | SKIPPED | SKIPPED | +-------------------------------+--------------------+-------------------+-------------------------+------------------+----------------------+ | Windows Server 2022 | SKIPPED | PASS | SKIPPED | SKIPPED | PASS | +-------------------------------+--------------------+-------------------+-------------------------+------------------+----------------------+ | Windows Server 2025 | SKIPPED | SKIPPED | PASS | SKIPPED | SKIPPED | +-------------------------------+--------------------+-------------------+-------------------------+------------------+----------------------+ CentOS Stream 9 Kernel: 5.15 Compiler: gcc gcc (GCC) 11.5.0 20240719 (Red Hat 11.5.0-11) Debian GNU/Linux 12 Kernel: 5.15 Compiler: gcc gcc (Debian 12.2.0-14+deb12u1) 12.2.0 Fedora Linux 42 Kernel: 5.15 Compiler: clang gcc (GCC) 15.2.1 20250808 (Red Hat 15.2.1-1) Red Hat Enterprise Linux 8.10 Kernel: 5.15 Compiler: gcc gcc (GCC) 8.5.0 20210514 (Red Hat 8.5.0-22) openSUSE Leap 15.6 Kernel: 5.15 Compiler: gcc gcc (SUSE Linux) 7.5.0 CentOS Stream 10 Kernel: 5.15 Compiler: gcc gcc (GCC) 14.2.1 20250110 (Red Hat 14.2.1-8) FreeBSD 14.2 Kernel: 14.2-RELEASE Compiler: clang 18.1.6 Ubuntu 20.04 Kernel: 5.15 Compiler: gcc gcc (Ubuntu 9.4.0-1ubuntu1~20.04.2) 9.4.0 Red Hat Enterprise Linux 9.5 Kernel: 5.15 Compiler: gcc gcc (GCC) 11.5.0 20240719 (Red Hat 11.5.0-2) Ubuntu 22.04 Kernel: 5.15 Compiler: gcc gcc (Ubuntu 11.4.0-1ubuntu1~22.04) 11.4.0 Ubuntu 24.04 Kernel: 5.15 Compiler: gcc gcc (Ubuntu 13.3.0-6ubuntu2~24.04) 13.3.0 Alpine Linux 3.22.0 Kernel: 5.15 Compiler: gcc gcc (Alpine 14.2.0) 14.2.0 Windows Server 2022 Kernel: 10.0.20348.2031 Compiler: clang 15.0.7, gcc 14.1.0 (MinGW), and MSVC VS 19.39.33521 Windows Server 2025 Kernel: 10.0.26100 Compiler: clang 15.0.7, gcc 14.1.0 (MinGW), and MSVC VS 19.39.33521 To view detailed results, visit: https://lab.dpdk.org/results/dashboard/patchsets/34599/ UNH-IOL DPDK Community Lab To manage your email subscriptions, visit: https://lab.dpdk.org/results/dashboard/preferences/subscriptions/