From mboxrd@z Thu Jan 1 00:00:00 1970 Return-Path: Received: from mails.dpdk.org (mails.dpdk.org [217.70.189.124]) by inbox.dpdk.org (Postfix) with ESMTP id 3646748B6C for ; Fri, 21 Nov 2025 19:31:17 +0100 (CET) Received: from mails.dpdk.org (localhost [127.0.0.1]) by mails.dpdk.org (Postfix) with ESMTP id 0CD9E40269; Fri, 21 Nov 2025 19:31:17 +0100 (CET) Received: from mail-yx1-f99.google.com (mail-yx1-f99.google.com [74.125.224.99]) by mails.dpdk.org (Postfix) with ESMTP id 71B6C40269 for ; Fri, 21 Nov 2025 19:31:15 +0100 (CET) Received: by mail-yx1-f99.google.com with SMTP id 956f58d0204a3-63f96d5038dso2066628d50.1 for ; Fri, 21 Nov 2025 10:31:15 -0800 (PST) DKIM-Signature: v=1; a=rsa-sha256; c=relaxed/relaxed; d=iol.unh.edu; s=unh-iol; t=1763749875; x=1764354675; darn=dpdk.org; h=references:in-reply-to:cc:to:from:subject:message-id:date:from:to :cc:subject:date:message-id:reply-to; bh=tfXoncV6ymHsgMh2XYbSAzCa9lMPv8pPC66PqYKoRSc=; b=MyP4xXMqgX5Fcp2wcAr2Saj2d/twNM9QTaABJnQzb1MrxjV3N4qAW27A9IG7p2AcRf 143Dp5stMqATAL3s07RQJhKdDLfLBUKSiO3F/nDMQ0tDzVKlJfm2viVtNG5BheQW3AaU J0LFVsNfEN7IuWKQUYfb0YCYVSAg8e/qhY4r8= X-Google-DKIM-Signature: v=1; a=rsa-sha256; c=relaxed/relaxed; d=1e100.net; s=20230601; t=1763749875; x=1764354675; h=references:in-reply-to:cc:to:from:subject:message-id:date:x-gm-gg :x-gm-message-state:from:to:cc:subject:date:message-id:reply-to; bh=tfXoncV6ymHsgMh2XYbSAzCa9lMPv8pPC66PqYKoRSc=; b=bqBT7zbUoBPfOB8OH43hjuMOv0hPtL8GsRcNGDoEHKvhX7MKSgCPjulelU9YC2DGYV ZOb6Ws9qFv9O5gsP7AQNPcteYm9/8MKcS1mzULEhT5oF9ORKJraP2j3UeGieEpjOMjSd uVFe5BT3ixEvz1jLPoTa/9mOe553xVTa5mjhvnD0ahr4I9/SdxhfQ8V3HkKvFMPm5Mxv goAm8ITCNRECyvY7p3MRpZoIZCQn3GYGgOBAv84OOLlqH2oUewcl6iHrr0QYfT1m9RZ5 sMTfZpB+o/bqzkWWNdCKQ3IUfxYGNI28/RHpYfXRIbXvi0HwaT2msdoQ4oQcOSfw75rK yQYQ== X-Gm-Message-State: AOJu0YwtcqxjI6f3VJuuoOaQ7deqOPZ2scE54Lf4H703fMYy2dWDfXCk Z1FvgoHVK7tTQDOOsQBxKWIZ6u2SFftNOQPVHoNv4ZfrvIVytGMvrsuR46faBTnEIPejRRi8mS1 lZGyE3qgb6xoUEGIl6djxXqaDZ0tzxkhJxTmA X-Gm-Gg: ASbGnctsUx0pZA3moc0LBm1JaA8YFmVZP8p+h7jCsz3+x1uyCugZ04oWl83oF1vp0CG FLzreG7lOftHPLIu8Owpf2K4Ak2+VdxEShjCi59ptBGM1pZxrFI7hxH8c05cifM6W4i64OMX+p2 JRtzyCKkPvLNY12dkmsWYsb8sK8GYQ2s0KbkrLBh+eJSE+1WqMgYUqQW6OYnN+vfffOZ7P0A+wO 8ktZE4Qmik7Q0fYsPxd63WmMFTSoXpO5AzV2g5Q27EmUormO2ebmodJDuBDMDZl56vrlcCc2C4h sVYSaiRMEO6Kwp8vP08CCHWhGPoZ+NoVQX8bKPD5Us6JDVeO+dAqB+n7zzkgowJoDEogS3FeLOO drkL+/anLJWdRAUT5/VxFpw+u7+Ol5m9kS9Hwv/n/Eg== X-Google-Smtp-Source: AGHT+IGiYdRpvWCXA1KnuO9rS0x5Y/82mJYUQ30IvIY6GdT1HOVF59JEV+olCLEcwvkjLSU2rOhgINFzj9bA X-Received: by 2002:a05:690e:c4f:b0:63f:a3d8:1b24 with SMTP id 956f58d0204a3-643029709b7mr2255837d50.0.1763749874534; Fri, 21 Nov 2025 10:31:14 -0800 (PST) Received: from postal.iol.unh.edu (postal.iol.unh.edu. [132.177.123.84]) by smtp-relay.gmail.com with ESMTPS id 00721157ae682-78a799359b3sm4559297b3.25.2025.11.21.10.31.14 (version=TLS1_2 cipher=ECDHE-ECDSA-AES128-GCM-SHA256 bits=128/128); Fri, 21 Nov 2025 10:31:14 -0800 (PST) X-Relaying-Domain: iol.unh.edu Date: Fri, 21 Nov 2025 10:31:14 -0800 (PST) Message-ID: <6920aff2.050a0220.325e76.6f47SMTPIN_ADDED_MISSING@mx.google.com> Received: from [172.21.0.2] (unknown [172.18.0.240]) by postal.iol.unh.edu (Postfix) with ESMTP id 2F17A604D420; Fri, 21 Nov 2025 13:31:14 -0500 (EST) Subject: |SUCCESS| pw158814 [PATCH] net/bnxt: remove unbuilt source files From: dpdklab@iol.unh.edu To: Test Report Cc: dpdk-test-reports@iol.unh.edu, Ajit Khaparde In-Reply-To: <20251114175112.1103784-1-stephen@networkplumber.org> References: <20251114175112.1103784-1-stephen@networkplumber.org> Content-Type: text/plain X-BeenThere: test-report@dpdk.org X-Mailman-Version: 2.1.29 Precedence: list List-Id: automatic DPDK test reports List-Unsubscribe: , List-Archive: List-Post: List-Help: List-Subscribe: , Errors-To: test-report-bounces@dpdk.org Test-Label: iol-unit-amd64-testing Test-Status: SUCCESS http://dpdk.org/patch/158814 _Testing PASS_ Submitter: Stephen Hemminger Date: Friday, November 14 2025 17:51:12 DPDK git baseline: Repo:dpdk-next-net-brcm Branch: master CommitID:bfb6c9fbcbaada197af422b704cf71b777f85fff 158814 --> testing pass Upstream job id: Generic-Unit-Test-DPDK#394936 Test environment and result as below: +-------------------------------+----------------+ | Environment | dpdk_unit_test | +===============================+================+ | Fedora Linux 41 | PASS | +-------------------------------+----------------+ | CentOS Stream 10 | PASS | +-------------------------------+----------------+ | Red Hat Enterprise Linux 9.5 | PASS | +-------------------------------+----------------+ | Fedora Linux 40 | PASS | +-------------------------------+----------------+ | Fedora Linux 42 | PASS | +-------------------------------+----------------+ | CentOS Stream 9 | PASS | +-------------------------------+----------------+ | Debian GNU/Linux 12 | PASS | +-------------------------------+----------------+ | Ubuntu 24.04 | PASS | +-------------------------------+----------------+ | Red Hat Enterprise Linux 8.10 | PASS | +-------------------------------+----------------+ | Ubuntu 22.04 | PASS | +-------------------------------+----------------+ | Ubuntu 20.04 | PASS | +-------------------------------+----------------+ | Windows Server 2022 | PASS | +-------------------------------+----------------+ Fedora Linux 41 Kernel: 5.15 Compiler: gcc gcc (GCC) 14.3.1 20250523 (Red Hat 14.3.1-1) CentOS Stream 10 Kernel: 5.15 Compiler: gcc gcc (GCC) 14.2.1 20250110 (Red Hat 14.2.1-8) Red Hat Enterprise Linux 9.5 Kernel: 5.15 Compiler: gcc gcc (GCC) 11.5.0 20240719 (Red Hat 11.5.0-2) Fedora Linux 40 Kernel: 5.15 Compiler: gcc gcc (GCC) 14.2.1 20240912 (Red Hat 14.2.1-3) Fedora Linux 42 Kernel: 5.15 Compiler: gcc gcc (GCC) 15.2.1 20250808 (Red Hat 15.2.1-1) CentOS Stream 9 Kernel: 5.15 Compiler: gcc gcc (GCC) 11.5.0 20240719 (Red Hat 11.5.0-11) Debian GNU/Linux 12 Kernel: 5.15 Compiler: gcc gcc (Debian 12.2.0-14+deb12u1) 12.2.0 Ubuntu 24.04 Kernel: 5.15 Compiler: gcc gcc (Ubuntu 13.3.0-6ubuntu2~24.04) 13.3.0 Red Hat Enterprise Linux 8.10 Kernel: 5.15 Compiler: gcc gcc (GCC) 8.5.0 20210514 (Red Hat 8.5.0-22) Ubuntu 22.04 Kernel: 5.15 Compiler: gcc gcc (Ubuntu 11.4.0-1ubuntu1~22.04) 11.4.0 Ubuntu 20.04 Kernel: 5.15 Compiler: gcc gcc (Ubuntu 9.4.0-1ubuntu1~20.04.2) 9.4.0 Windows Server 2022 Kernel: 10.0.20348.2031 Compiler: clang 15.0.7, gcc 14.1.0 (MinGW), and MSVC VS 19.39.33521 To view detailed results, visit: https://lab.dpdk.org/results/dashboard/patchsets/34596/ UNH-IOL DPDK Community Lab To manage your email subscriptions, visit: https://lab.dpdk.org/results/dashboard/preferences/subscriptions/