From mboxrd@z Thu Jan 1 00:00:00 1970 Return-Path: Received: from mails.dpdk.org (mails.dpdk.org [217.70.189.124]) by inbox.dpdk.org (Postfix) with ESMTP id CA6B548B6C for ; Fri, 21 Nov 2025 19:38:22 +0100 (CET) Received: from mails.dpdk.org (localhost [127.0.0.1]) by mails.dpdk.org (Postfix) with ESMTP id AAD2140269; Fri, 21 Nov 2025 19:38:22 +0100 (CET) Received: from mail-il1-f225.google.com (mail-il1-f225.google.com [209.85.166.225]) by mails.dpdk.org (Postfix) with ESMTP id 638DD40269 for ; Fri, 21 Nov 2025 19:38:21 +0100 (CET) Received: by mail-il1-f225.google.com with SMTP id e9e14a558f8ab-43376624a8fso11645305ab.0 for ; Fri, 21 Nov 2025 10:38:21 -0800 (PST) DKIM-Signature: v=1; a=rsa-sha256; c=relaxed/relaxed; d=iol.unh.edu; s=unh-iol; t=1763750300; x=1764355100; darn=dpdk.org; h=references:in-reply-to:cc:to:from:subject:message-id:date:from:to :cc:subject:date:message-id:reply-to; bh=X9nrGALGiySBfH8SVZ28sN7WJK8Zyqf+5PuRd7hWjXw=; b=KIbNkLE5gmmeiudbsDJJZ1tnzKE7oT6Va6kwigeN1qJD7iJ8qf0T6eaTE+HhtioWhX h9OWZPKH4W/Cj/XLQdxM2P1UKgvOQ5ylI0We8cboPkTs4IJraE+NVsgJSp4rTaGqeIK6 JTAlszLhReirXbu15XdnMsnFsjo2LmkZH5spY= X-Google-DKIM-Signature: v=1; a=rsa-sha256; c=relaxed/relaxed; d=1e100.net; s=20230601; t=1763750300; x=1764355100; h=references:in-reply-to:cc:to:from:subject:message-id:date:x-gm-gg :x-gm-message-state:from:to:cc:subject:date:message-id:reply-to; bh=X9nrGALGiySBfH8SVZ28sN7WJK8Zyqf+5PuRd7hWjXw=; b=QiTYC1t9oNyUeYgWUzEboOvA383DfuKTWEBCb9YyolH6bru4rmrvxsP7KN3XKP2dbd 8jUd5lEQN1c9n35SEuQPMIGFj4hKpoRVKWGpJW/AUEpq/OKlEX4hQzOCPetpkPsxWxAp 6Op1wi5zeRqqpjkLHGN5YFRavfBmzZcVjA5pQnf9TO9ZCSSOxJQb3FCsfGZJ4cc/hud0 5E100IhbLj4MBNUqNWZJi2oSVBVkHUQhe9MyxMfQ12LidGwUEZQe4wDfh7tnq4jY2Y/p P3tLqwemlNvLD+gP6ImVE04D23CMcSkQkmuM+yUSXnzwumbCJtI1RTz1giJVoTE/UGoN 8PWw== X-Gm-Message-State: AOJu0Yzk2BUKnFA7ryIOd9Cvo8HZ6EWMi90/xMKa7pgqSTIHJaaOzloR zU5N6b0p3yD58vwpTtg3D8GXyE2ONRrN4omVRPEwft0fqy9w4tj3ouZ/KJZ51cTarkKgBmdShMw pxxJ5C18UVoRpP8oH0RWvlCoj23WILP9ybK64 X-Gm-Gg: ASbGnctZsEVaIzC2Q+KgaA2S3ffgTnKsDWpvTzmb3ViF2wWxQONnH4whzfvkc6UdOht nbS7wTNQPIwmXj5No0r7IoXCz3NJP0GS1n74scCV7qPfsrfLnRxE6oTXi9vgCVEAsvwXoyceoLj OqycRjAUlpO4bUCeu0vQwwhYOoKwTYFCRz7jmfQCl/Q6JRANhiINgNBhQPzudIlo5Flfm+5/uHY j25YcmOZgc82e/szWvNIyIxSqa3i1Lm9GA4mlCQrfnkWzAqJiLarytlwqX/K1pXdJ6MKP0hAkqc OB879A/SYVs7s68+qpBwqOfURDdxgAXHaVHFgyZv0FJImNbGHjKzfLkCymKD4g3L8kteWNlMb5o sUpouigNXc1uq2AY+BpqqyuBk8L0jtTsX1xOZ3V5O8g== X-Google-Smtp-Source: AGHT+IHEVTeo4AHsyJXSD4L3UvPAkvXJmGMCJo3h4wFYHsPV65jEwsHUqJrdh3KkOq6tpKdJIkDh+oI4A4nH X-Received: by 2002:a92:c244:0:b0:434:96ea:ff69 with SMTP id e9e14a558f8ab-435b8e6f2c9mr29392785ab.34.1763750300487; Fri, 21 Nov 2025 10:38:20 -0800 (PST) Received: from postal.iol.unh.edu (postal.iol.unh.edu. [132.177.123.84]) by smtp-relay.gmail.com with ESMTPS id e9e14a558f8ab-435a909aad7sm5618265ab.17.2025.11.21.10.38.20 (version=TLS1_2 cipher=ECDHE-ECDSA-AES128-GCM-SHA256 bits=128/128); Fri, 21 Nov 2025 10:38:20 -0800 (PST) X-Relaying-Domain: iol.unh.edu Date: Fri, 21 Nov 2025 10:38:20 -0800 (PST) Message-ID: <6920b19c.050a0220.1f4ef6.c813SMTPIN_ADDED_MISSING@mx.google.com> Received: from [172.21.0.2] (unknown [172.18.0.240]) by postal.iol.unh.edu (Postfix) with ESMTP id 02A06604D420; Fri, 21 Nov 2025 13:38:20 -0500 (EST) Subject: |SUCCESS| pw158814 [PATCH] net/bnxt: remove unbuilt source files From: dpdklab@iol.unh.edu To: Test Report Cc: dpdk-test-reports@iol.unh.edu, Ajit Khaparde In-Reply-To: <20251114175112.1103784-1-stephen@networkplumber.org> References: <20251114175112.1103784-1-stephen@networkplumber.org> Content-Type: text/plain X-BeenThere: test-report@dpdk.org X-Mailman-Version: 2.1.29 Precedence: list List-Id: automatic DPDK test reports List-Unsubscribe: , List-Archive: List-Post: List-Help: List-Subscribe: , Errors-To: test-report-bounces@dpdk.org Test-Label: iol-compile-amd64-testing Test-Status: SUCCESS http://dpdk.org/patch/158814 _Testing PASS_ Submitter: Stephen Hemminger Date: Friday, November 14 2025 17:51:12 DPDK git baseline: Repo:dpdk-next-net-brcm Branch: master CommitID:bfb6c9fbcbaada197af422b704cf71b777f85fff 158814 --> testing pass Upstream job id: Generic-DPDK-Compile-Meson#446517 Test environment and result as below: +-------------------------------+--------------------+------------------+-------------------+-------------------------+----------------------+ | Environment | dpdk_meson_compile | dpdk_compile_ovs | dpdk_msvc_compile | dpdk_llvm_clang_compile | dpdk_mingw64_compile | +===============================+====================+==================+===================+=========================+======================+ | CentOS Stream 10 | PASS | SKIPPED | SKIPPED | SKIPPED | SKIPPED | +-------------------------------+--------------------+------------------+-------------------+-------------------------+----------------------+ | Ubuntu 20.04 | PASS | SKIPPED | SKIPPED | SKIPPED | SKIPPED | +-------------------------------+--------------------+------------------+-------------------+-------------------------+----------------------+ | FreeBSD 14.2 | PASS | SKIPPED | SKIPPED | SKIPPED | SKIPPED | +-------------------------------+--------------------+------------------+-------------------+-------------------------+----------------------+ | Ubuntu 22.04 | PASS | SKIPPED | SKIPPED | SKIPPED | SKIPPED | +-------------------------------+--------------------+------------------+-------------------+-------------------------+----------------------+ | Debian GNU/Linux 12 | PASS | SKIPPED | SKIPPED | SKIPPED | SKIPPED | +-------------------------------+--------------------+------------------+-------------------+-------------------------+----------------------+ | CentOS Stream 9 | PASS | SKIPPED | SKIPPED | SKIPPED | SKIPPED | +-------------------------------+--------------------+------------------+-------------------+-------------------------+----------------------+ | Fedora Linux 42 | PASS | PASS | SKIPPED | SKIPPED | SKIPPED | +-------------------------------+--------------------+------------------+-------------------+-------------------------+----------------------+ | Red Hat Enterprise Linux 8.10 | PASS | SKIPPED | SKIPPED | SKIPPED | SKIPPED | +-------------------------------+--------------------+------------------+-------------------+-------------------------+----------------------+ | Red Hat Enterprise Linux 9.5 | PASS | SKIPPED | SKIPPED | SKIPPED | SKIPPED | +-------------------------------+--------------------+------------------+-------------------+-------------------------+----------------------+ | openSUSE Leap 15.6 | PASS | SKIPPED | SKIPPED | SKIPPED | SKIPPED | +-------------------------------+--------------------+------------------+-------------------+-------------------------+----------------------+ | Ubuntu 24.04 | PASS | PASS | SKIPPED | SKIPPED | SKIPPED | +-------------------------------+--------------------+------------------+-------------------+-------------------------+----------------------+ | Alpine Linux 3.22.0 | PASS | SKIPPED | SKIPPED | SKIPPED | SKIPPED | +-------------------------------+--------------------+------------------+-------------------+-------------------------+----------------------+ | Windows Server 2022 | SKIPPED | SKIPPED | PASS | SKIPPED | PASS | +-------------------------------+--------------------+------------------+-------------------+-------------------------+----------------------+ | Windows Server 2025 | SKIPPED | SKIPPED | SKIPPED | PASS | SKIPPED | +-------------------------------+--------------------+------------------+-------------------+-------------------------+----------------------+ CentOS Stream 10 Kernel: 5.15 Compiler: gcc gcc (GCC) 14.2.1 20250110 (Red Hat 14.2.1-8) Ubuntu 20.04 Kernel: 4.19 Compiler: gcc gcc (Ubuntu 9.4.0-1ubuntu1~20.04.2) 9.4.0 FreeBSD 14.2 Kernel: 14.2-RELEASE Compiler: clang 18.1.6 Ubuntu 22.04 Kernel: 5.15 Compiler: gcc gcc (Ubuntu 11.4.0-1ubuntu1~22.04) 11.4.0 Debian GNU/Linux 12 Kernel: 5.15 Compiler: gcc gcc (Debian 12.2.0-14+deb12u1) 12.2.0 CentOS Stream 9 Kernel: 5.15 Compiler: gcc gcc (GCC) 11.5.0 20240719 (Red Hat 11.5.0-11) Fedora Linux 42 Kernel: 5.15 Compiler: gcc gcc (GCC) 15.2.1 20250808 (Red Hat 15.2.1-1) Red Hat Enterprise Linux 8.10 Kernel: 5.15 Compiler: gcc gcc (GCC) 8.5.0 20210514 (Red Hat 8.5.0-22) Red Hat Enterprise Linux 9.5 Kernel: 5.15 Compiler: gcc gcc (GCC) 11.5.0 20240719 (Red Hat 11.5.0-2) openSUSE Leap 15.6 Kernel: 5.15 Compiler: gcc gcc (SUSE Linux) 7.5.0 Ubuntu 24.04 Kernel: 5.15 Compiler: gcc gcc (Ubuntu 13.3.0-6ubuntu2~24.04) 13.3.0 Alpine Linux 3.22.0 Kernel: 5.15 Compiler: gcc gcc (Alpine 14.2.0) 14.2.0 Windows Server 2022 Kernel: 10.0.20348.2031 Compiler: clang 15.0.7, gcc 14.1.0 (MinGW), and MSVC VS 19.39.33521 Windows Server 2025 Kernel: 10.0.26100 Compiler: clang 15.0.7, gcc 14.1.0 (MinGW), and MSVC VS 19.39.33521 To view detailed results, visit: https://lab.dpdk.org/results/dashboard/patchsets/34596/ UNH-IOL DPDK Community Lab To manage your email subscriptions, visit: https://lab.dpdk.org/results/dashboard/preferences/subscriptions/