From mboxrd@z Thu Jan 1 00:00:00 1970 Return-Path: Received: from mails.dpdk.org (mails.dpdk.org [217.70.189.124]) by inbox.dpdk.org (Postfix) with ESMTP id D17B548B6D for ; Fri, 21 Nov 2025 20:14:27 +0100 (CET) Received: from mails.dpdk.org (localhost [127.0.0.1]) by mails.dpdk.org (Postfix) with ESMTP id AB0B340269; Fri, 21 Nov 2025 20:14:27 +0100 (CET) Received: from mail-ot1-f99.google.com (mail-ot1-f99.google.com [209.85.210.99]) by mails.dpdk.org (Postfix) with ESMTP id 2C34A40269 for ; Fri, 21 Nov 2025 20:14:26 +0100 (CET) Received: by mail-ot1-f99.google.com with SMTP id 46e09a7af769-7c75a5cb752so1384376a34.2 for ; Fri, 21 Nov 2025 11:14:26 -0800 (PST) DKIM-Signature: v=1; a=rsa-sha256; c=relaxed/relaxed; d=iol.unh.edu; s=unh-iol; t=1763752465; x=1764357265; darn=dpdk.org; h=references:in-reply-to:cc:to:from:subject:message-id:date:from:to :cc:subject:date:message-id:reply-to; bh=D3e/VM/q6z5Sotg7dB15zZnYC26thhXC4fVaHkXrkGY=; b=PicV8nF1w0ftBDBhjqLfiGBbq5QIHE7KPk4Ifk2LHggZKZ98MEUVqdil2LtaIZCF8X ztYWo/TltzdH28KOk05Vzt0nhf94GlJBoGhm9jDr7QJuJ9VfUZmd4yofNghgPlgw2ESb xJgHxK6IyO+grjE8bsXNqzeatU7PSuwjSoOMs= X-Google-DKIM-Signature: v=1; a=rsa-sha256; c=relaxed/relaxed; d=1e100.net; s=20230601; t=1763752465; x=1764357265; h=references:in-reply-to:cc:to:from:subject:message-id:date:x-gm-gg :x-gm-message-state:from:to:cc:subject:date:message-id:reply-to; bh=D3e/VM/q6z5Sotg7dB15zZnYC26thhXC4fVaHkXrkGY=; b=Jii9RV3aSmBs2Bx9DF/flr1LIrE9fAmHQFFOksSx7zvyew5D2jEM0ZQKcp10i4OdAg upKSlxeB8MKrFAI9cGuUHZV6eKWx4QJmWM+GmPoGkMqxcFBC4guKrlcLkFVWp3XBkT9N 5W6IQWalCrC16DtdfK8mzjakoma20PJIVK2b+rfj6Nla/uksHIvnL59P1f2tfrHidrDk eIPnGIcnolzJnd+iPsnViJ5U8KVClLn+ymcsnJEbwpYuom4HzC42fswAN6d0wt6uAWhC TJDyABWEDlL4hzholxQLhYpvA7wJwk8KSH7t32HghzXxSQY65jyqU2OQbhZLxFa3Jsaf WrbQ== X-Gm-Message-State: AOJu0YxMzHPwWyxwN+h8cyhLL1Q3FA4Y6yv5cBeAt0iWvRwJm4mBIRq8 xY7hbCVmaUMza+0BOZVOqUv2dWPdrjNBmJkeoiGkEFcBqjQQYm//cr1u0Ra/CpiePWQutnn+YT5 S9hyosJGCcVPrM7vNPAOBZQQUmfGtN6sNc4pSycYV2lxn X-Gm-Gg: ASbGncuMhQ5qKKqEdmLvXaPZCtqbbBiLCPbBhhhmfyUFhxwlq42cmJlktiuZRjZkNmL ST1EHw1mVFdrBxYlWOJyoq+uTAaBDkINbwb6eQAsxjCBKpUc0bgPowycCLbrFxCAbNtAFPWBqwb 9JBu+C3g4ttHUe6lTC50LKyQar1CRtEF5p+ebYHUzR+7c6+B2HHgxJDWr7oqecS5G8Xk8yEqw/v E5Fjgvj8i3f7bf+Jl6Vvper3U6xtOl2PdFsDGWQhVsBqCshpigPERWaUbndA3QVM14F13akFCjI 6c/F/b44Sd0EcpzIty3yri3zQT+aR53w2/h4ib0XXIDLt2AUSmEumwi4zZr3wlU8xX/+L3dHI5F grKvb7Ppg+4C+TLuvOeOQQ0MQQaunPiewFvb7iut2ag== X-Google-Smtp-Source: AGHT+IHA41FM7gks3ruqyWTqOrSmAKdcoUKcZVVIieTSWPOdDWK3knE2UOLj3BqeGQesWD5YU6QyLkbOMcQl X-Received: by 2002:a05:6830:6768:b0:7c7:52a4:a509 with SMTP id 46e09a7af769-7c798cf3f42mr1319420a34.29.1763752465199; Fri, 21 Nov 2025 11:14:25 -0800 (PST) Received: from postal.iol.unh.edu (postal.iol.unh.edu. [132.177.123.84]) by smtp-relay.gmail.com with ESMTPS id 46e09a7af769-7c78d22f9a4sm709396a34.0.2025.11.21.11.14.25 (version=TLS1_2 cipher=ECDHE-ECDSA-AES128-GCM-SHA256 bits=128/128); Fri, 21 Nov 2025 11:14:25 -0800 (PST) X-Relaying-Domain: iol.unh.edu Date: Fri, 21 Nov 2025 11:14:25 -0800 (PST) Message-ID: <6920ba11.050a0220.28a8f6.2ea3SMTPIN_ADDED_MISSING@mx.google.com> Received: from [172.21.0.2] (unknown [172.18.0.240]) by postal.iol.unh.edu (Postfix) with ESMTP id ADB556050A61; Fri, 21 Nov 2025 14:14:24 -0500 (EST) Subject: |SUCCESS| pw158792-158793 [PATCH] [v5,2/2] dts: add QinQ test suite From: dpdklab@iol.unh.edu To: Test Report Cc: dpdk-test-reports@iol.unh.edu In-Reply-To: <20251114164003.327455-2-dmarx@iol.unh.edu> References: <20251114164003.327455-2-dmarx@iol.unh.edu> Content-Type: text/plain X-BeenThere: test-report@dpdk.org X-Mailman-Version: 2.1.29 Precedence: list List-Id: automatic DPDK test reports List-Unsubscribe: , List-Archive: List-Post: List-Help: List-Subscribe: , Errors-To: test-report-bounces@dpdk.org Test-Label: iol-unit-amd64-testing Test-Status: SUCCESS http://dpdk.org/patch/158793 _Testing PASS_ Submitter: Dean Marx Date: Friday, November 14 2025 16:40:03 DPDK git baseline: Repo:dpdk-next-dts Branch: master CommitID:53e368696fe13360483caeb8a2ec66827e295bec 158792-158793 --> testing pass Upstream job id: Generic-VM-Unit-Test-DPDK#32730 Test environment and result as below: +-------------------------------+----------------+ | Environment | dpdk_unit_test | +===============================+================+ | Fedora Linux 41 | PASS | +-------------------------------+----------------+ | Fedora Linux 42 | PASS | +-------------------------------+----------------+ | CentOS Stream 9 | PASS | +-------------------------------+----------------+ | Debian GNU/Linux 12 | PASS | +-------------------------------+----------------+ | Ubuntu 24.04 | PASS | +-------------------------------+----------------+ | CentOS Stream 10 | PASS | +-------------------------------+----------------+ | Fedora Linux 40 | PASS | +-------------------------------+----------------+ | Red Hat Enterprise Linux 9.5 | PASS | +-------------------------------+----------------+ | Red Hat Enterprise Linux 8.10 | PASS | +-------------------------------+----------------+ | Ubuntu 20.04 | PASS | +-------------------------------+----------------+ | Ubuntu 22.04 | PASS | +-------------------------------+----------------+ | Windows Server 2022 | PASS | +-------------------------------+----------------+ Fedora Linux 41 Kernel: 5.15 Compiler: clang gcc (GCC) 14.3.1 20250523 (Red Hat 14.3.1-1) Fedora Linux 42 Kernel: 5.15 Compiler: gcc gcc (GCC) 15.2.1 20250808 (Red Hat 15.2.1-1) CentOS Stream 9 Kernel: 5.15 Compiler: gcc gcc (GCC) 11.5.0 20240719 (Red Hat 11.5.0-11) Debian GNU/Linux 12 Kernel: 5.15 Compiler: gcc gcc (Debian 12.2.0-14+deb12u1) 12.2.0 Ubuntu 24.04 Kernel: 5.15 Compiler: gcc gcc (Ubuntu 13.3.0-6ubuntu2~24.04) 13.3.0 CentOS Stream 10 Kernel: 5.15 Compiler: gcc gcc (GCC) 14.2.1 20250110 (Red Hat 14.2.1-8) Fedora Linux 40 Kernel: 5.15 Compiler: gcc gcc (GCC) 14.2.1 20240912 (Red Hat 14.2.1-3) Red Hat Enterprise Linux 9.5 Kernel: 5.15 Compiler: gcc gcc (GCC) 11.5.0 20240719 (Red Hat 11.5.0-2) Red Hat Enterprise Linux 8.10 Kernel: 5.15 Compiler: gcc gcc (GCC) 8.5.0 20210514 (Red Hat 8.5.0-22) Ubuntu 20.04 Kernel: 5.15 Compiler: gcc gcc (Ubuntu 9.4.0-1ubuntu1~20.04.2) 9.4.0 Ubuntu 22.04 Kernel: 5.15 Compiler: gcc gcc (Ubuntu 11.4.0-1ubuntu1~22.04) 11.4.0 Windows Server 2022 Kernel: 10.0.20348.2031 Compiler: clang 15.0.7, gcc 14.1.0 (MinGW), and MSVC VS 19.39.33521 To view detailed results, visit: https://lab.dpdk.org/results/dashboard/patchsets/34594/ UNH-IOL DPDK Community Lab To manage your email subscriptions, visit: https://lab.dpdk.org/results/dashboard/preferences/subscriptions/