From mboxrd@z Thu Jan 1 00:00:00 1970 Return-Path: Received: from mails.dpdk.org (mails.dpdk.org [217.70.189.124]) by inbox.dpdk.org (Postfix) with ESMTP id 4B9E448B6D for ; Fri, 21 Nov 2025 20:19:10 +0100 (CET) Received: from mails.dpdk.org (localhost [127.0.0.1]) by mails.dpdk.org (Postfix) with ESMTP id 19CEA40269; Fri, 21 Nov 2025 20:19:10 +0100 (CET) Received: from mail-ua1-f98.google.com (mail-ua1-f98.google.com [209.85.222.98]) by mails.dpdk.org (Postfix) with ESMTP id 7453740269 for ; Fri, 21 Nov 2025 20:19:08 +0100 (CET) Received: by mail-ua1-f98.google.com with SMTP id a1e0cc1a2514c-9372634aca2so750936241.2 for ; Fri, 21 Nov 2025 11:19:08 -0800 (PST) DKIM-Signature: v=1; a=rsa-sha256; c=relaxed/relaxed; d=iol.unh.edu; s=unh-iol; t=1763752748; x=1764357548; darn=dpdk.org; h=references:in-reply-to:cc:to:from:subject:message-id:date:from:to :cc:subject:date:message-id:reply-to; bh=s6l1BK6gLqiojX+Pt8dLLEkee+aLC7sHu8RymR/l64A=; b=N3HJ9f4hM0/aOZL4oBKP186ddpEBIbe8wnQD4NZ22K2zm/EXtSljhAMiJcFgqIxEmv gQRUWBgpZfOxzA+S8bB5u1OBYUH6mf0TXAdAczGQCEY4k/Ro+S+hswxJkvpLbrv1GaQL ajNYKImqtRLmGF9sWILVRn0mKnjlkKIangxB8= X-Google-DKIM-Signature: v=1; a=rsa-sha256; c=relaxed/relaxed; d=1e100.net; s=20230601; t=1763752748; x=1764357548; h=references:in-reply-to:cc:to:from:subject:message-id:date:x-gm-gg :x-gm-message-state:from:to:cc:subject:date:message-id:reply-to; bh=s6l1BK6gLqiojX+Pt8dLLEkee+aLC7sHu8RymR/l64A=; b=Pwb6WJrLQWpY+l5eYsL5BDtSJE32350x7dxMwG1+KWLRFvl4t+OXM9iJ0xfD053v5a 0PFyhKKNd1Nlv/FIihl9KZjfy+NJB240L9Y5fTUxdmRTCv1uzyVYUpVJwvlvxNNwzmYo yDwXenNj3KF86S/UQPasqfBAdmXq6h4hxqnQjmvl6Q13AbwurS1QkK8AzDjIA/xiCsJM +TM4KOWkseZ8viBOi1q+1pbLoMq6k2i4zvnlR968U92zZ7fZBGKG96wV0fh5NKxIA3CJ 7BJ4zMoY5us1lQqOKFNt/yeN9Fb0WvFB3A3A9oV3vWPx/kS+4TgZkkQhFhW1bPvP2Y+J F6Hw== X-Gm-Message-State: AOJu0Yx0D4PLtGVLHVVmJqVu4dVSDgICnxFzMcbK0qRlRvl26fWAntlo 4rzfKfQPC+aQN5X88sZbo0UYD/Pxd48NcUQB68rZvfXb/G9KF0ORDvLCV/Q6aGR+PCfrr6snYpI 2GZiWEGEJRdJBzkX3yoSlMqgjFVTR9EFH4MZu X-Gm-Gg: ASbGncspnTcSz5bJ3DIgv98h2brnPUBu9DDWhhxQzJ83U36RdS2IgsKmXyWSk6CEpUX i0binbuCN/8KJvQ13v4uxoMAoJJz7NjX70bE/3gSK4iOCiln4mwL9xp+gQjIYEiOZtSEdIS9paF B7yY2oAtSRrJDBh1uIdk9FbftviB3vJu5ZMFkAU8vggMg8nR2uO5/9GvtlZWiG/IYua8XU7iJu2 a2T85QQybs+MNJpf7CSe4PdWEaZ6otI8+PDMlgjVB0+e7ztYMbA9dE7mA1Ttu4Wy6iVXVdn7nBm 52koMQihouzXIf1M1uRZj+FWsy3gOu9AGDjeG837DTS5oQSHT6k3Wg1YDeWmmmQY2migsc/svP/ Zh56EkUo0T8GvOAwsXn0UVGiMaM7GOy7YF/u46TFx0A== X-Google-Smtp-Source: AGHT+IH7XQLxf2Yz2qQ6dDYmZhVBSg0M/6xRUkV/ThxNxktMo8THA8ZK95eXMoQ7iqAtJE08imXkPf1Hilk7 X-Received: by 2002:a05:6102:94d:b0:5dd:840f:a449 with SMTP id ada2fe7eead31-5e1de1616a7mr1123515137.14.1763752747659; Fri, 21 Nov 2025 11:19:07 -0800 (PST) Received: from postal.iol.unh.edu (postal.iol.unh.edu. [132.177.123.84]) by smtp-relay.gmail.com with ESMTPS id 71dfb90a1353d-55b7f7dcae2sm654502e0c.4.2025.11.21.11.19.07 (version=TLS1_2 cipher=ECDHE-ECDSA-AES128-GCM-SHA256 bits=128/128); Fri, 21 Nov 2025 11:19:07 -0800 (PST) X-Relaying-Domain: iol.unh.edu Date: Fri, 21 Nov 2025 11:19:07 -0800 (PST) Message-ID: <6920bb2b.050a0220.b03df.1dafSMTPIN_ADDED_MISSING@mx.google.com> Received: from [172.21.0.3] (unknown [172.18.0.240]) by postal.iol.unh.edu (Postfix) with ESMTP id 336866050A61; Fri, 21 Nov 2025 14:19:07 -0500 (EST) Subject: |SUCCESS| pw158817 [PATCH] net/bnxt: fix unintialized warning From: dpdklab@iol.unh.edu To: Test Report Cc: dpdk-test-reports@iol.unh.edu, Ajit Khaparde In-Reply-To: <20251114185240.1363648-1-stephen@networkplumber.org> References: <20251114185240.1363648-1-stephen@networkplumber.org> Content-Type: text/plain X-BeenThere: test-report@dpdk.org X-Mailman-Version: 2.1.29 Precedence: list List-Id: automatic DPDK test reports List-Unsubscribe: , List-Archive: List-Post: List-Help: List-Subscribe: , Errors-To: test-report-bounces@dpdk.org Test-Label: iol-unit-arm64-testing Test-Status: SUCCESS http://dpdk.org/patch/158817 _Testing PASS_ Submitter: Stephen Hemminger Date: Friday, November 14 2025 18:52:40 DPDK git baseline: Repo:dpdk-next-net-brcm Branch: master CommitID:bfb6c9fbcbaada197af422b704cf71b777f85fff 158817 --> testing pass Upstream job id: Generic-Unit-Test-DPDK#394908 Test environment and result as below: +------------------------------+----------------+---------------------------+--------------+------------------------------+ | Environment | dpdk_unit_test | cryptodev_sw_zuc_autotest | lpm_autotest | cryptodev_sw_snow3g_autotest | +==============================+================+===========================+==============+==============================+ | Fedora Linux 41 | PASS | SKIPPED | SKIPPED | SKIPPED | +------------------------------+----------------+---------------------------+--------------+------------------------------+ | Fedora Linux 40 | PASS | SKIPPED | SKIPPED | SKIPPED | +------------------------------+----------------+---------------------------+--------------+------------------------------+ | CentOS Stream 9 | PASS | SKIPPED | SKIPPED | SKIPPED | +------------------------------+----------------+---------------------------+--------------+------------------------------+ | Ubuntu 24.04 | PASS | SKIPPED | SKIPPED | SKIPPED | +------------------------------+----------------+---------------------------+--------------+------------------------------+ | Red Hat Enterprise Linux 9.5 | PASS | SKIPPED | SKIPPED | SKIPPED | +------------------------------+----------------+---------------------------+--------------+------------------------------+ | Fedora Linux 42 | PASS | SKIPPED | SKIPPED | SKIPPED | +------------------------------+----------------+---------------------------+--------------+------------------------------+ | Ubuntu 22.04 | PASS | SKIPPED | SKIPPED | SKIPPED | +------------------------------+----------------+---------------------------+--------------+------------------------------+ | Ubuntu 20.04 | PASS | SKIPPED | PASS | SKIPPED | +------------------------------+----------------+---------------------------+--------------+------------------------------+ | Debian GNU/Linux 12 | PASS | SKIPPED | SKIPPED | SKIPPED | +------------------------------+----------------+---------------------------+--------------+------------------------------+ | CentOS Stream 10 | PASS | SKIPPED | SKIPPED | SKIPPED | +------------------------------+----------------+---------------------------+--------------+------------------------------+ | Debian 12 (arm) | SKIPPED | PASS | SKIPPED | PASS | +------------------------------+----------------+---------------------------+--------------+------------------------------+ Fedora Linux 41 Kernel: 5.4 Compiler: gcc gcc (GCC) 14.3.1 20250523 (Red Hat 14.3.1-1) Fedora Linux 40 Kernel: 5.4 Compiler: gcc gcc (GCC) 14.2.1 20240912 (Red Hat 14.2.1-3) CentOS Stream 9 Kernel: 5.4 Compiler: gcc gcc (GCC) 11.5.0 20240719 (Red Hat 11.5.0-11) Ubuntu 24.04 Kernel: 5.4 Compiler: gcc gcc (Ubuntu 13.3.0-6ubuntu2~24.04) 13.3.0 Red Hat Enterprise Linux 9.5 Kernel: 5.4 Compiler: gcc gcc (GCC) 11.5.0 20240719 (Red Hat 11.5.0-2) Fedora Linux 42 Kernel: 5.4 Compiler: clang gcc (GCC) 15.2.1 20250808 (Red Hat 15.2.1-1) Ubuntu 22.04 Kernel: 5.4 Compiler: gcc gcc (Ubuntu 11.4.0-1ubuntu1~22.04) 11.4.0 Ubuntu 20.04 Kernel: 5.4 Compiler: gcc gcc (Ubuntu 9.4.0-1ubuntu1~20.04.2) 9.4.0 Debian GNU/Linux 12 Kernel: 5.4 Compiler: gcc gcc (Debian 12.2.0-14+deb12u1) 12.2.0 CentOS Stream 10 Kernel: 5.4 Compiler: gcc gcc (GCC) 14.2.1 20250110 (Red Hat 14.2.1-8) Debian 12 (arm) Kernel: Depends on container host Compiler: gcc (Debian 12.2.0-14) 12.2.0 To view detailed results, visit: https://lab.dpdk.org/results/dashboard/patchsets/34599/ UNH-IOL DPDK Community Lab To manage your email subscriptions, visit: https://lab.dpdk.org/results/dashboard/preferences/subscriptions/