From mboxrd@z Thu Jan 1 00:00:00 1970 Return-Path: Received: from mails.dpdk.org (mails.dpdk.org [217.70.189.124]) by inbox.dpdk.org (Postfix) with ESMTP id 160E048B6D for ; Fri, 21 Nov 2025 20:39:19 +0100 (CET) Received: from mails.dpdk.org (localhost [127.0.0.1]) by mails.dpdk.org (Postfix) with ESMTP id E01B140269; Fri, 21 Nov 2025 20:39:18 +0100 (CET) Received: from mail-io1-f98.google.com (mail-io1-f98.google.com [209.85.166.98]) by mails.dpdk.org (Postfix) with ESMTP id D071240269 for ; Fri, 21 Nov 2025 20:39:17 +0100 (CET) Received: by mail-io1-f98.google.com with SMTP id ca18e2360f4ac-949031532f9so100995639f.0 for ; Fri, 21 Nov 2025 11:39:17 -0800 (PST) DKIM-Signature: v=1; a=rsa-sha256; c=relaxed/relaxed; d=iol.unh.edu; s=unh-iol; t=1763753957; x=1764358757; darn=dpdk.org; h=references:in-reply-to:cc:to:from:subject:message-id:date:from:to :cc:subject:date:message-id:reply-to; bh=rtrVe729Q6j+ulrM1aqbVTBoq1zg2Z+UQKVx/4olVPY=; b=jqc0JrTKYS4chkLUSZSvXjlHLY1U9wQz0SzQDp2GYnWtwY2QpVMpreFQBnhby5+z6B +wa/2lh16+6RQwR/+aFblXyi8iT9/9eQawie1c06MSNx2AVKy8w4Ge3vsV++mjZiFhiD JDnYPbdIjwiP/mGjd+sz+NzsIjBaGTw54Vt+I= X-Google-DKIM-Signature: v=1; a=rsa-sha256; c=relaxed/relaxed; d=1e100.net; s=20230601; t=1763753957; x=1764358757; h=references:in-reply-to:cc:to:from:subject:message-id:date:x-gm-gg :x-gm-message-state:from:to:cc:subject:date:message-id:reply-to; bh=rtrVe729Q6j+ulrM1aqbVTBoq1zg2Z+UQKVx/4olVPY=; b=JI4capkem3G5X2/bzFypDG7F/ZP6pWG9SdbZvMp96uL/1sRJoO+yT9nRxkKYkvODzh 3QLVI6h+SuRdP23jqxx8Y1MlPHKfCaZ4Jb5Rlx5eIzMRtTCbnW7OQ5X9bf102T3FMCQ1 3o92AOSWk98XcVAHAbpadc9vjVtM8RsrLy7+ffqj01mmLRpQKsu+bBn4qXGYoLAhFZaC NFOcooSiLEv/nBgNNGH8b90GwXLLP2cbbxV4Uk9c0hTGnsAleaZyCSpeRkvXynDNCGpY 1MUXBpwqoMjDAU3Ru2gB/nDt7b/Pk+08SNBEbV+Y0OZWuhhs1SQri42+gKKvY31dByw7 H3RA== X-Gm-Message-State: AOJu0Yy51YjUxIw89JXtEmTiqh+kSimNtGJ4k6fFpKhed5fiQ3kYqiiF 4rUphkG6Yp9VS7b0SMlRugXKgL9woQMnEApQqiR1a4Qk29HgGW66fh1ABgdbrkkWTyeIhpdXACv rgIXle2xOLMcGQkavr4KVLNYGUIJjgBElyU51UdYrYq8SnywQyhll91MFqMrH X-Gm-Gg: ASbGncu0v0uN0C1h0DZFH4zC6YnlODGlmVbKHoeg+3XhjNrB5cS/SXhZ1jHG7iGngUo RrA1+huSnpF2lKQJW+jmcbaFTbsKWGDrKtAf/M5b7fKIxfNoeQdQLWa5RcpdtwamBH00i7hzStx QNBIe/1HSx5ktXfltTCG04lbJM7OqzZ1J5C73LgXRksglMWPyHhNAFp5MHMDnKl2dcZYXU5uqE+ 5p5DDft2IUiD3yZdVJAH4sx8IFwc0h93EKr2lKPkVdbRNM52ah0B1Hp5/XzOLI/N78uNJfm7TAm NKx39YVr6woJpOq9htxmdO+ImRp96/W1fblUohf+mxZ3ytYBQVw4HgrXLegjvFvPaVwTf8zdr1h QeEOq+OqTR/44Fc8TZLA= X-Google-Smtp-Source: AGHT+IF5Bi8+NX1eNadkYmZYtbzBDok3H9THm/I8hVC57KgP/QpKQp0DAxNREb1L1mtYOV9r37LEM4kRFvIi X-Received: by 2002:a05:6602:48e:b0:949:66a:4d77 with SMTP id ca18e2360f4ac-94947a60fe0mr356488439f.5.1763753957155; Fri, 21 Nov 2025 11:39:17 -0800 (PST) Received: from postal.iol.unh.edu (postal.iol.unh.edu. [2606:4100:3880:1234::84]) by smtp-relay.gmail.com with ESMTPS id ca18e2360f4ac-94938691477sm34567639f.13.2025.11.21.11.39.17 (version=TLS1_2 cipher=ECDHE-ECDSA-AES128-GCM-SHA256 bits=128/128); Fri, 21 Nov 2025 11:39:17 -0800 (PST) X-Relaying-Domain: iol.unh.edu Date: Fri, 21 Nov 2025 11:39:17 -0800 (PST) Message-ID: <6920bfe5.5d0a0220.db59e.1f74SMTPIN_ADDED_MISSING@mx.google.com> Received: from [172.21.0.3] (unknown [172.18.0.240]) by postal.iol.unh.edu (Postfix) with ESMTP id 9D3506050A61; Fri, 21 Nov 2025 14:39:16 -0500 (EST) Subject: |SUCCESS| pw158792-158793 [PATCH] [v5,2/2] dts: add QinQ test suite From: dpdklab@iol.unh.edu To: Test Report Cc: dpdk-test-reports@iol.unh.edu In-Reply-To: <20251114164003.327455-2-dmarx@iol.unh.edu> References: <20251114164003.327455-2-dmarx@iol.unh.edu> Content-Type: text/plain X-BeenThere: test-report@dpdk.org X-Mailman-Version: 2.1.29 Precedence: list List-Id: automatic DPDK test reports List-Unsubscribe: , List-Archive: List-Post: List-Help: List-Subscribe: , Errors-To: test-report-bounces@dpdk.org Test-Label: iol-compile-amd64-testing Test-Status: SUCCESS http://dpdk.org/patch/158793 _Testing PASS_ Submitter: Dean Marx Date: Friday, November 14 2025 16:40:03 DPDK git baseline: Repo:dpdk-next-dts Branch: master CommitID:53e368696fe13360483caeb8a2ec66827e295bec 158792-158793 --> testing pass Upstream job id: Generic-DPDK-Compile-Meson#446559 Test environment and result as below: +-------------------------------+--------------------+-------------------+-------------------------+----------------------+------------------+ | Environment | dpdk_meson_compile | dpdk_msvc_compile | dpdk_llvm_clang_compile | dpdk_mingw64_compile | dpdk_compile_ovs | +===============================+====================+===================+=========================+======================+==================+ | Ubuntu 20.04 | PASS | SKIPPED | SKIPPED | SKIPPED | SKIPPED | +-------------------------------+--------------------+-------------------+-------------------------+----------------------+------------------+ | FreeBSD 14.2 | PASS | SKIPPED | SKIPPED | SKIPPED | SKIPPED | +-------------------------------+--------------------+-------------------+-------------------------+----------------------+------------------+ | CentOS Stream 9 | PASS | SKIPPED | SKIPPED | SKIPPED | SKIPPED | +-------------------------------+--------------------+-------------------+-------------------------+----------------------+------------------+ | CentOS Stream 10 | PASS | SKIPPED | SKIPPED | SKIPPED | SKIPPED | +-------------------------------+--------------------+-------------------+-------------------------+----------------------+------------------+ | Debian GNU/Linux 12 | PASS | SKIPPED | SKIPPED | SKIPPED | SKIPPED | +-------------------------------+--------------------+-------------------+-------------------------+----------------------+------------------+ | Fedora Linux 42 | PASS | SKIPPED | SKIPPED | SKIPPED | PASS | +-------------------------------+--------------------+-------------------+-------------------------+----------------------+------------------+ | openSUSE Leap 15.6 | PASS | SKIPPED | SKIPPED | SKIPPED | SKIPPED | +-------------------------------+--------------------+-------------------+-------------------------+----------------------+------------------+ | Red Hat Enterprise Linux 8.10 | PASS | SKIPPED | SKIPPED | SKIPPED | SKIPPED | +-------------------------------+--------------------+-------------------+-------------------------+----------------------+------------------+ | Red Hat Enterprise Linux 9.5 | PASS | SKIPPED | SKIPPED | SKIPPED | SKIPPED | +-------------------------------+--------------------+-------------------+-------------------------+----------------------+------------------+ | Ubuntu 22.04 | PASS | SKIPPED | SKIPPED | SKIPPED | SKIPPED | +-------------------------------+--------------------+-------------------+-------------------------+----------------------+------------------+ | Ubuntu 24.04 | PASS | SKIPPED | SKIPPED | SKIPPED | PASS | +-------------------------------+--------------------+-------------------+-------------------------+----------------------+------------------+ | Alpine Linux 3.22.0 | PASS | SKIPPED | SKIPPED | SKIPPED | SKIPPED | +-------------------------------+--------------------+-------------------+-------------------------+----------------------+------------------+ | Windows Server 2022 | SKIPPED | PASS | SKIPPED | PASS | SKIPPED | +-------------------------------+--------------------+-------------------+-------------------------+----------------------+------------------+ | Windows Server 2025 | SKIPPED | SKIPPED | PASS | SKIPPED | SKIPPED | +-------------------------------+--------------------+-------------------+-------------------------+----------------------+------------------+ Ubuntu 20.04 Kernel: 4.19 Compiler: gcc gcc (Ubuntu 9.4.0-1ubuntu1~20.04.2) 9.4.0 FreeBSD 14.2 Kernel: 14.2-RELEASE Compiler: clang 18.1.6 CentOS Stream 9 Kernel: 5.15 Compiler: gcc gcc (GCC) 11.5.0 20240719 (Red Hat 11.5.0-11) CentOS Stream 10 Kernel: 5.15 Compiler: gcc gcc (GCC) 14.2.1 20250110 (Red Hat 14.2.1-8) Debian GNU/Linux 12 Kernel: 5.15 Compiler: gcc gcc (Debian 12.2.0-14+deb12u1) 12.2.0 Fedora Linux 42 Kernel: 5.15 Compiler: clang gcc (GCC) 15.2.1 20250808 (Red Hat 15.2.1-1) openSUSE Leap 15.6 Kernel: 5.15 Compiler: gcc gcc (SUSE Linux) 7.5.0 Red Hat Enterprise Linux 8.10 Kernel: 5.15 Compiler: gcc gcc (GCC) 8.5.0 20210514 (Red Hat 8.5.0-22) Red Hat Enterprise Linux 9.5 Kernel: 5.15 Compiler: gcc gcc (GCC) 11.5.0 20240719 (Red Hat 11.5.0-2) Ubuntu 22.04 Kernel: 5.15 Compiler: gcc gcc (Ubuntu 11.4.0-1ubuntu1~22.04) 11.4.0 Ubuntu 24.04 Kernel: 5.15 Compiler: gcc gcc (Ubuntu 13.3.0-6ubuntu2~24.04) 13.3.0 Alpine Linux 3.22.0 Kernel: 5.15 Compiler: gcc gcc (Alpine 14.2.0) 14.2.0 Windows Server 2022 Kernel: 10.0.20348.2031 Compiler: clang 15.0.7, gcc 14.1.0 (MinGW), and MSVC VS 19.39.33521 Windows Server 2025 Kernel: 10.0.26100 Compiler: clang 15.0.7, gcc 14.1.0 (MinGW), and MSVC VS 19.39.33521 To view detailed results, visit: https://lab.dpdk.org/results/dashboard/patchsets/34594/ UNH-IOL DPDK Community Lab To manage your email subscriptions, visit: https://lab.dpdk.org/results/dashboard/preferences/subscriptions/