From mboxrd@z Thu Jan 1 00:00:00 1970 Return-Path: Received: from mails.dpdk.org (mails.dpdk.org [217.70.189.124]) by inbox.dpdk.org (Postfix) with ESMTP id 9D3FC48B6D for ; Fri, 21 Nov 2025 21:13:00 +0100 (CET) Received: from mails.dpdk.org (localhost [127.0.0.1]) by mails.dpdk.org (Postfix) with ESMTP id 979CF40269; Fri, 21 Nov 2025 21:13:00 +0100 (CET) Received: from mail-il1-f227.google.com (mail-il1-f227.google.com [209.85.166.227]) by mails.dpdk.org (Postfix) with ESMTP id 607F240269 for ; Fri, 21 Nov 2025 21:12:59 +0100 (CET) Received: by mail-il1-f227.google.com with SMTP id e9e14a558f8ab-43320651e53so9336465ab.3 for ; Fri, 21 Nov 2025 12:12:59 -0800 (PST) DKIM-Signature: v=1; a=rsa-sha256; c=relaxed/relaxed; d=iol.unh.edu; s=unh-iol; t=1763755978; x=1764360778; darn=dpdk.org; h=references:in-reply-to:cc:to:from:subject:message-id:date:from:to :cc:subject:date:message-id:reply-to; bh=l4riaV6c0Ra+DWEyFnA20DqA6/TnwhkkaeLSAKMFN90=; b=P1wA0zhlRBa61RFBAR33DhwtTTnoj0v6dI8Ww7YzmPbC4VG7ZmWTKej1a5bmV1xVlY R1ndagZWidtNZpT89NxgvkH2cuRczRM07w8S3WBNwgHPaVmOOpzsyucyVAmw5Wsk2RUm CdDUdGCK3oMzPolh7NtM8LxfMY4ncfLtwekB8= X-Google-DKIM-Signature: v=1; a=rsa-sha256; c=relaxed/relaxed; d=1e100.net; s=20230601; t=1763755978; x=1764360778; h=references:in-reply-to:cc:to:from:subject:message-id:date:x-gm-gg :x-gm-message-state:from:to:cc:subject:date:message-id:reply-to; bh=l4riaV6c0Ra+DWEyFnA20DqA6/TnwhkkaeLSAKMFN90=; b=jihb/Lg7b0wQFRyoxGtI8Yr26y4/qMtcMvi/DaCl/F/Xb7TUS0BHwpYpluAnqgAM7M 4outCKor5zFB+3cHsjMaAEYLPsCh0n/vFPSupZ5GMJceie9vTUJyJgf49fRbDWNdxb0y nkiQBZQpGx7Avv4IRBk+w+5Hss6Q6LUI/YamiErl7jK3EPscLpirL0GtZdzfis8Ivbwo rx+OQR3C56TChJpK+64UO8yK+eSIvIcIxrL2o6IF4toMOhSn+/8sM3R4ye3GFB4bgp5u FegsNp00Wcxk80mZzcwLbIX1k8YnBXs/zniAqbS5pb8eV4wXC2xvLlxE4YA4iNFEPCKf IEbw== X-Gm-Message-State: AOJu0YyEfxAqZ/aE5z1Q8QDtaOpIqgMv9YRf3OLNpaR+576OPbs/z6kE EKcRhoi5f7Qz/AdN1W3f22L8UZElANgnCi5ajdl0HiKGUAYTsGkk9CX6j9/0ZSEGLwjiWMW/Afq 12pkHWKrbBHijnviE+ZjdUA/ad7n00iQU/3fBC7dCMz55Ezqaom43kyF2VSqz X-Gm-Gg: ASbGncuj3/M1TIU/tPSxGMYKGvLgi7vuTrHeUUmGQecsPPg7n6xI95ChnMYGrUfx2Fh 7yV7dm8n6yAQ3YinT/Rk4CYlri/gd0UNckxBWwQf2Rlk0xvFC01+nL4dqOLIBlH61I7gH7PBBt0 hhYl2e7/exhlKlO8NP5F3NYoql0Z+UD3AhfprrFwlX1Ah1++/WGaaZRpqGn64IIpW0oNIQWhQ9g I/ubZcCR56LdG1pVQ2D+9Rg5t+r3SrFAbX84Ggnk1Dee3XCKTHDEz01PkHVnr3zt1ZZxEB73YY3 p6MVgdlaHXRYC10Dd4ZR8p1D1R4/3cqTndB2aVbArPx13YUc1tZq4/Do/vXJBjPSMlIYVmZiUff tBp+zMWezBbmk5b2hKDM= X-Google-Smtp-Source: AGHT+IEWIpx1rja75n2TVtS8sMWVXV1XymLk7jEcxyEOLOsUwm76ClsyQwXqfgBrNIuXxa13NZX965eNJCTS X-Received: by 2002:a05:6e02:2406:b0:433:7310:f5bf with SMTP id e9e14a558f8ab-435b8e54074mr33412655ab.22.1763755978613; Fri, 21 Nov 2025 12:12:58 -0800 (PST) Received: from postal.iol.unh.edu (postal.iol.unh.edu. [2606:4100:3880:1234::84]) by smtp-relay.gmail.com with ESMTPS id e9e14a558f8ab-435a9054f2csm5732215ab.6.2025.11.21.12.12.58 (version=TLS1_2 cipher=ECDHE-ECDSA-AES128-GCM-SHA256 bits=128/128); Fri, 21 Nov 2025 12:12:58 -0800 (PST) X-Relaying-Domain: iol.unh.edu Date: Fri, 21 Nov 2025 12:12:58 -0800 (PST) Message-ID: <6920c7ca.050a0220.39c228.d461SMTPIN_ADDED_MISSING@mx.google.com> Received: from [172.21.0.3] (unknown [172.18.0.240]) by postal.iol.unh.edu (Postfix) with ESMTP id 1E8846050A61; Fri, 21 Nov 2025 15:12:58 -0500 (EST) Subject: |SUCCESS| pw158971 [PATCH] [v3] eal/x86: optimize memcpy of small si From: dpdklab@iol.unh.edu To: Test Report Cc: dpdk-test-reports@iol.unh.edu In-Reply-To: <20251121104052.1273637-1-mb@smartsharesystems.com> References: <20251121104052.1273637-1-mb@smartsharesystems.com> Content-Type: text/plain X-BeenThere: test-report@dpdk.org X-Mailman-Version: 2.1.29 Precedence: list List-Id: automatic DPDK test reports List-Unsubscribe: , List-Archive: List-Post: List-Help: List-Subscribe: , Errors-To: test-report-bounces@dpdk.org Test-Label: iol-compile-amd64-testing Test-Status: SUCCESS http://dpdk.org/patch/158971 _Testing PASS_ Submitter: Morten Brorup Date: Friday, November 21 2025 10:40:51 DPDK git baseline: Repo:dpdk Branch: master CommitID:ef98b88455bf4a7c8b7aa3106a761c9e9270d6a3 158971 --> testing pass Upstream job id: Generic-DPDK-Compile-Meson#446572 Test environment and result as below: +-------------------------------+--------------------+-------------------+-------------------------+------------------+----------------------+ | Environment | dpdk_meson_compile | dpdk_msvc_compile | dpdk_llvm_clang_compile | dpdk_compile_ovs | dpdk_mingw64_compile | +===============================+====================+===================+=========================+==================+======================+ | FreeBSD 14.2 | PASS | SKIPPED | SKIPPED | SKIPPED | SKIPPED | +-------------------------------+--------------------+-------------------+-------------------------+------------------+----------------------+ | Ubuntu 20.04 | PASS | SKIPPED | SKIPPED | SKIPPED | SKIPPED | +-------------------------------+--------------------+-------------------+-------------------------+------------------+----------------------+ | CentOS Stream 9 | PASS | SKIPPED | SKIPPED | SKIPPED | SKIPPED | +-------------------------------+--------------------+-------------------+-------------------------+------------------+----------------------+ | CentOS Stream 10 | PASS | SKIPPED | SKIPPED | SKIPPED | SKIPPED | +-------------------------------+--------------------+-------------------+-------------------------+------------------+----------------------+ | Debian GNU/Linux 12 | PASS | SKIPPED | SKIPPED | SKIPPED | SKIPPED | +-------------------------------+--------------------+-------------------+-------------------------+------------------+----------------------+ | Fedora Linux 42 | PASS | SKIPPED | SKIPPED | PASS | SKIPPED | +-------------------------------+--------------------+-------------------+-------------------------+------------------+----------------------+ | openSUSE Leap 15.6 | PASS | SKIPPED | SKIPPED | SKIPPED | SKIPPED | +-------------------------------+--------------------+-------------------+-------------------------+------------------+----------------------+ | Red Hat Enterprise Linux 8.10 | PASS | SKIPPED | SKIPPED | SKIPPED | SKIPPED | +-------------------------------+--------------------+-------------------+-------------------------+------------------+----------------------+ | Red Hat Enterprise Linux 9.5 | PASS | SKIPPED | SKIPPED | SKIPPED | SKIPPED | +-------------------------------+--------------------+-------------------+-------------------------+------------------+----------------------+ | Ubuntu 22.04 | PASS | SKIPPED | SKIPPED | SKIPPED | SKIPPED | +-------------------------------+--------------------+-------------------+-------------------------+------------------+----------------------+ | Ubuntu 24.04 | PASS | SKIPPED | SKIPPED | PASS | SKIPPED | +-------------------------------+--------------------+-------------------+-------------------------+------------------+----------------------+ | Alpine Linux 3.22.0 | PASS | SKIPPED | SKIPPED | SKIPPED | SKIPPED | +-------------------------------+--------------------+-------------------+-------------------------+------------------+----------------------+ | Windows Server 2022 | SKIPPED | PASS | SKIPPED | SKIPPED | PASS | +-------------------------------+--------------------+-------------------+-------------------------+------------------+----------------------+ | Windows Server 2025 | SKIPPED | SKIPPED | PASS | SKIPPED | SKIPPED | +-------------------------------+--------------------+-------------------+-------------------------+------------------+----------------------+ FreeBSD 14.2 Kernel: 14.2-RELEASE Compiler: clang 18.1.6 Ubuntu 20.04 Kernel: 4.19 Compiler: gcc gcc (Ubuntu 9.4.0-1ubuntu1~20.04.2) 9.4.0 CentOS Stream 9 Kernel: 5.15 Compiler: gcc gcc (GCC) 11.5.0 20240719 (Red Hat 11.5.0-11) CentOS Stream 10 Kernel: 5.15 Compiler: gcc gcc (GCC) 14.2.1 20250110 (Red Hat 14.2.1-8) Debian GNU/Linux 12 Kernel: 5.15 Compiler: gcc gcc (Debian 12.2.0-14+deb12u1) 12.2.0 Fedora Linux 42 Kernel: 5.15 Compiler: clang gcc (GCC) 15.2.1 20250808 (Red Hat 15.2.1-1) openSUSE Leap 15.6 Kernel: 5.15 Compiler: gcc gcc (SUSE Linux) 7.5.0 Red Hat Enterprise Linux 8.10 Kernel: 5.15 Compiler: gcc gcc (GCC) 8.5.0 20210514 (Red Hat 8.5.0-22) Red Hat Enterprise Linux 9.5 Kernel: 5.15 Compiler: gcc gcc (GCC) 11.5.0 20240719 (Red Hat 11.5.0-2) Ubuntu 22.04 Kernel: 5.15 Compiler: gcc gcc (Ubuntu 11.4.0-1ubuntu1~22.04) 11.4.0 Ubuntu 24.04 Kernel: 5.15 Compiler: gcc gcc (Ubuntu 13.3.0-6ubuntu2~24.04) 13.3.0 Alpine Linux 3.22.0 Kernel: 5.15 Compiler: gcc gcc (Alpine 14.2.0) 14.2.0 Windows Server 2022 Kernel: 10.0.20348.2031 Compiler: clang 15.0.7, gcc 14.1.0 (MinGW), and MSVC VS 19.39.33521 Windows Server 2025 Kernel: 10.0.26100 Compiler: clang 15.0.7, gcc 14.1.0 (MinGW), and MSVC VS 19.39.33521 To view detailed results, visit: https://lab.dpdk.org/results/dashboard/patchsets/34653/ UNH-IOL DPDK Community Lab To manage your email subscriptions, visit: https://lab.dpdk.org/results/dashboard/preferences/subscriptions/