From mboxrd@z Thu Jan 1 00:00:00 1970 Return-Path: Received: from mails.dpdk.org (mails.dpdk.org [217.70.189.124]) by inbox.dpdk.org (Postfix) with ESMTP id 1035448B6D for ; Fri, 21 Nov 2025 21:15:59 +0100 (CET) Received: from mails.dpdk.org (localhost [127.0.0.1]) by mails.dpdk.org (Postfix) with ESMTP id DA2CF40269; Fri, 21 Nov 2025 21:15:58 +0100 (CET) Received: from mail-qt1-f228.google.com (mail-qt1-f228.google.com [209.85.160.228]) by mails.dpdk.org (Postfix) with ESMTP id 09AEC40269 for ; Fri, 21 Nov 2025 21:15:58 +0100 (CET) Received: by mail-qt1-f228.google.com with SMTP id d75a77b69052e-4edaf8773c4so27094501cf.1 for ; Fri, 21 Nov 2025 12:15:57 -0800 (PST) DKIM-Signature: v=1; a=rsa-sha256; c=relaxed/relaxed; d=iol.unh.edu; s=unh-iol; t=1763756157; x=1764360957; darn=dpdk.org; h=references:in-reply-to:cc:to:from:subject:message-id:date:from:to :cc:subject:date:message-id:reply-to; bh=LOy8KyTFdNaA2iDONV++rNgADN1v0nA8Ga/n8Vf8O9I=; b=CiXCBZT94N/EdO3BEtuT6JjmSvAekiMQoDiyXYPKrrnbwlbK1XSBrPwKEXTYUehDFv ZiJXBol06T0inzXfr0W7wuwDZY8lOKT9r9rRFb4anK/4Dc3HZwTSN6qbohpSUqmUceyK nxx9tWwLSCHky1KUhXmAuawAhrok8lTQoDIIU= X-Google-DKIM-Signature: v=1; a=rsa-sha256; c=relaxed/relaxed; d=1e100.net; s=20230601; t=1763756157; x=1764360957; h=references:in-reply-to:cc:to:from:subject:message-id:date:x-gm-gg :x-gm-message-state:from:to:cc:subject:date:message-id:reply-to; bh=LOy8KyTFdNaA2iDONV++rNgADN1v0nA8Ga/n8Vf8O9I=; b=SuBEDJcOr+1yk6Am4R27qO7Mjgcgc6LtkQMWXnSziLO4vWudzWXBs0hwdQH5nZGl3b 7m4pwWMIASMgSvrbvc+j6ib5t71gxKgjrdBunzl355SkWUqXnno9RjcyFROFlc0o8pvO ba9DAMA/Ag+2PnfJQ0X7MAEZxQ8AKnyX12TLCJbPTZfQspfftGkHX3ABU6HPS+Z/8WMY LR72PpRNlin7SElyMPRlWMKzoAHJbZqKYpoey1kFksBIZ65n2OmVdNrSvva27DzJ8U7o IZXvV4iWkrZ5+4QliDQTKY7K3+xzHHO6Ec8AL1koMsPxv1c7MlTCtBw5v6CL2DSTW4R5 1Scw== X-Gm-Message-State: AOJu0YzUWqyJ4rxQYj7wUQ1FwkcZNcKfE0uvfJs3+qi84znfvLizstGT mxzEsSs4s372ZzL/BAPfCx7E1tf6e243yT99rfMtHaMFMVVj9Lz7ft2pqypLzyB3F6ZKEsuf1hA EsXB+CjeiJsW7Y/SjSxURfu8GM4XEAGvc4gqfnKawmSMM X-Gm-Gg: ASbGncvi9b4pT3V2jRd+qX/X71JmPMsh/SIvyVZFZgU5WrEluJDlgdDLD6Iu/hOKucv iIfbxJn/yUTZdNa4sYzquUyLaw3fWEi1ri+gKkadVO+6zlQGtWsEreGydrqxTepBexal4IiuFTM nLjv0LisZ429Jq6TEh/u2FppNYpr0/E5Y/ik/y7vW91okKbtvlQoKbGkePz92IUHiuJCHgWs3hX OrEXDlkzdzz2eC5phzu2AGY1dXHVZB0xVDD9SlJpdYmcSG+0HNl3y3cscIeZJOQeV+OcjuO32AJ Ka4ZpPzNB2Z666zzLPGqJvQKNUCRnSEy5H0doeb+LStFV/qMK41uBdI0QcREgJedYYFOIligSyW tR2vqAtsJMVao8+a00t54BlohQ6GJvX60uPyu5HQLnw== X-Google-Smtp-Source: AGHT+IFzqYIw5CJbKtdCggYWC8Aj8+7144mO4psPAAxrHJLIJYjaeBXeAQ5pYWkzzoOs1tc74iR0FJIgeF7O X-Received: by 2002:ac8:5753:0:b0:4ee:1b36:b5c2 with SMTP id d75a77b69052e-4ee58af12d0mr50374511cf.68.1763756157213; Fri, 21 Nov 2025 12:15:57 -0800 (PST) Received: from postal.iol.unh.edu (postal.iol.unh.edu. [132.177.123.84]) by smtp-relay.gmail.com with ESMTPS id 6a1803df08f44-8846e5ce469sm7140646d6.30.2025.11.21.12.15.57 (version=TLS1_2 cipher=ECDHE-ECDSA-AES128-GCM-SHA256 bits=128/128); Fri, 21 Nov 2025 12:15:57 -0800 (PST) X-Relaying-Domain: iol.unh.edu Date: Fri, 21 Nov 2025 12:15:57 -0800 (PST) Message-ID: <6920c87d.050a0220.7bb8f.32ceSMTPIN_ADDED_MISSING@mx.google.com> Received: from [172.21.0.3] (unknown [172.18.0.240]) by postal.iol.unh.edu (Postfix) with ESMTP id C8EDF6050A61; Fri, 21 Nov 2025 15:15:56 -0500 (EST) Subject: |SUCCESS| pw158971 [PATCH] [v3] eal/x86: optimize memcpy of small si From: dpdklab@iol.unh.edu To: Test Report Cc: dpdk-test-reports@iol.unh.edu In-Reply-To: <20251121104052.1273637-1-mb@smartsharesystems.com> References: <20251121104052.1273637-1-mb@smartsharesystems.com> Content-Type: text/plain X-BeenThere: test-report@dpdk.org X-Mailman-Version: 2.1.29 Precedence: list List-Id: automatic DPDK test reports List-Unsubscribe: , List-Archive: List-Post: List-Help: List-Subscribe: , Errors-To: test-report-bounces@dpdk.org Test-Label: iol-unit-amd64-testing Test-Status: SUCCESS http://dpdk.org/patch/158971 _Testing PASS_ Submitter: Morten Brorup Date: Friday, November 21 2025 10:40:51 DPDK git baseline: Repo:dpdk Branch: master CommitID:ef98b88455bf4a7c8b7aa3106a761c9e9270d6a3 158971 --> testing pass Upstream job id: Generic-Unit-Test-DPDK#394988 Test environment and result as below: +-------------------------------+----------------+ | Environment | dpdk_unit_test | +===============================+================+ | Fedora Linux 40 | PASS | +-------------------------------+----------------+ | Fedora Linux 42 | PASS | +-------------------------------+----------------+ | Ubuntu 24.04 | PASS | +-------------------------------+----------------+ | Red Hat Enterprise Linux 9.5 | PASS | +-------------------------------+----------------+ | Fedora Linux 41 | PASS | +-------------------------------+----------------+ | CentOS Stream 9 | PASS | +-------------------------------+----------------+ | Ubuntu 22.04 | PASS | +-------------------------------+----------------+ | Ubuntu 20.04 | PASS | +-------------------------------+----------------+ | CentOS Stream 10 | PASS | +-------------------------------+----------------+ | Red Hat Enterprise Linux 8.10 | PASS | +-------------------------------+----------------+ | Debian GNU/Linux 12 | PASS | +-------------------------------+----------------+ | Windows Server 2022 | PASS | +-------------------------------+----------------+ Fedora Linux 40 Kernel: 5.15 Compiler: gcc gcc (GCC) 14.2.1 20240912 (Red Hat 14.2.1-3) Fedora Linux 42 Kernel: 5.15 Compiler: clang gcc (GCC) 15.2.1 20250808 (Red Hat 15.2.1-1) Ubuntu 24.04 Kernel: 5.15 Compiler: gcc gcc (Ubuntu 13.3.0-6ubuntu2~24.04) 13.3.0 Red Hat Enterprise Linux 9.5 Kernel: 5.15 Compiler: gcc gcc (GCC) 11.5.0 20240719 (Red Hat 11.5.0-2) Fedora Linux 41 Kernel: 5.15 Compiler: gcc gcc (GCC) 14.3.1 20250523 (Red Hat 14.3.1-1) CentOS Stream 9 Kernel: 5.15 Compiler: gcc gcc (GCC) 11.5.0 20240719 (Red Hat 11.5.0-11) Ubuntu 22.04 Kernel: 5.15 Compiler: gcc gcc (Ubuntu 11.4.0-1ubuntu1~22.04) 11.4.0 Ubuntu 20.04 Kernel: 5.15 Compiler: gcc gcc (Ubuntu 9.4.0-1ubuntu1~20.04.2) 9.4.0 CentOS Stream 10 Kernel: 5.15 Compiler: gcc gcc (GCC) 14.2.1 20250110 (Red Hat 14.2.1-8) Red Hat Enterprise Linux 8.10 Kernel: 5.15 Compiler: gcc gcc (GCC) 8.5.0 20210514 (Red Hat 8.5.0-22) Debian GNU/Linux 12 Kernel: 5.15 Compiler: gcc gcc (Debian 12.2.0-14+deb12u1) 12.2.0 Windows Server 2022 Kernel: 10.0.20348.2031 Compiler: clang 15.0.7, gcc 14.1.0 (MinGW), and MSVC VS 19.39.33521 To view detailed results, visit: https://lab.dpdk.org/results/dashboard/patchsets/34653/ UNH-IOL DPDK Community Lab To manage your email subscriptions, visit: https://lab.dpdk.org/results/dashboard/preferences/subscriptions/