From mboxrd@z Thu Jan 1 00:00:00 1970 Return-Path: Received: from mails.dpdk.org (mails.dpdk.org [217.70.189.124]) by inbox.dpdk.org (Postfix) with ESMTP id 060AB48B6E for ; Fri, 21 Nov 2025 23:41:00 +0100 (CET) Received: from mails.dpdk.org (localhost [127.0.0.1]) by mails.dpdk.org (Postfix) with ESMTP id 00AE840269; Fri, 21 Nov 2025 23:41:00 +0100 (CET) Received: from mail-pl1-f227.google.com (mail-pl1-f227.google.com [209.85.214.227]) by mails.dpdk.org (Postfix) with ESMTP id BEB7F40269 for ; Fri, 21 Nov 2025 23:40:58 +0100 (CET) Received: by mail-pl1-f227.google.com with SMTP id d9443c01a7336-2980d9b7df5so31203935ad.3 for ; Fri, 21 Nov 2025 14:40:58 -0800 (PST) DKIM-Signature: v=1; a=rsa-sha256; c=relaxed/relaxed; d=iol.unh.edu; s=unh-iol; t=1763764858; x=1764369658; darn=dpdk.org; h=references:in-reply-to:cc:to:from:subject:message-id:date:from:to :cc:subject:date:message-id:reply-to; bh=aS//goVCfobc1DiebfaTrxxrqkLdBha6MPOJ1oJcfdA=; b=P+tWWeaeqOcElKTpZkU7VSx4xQElYsQOeeAD1t97u5EzmoTyFPiwhaJgeMX5EfctcP 8M7wGF+pD6j+QTpXtfzkNXa884r8swYPhJ/lZ3+vZ8Ef92rNTGSx5L0YAOo4XmLqGJPC e+C1AsBDwC49lyiBx5Seq6bzBKcENs/5z8LWY= X-Google-DKIM-Signature: v=1; a=rsa-sha256; c=relaxed/relaxed; d=1e100.net; s=20230601; t=1763764858; x=1764369658; h=references:in-reply-to:cc:to:from:subject:message-id:date:x-gm-gg :x-gm-message-state:from:to:cc:subject:date:message-id:reply-to; bh=aS//goVCfobc1DiebfaTrxxrqkLdBha6MPOJ1oJcfdA=; b=Pf3zrqauWHszAYnWO4oPv4OSagwsM/43mH8f517q9GkXIBBGZdZv8xZxLpYG5K8DrM neR1607QtpxvpJkDJqUJPJyy9t7LyDNNXt5kzGBMRbhIDRHtgRctuOfjvcqNgveXSmyR hcfcPeS976H17seh2FiX/EJTwY24apyoO4WKgMQsbL/1/oYIXbL5/o6c4TOXuawAvUOK kqMGhWIoB+UnHMA5IDOE5jJvoddfSs6KmGAEpvVRKsH20AXXMOQH/wINqWNZtsxNQbu7 +l1GOE6ukEtLWCwqFS/WkuHUxWat4oCu0GQcJa+t6cPJ5uAsI0CHXFKoekjfuBe4ofqV T/QA== X-Gm-Message-State: AOJu0YzTWJikjRA0koh16OuGS4yw0Boity+xZprfoxtlzo6lvGWNvmhG 0zYWh62DLyD0wxlGmN/b3pIqkH0u7PW6Brs5VI6yM/WiXZ8hZNoiMtly4Fpm5JK9QcrZrJk2S9A WiXlbGpdxZ4D0DT0OX+/pqsFrUOeyaUD37BRB X-Gm-Gg: ASbGncuERDCgGnHfC/s80s9SbCCC2zLi9cioHn5lkbVVG6j3adnLX8bLlxICA0XFtN/ U1mC7MvFtFmhsZH3CHGEYL/M4h8wqBCroe2LABWmOfMs6tuLKQN7l6g4tdz70P6VIoOcTuxOf0l OAgViPmSi/D4XY+VORj6T9GeiUEKJSQ/Xzi6L2idL2GeQdoJv+zCOWqH/eUaX9VtL7/76KhXDcO gP68gCazIX0iREPVWlAg+v4Fl5BTbzDhzgZPz4c+wR5m2fondlBzHSyneUArH6xqANv+ksTmh/k LI4GkSGES6iaEaRCOe2AKQXJ/VY+bwg/DZ21i2W0w8ANBtQlcIXCQakZCM1J0BkGyHrQsdrKzGH RfKQz4VF5xVmoh/jyt0ctINSNJ5e0ffgoClkPQsTeDQ== X-Google-Smtp-Source: AGHT+IHCJniWoSL8PFustw2xf1auzw1NTVXqQNfUPpvCwu+Us3RJaYqqSr3/6yB0yXu2YEFvPDvphQRfWlBS X-Received: by 2002:a17:902:f705:b0:294:f310:5224 with SMTP id d9443c01a7336-29b6bf3b517mr42602555ad.29.1763764857894; Fri, 21 Nov 2025 14:40:57 -0800 (PST) Received: from postal.iol.unh.edu (postal.iol.unh.edu. [132.177.123.84]) by smtp-relay.gmail.com with ESMTPS id d9443c01a7336-29b5b1f4de8sm7764605ad.28.2025.11.21.14.40.57 (version=TLS1_2 cipher=ECDHE-ECDSA-AES128-GCM-SHA256 bits=128/128); Fri, 21 Nov 2025 14:40:57 -0800 (PST) X-Relaying-Domain: iol.unh.edu Date: Fri, 21 Nov 2025 14:40:57 -0800 (PST) Message-ID: <6920ea79.170a0220.5ebce.7b3cSMTPIN_ADDED_MISSING@mx.google.com> Received: from [172.21.0.2] (unknown [172.18.0.240]) by postal.iol.unh.edu (Postfix) with ESMTP id 2EC756050A61; Fri, 21 Nov 2025 17:40:57 -0500 (EST) Subject: |SUCCESS| pw158814 [PATCH] net/bnxt: remove unbuilt source files From: dpdklab@iol.unh.edu To: Test Report Cc: dpdk-test-reports@iol.unh.edu, Ajit Khaparde In-Reply-To: <20251114175112.1103784-1-stephen@networkplumber.org> References: <20251114175112.1103784-1-stephen@networkplumber.org> Content-Type: text/plain X-BeenThere: test-report@dpdk.org X-Mailman-Version: 2.1.29 Precedence: list List-Id: automatic DPDK test reports List-Unsubscribe: , List-Archive: List-Post: List-Help: List-Subscribe: , Errors-To: test-report-bounces@dpdk.org Test-Label: iol-compile-arm64-testing Test-Status: SUCCESS http://dpdk.org/patch/158814 _Testing PASS_ Submitter: Stephen Hemminger Date: Friday, November 14 2025 17:51:12 DPDK git baseline: Repo:dpdk-next-net-brcm Branch: master CommitID:bfb6c9fbcbaada197af422b704cf71b777f85fff 158814 --> testing pass Upstream job id: Generic-DPDK-Compile-Meson#446524 Test environment and result as below: +------------------------------+--------------------+ | Environment | dpdk_meson_compile | +==============================+====================+ | Ubuntu 20.04 | PASS | +------------------------------+--------------------+ | Debian GNU/Linux 12 | PASS | +------------------------------+--------------------+ | Ubuntu 24.04 | PASS | +------------------------------+--------------------+ | Fedora Linux 42 | PASS | +------------------------------+--------------------+ | Red Hat Enterprise Linux 9.5 | PASS | +------------------------------+--------------------+ | Ubuntu 22.04 | PASS | +------------------------------+--------------------+ | CentOS Stream 10 | PASS | +------------------------------+--------------------+ | CentOS Stream 9 | PASS | +------------------------------+--------------------+ Ubuntu 20.04 Kernel: 5.15 Compiler: gcc gcc (Ubuntu 9.4.0-1ubuntu1~20.04.2) 9.4.0 Debian GNU/Linux 12 Kernel: 5.4 Compiler: gcc gcc (Debian 12.2.0-14+deb12u1) 12.2.0 Ubuntu 24.04 Kernel: 5.4 Compiler: gcc gcc (Ubuntu 13.3.0-6ubuntu2~24.04) 13.3.0 Fedora Linux 42 Kernel: 5.4 Compiler: clang gcc (GCC) 15.2.1 20250808 (Red Hat 15.2.1-1) Red Hat Enterprise Linux 9.5 Kernel: 5.4 Compiler: gcc gcc (GCC) 11.5.0 20240719 (Red Hat 11.5.0-2) Ubuntu 22.04 Kernel: 5.4 Compiler: gcc gcc (Ubuntu 11.4.0-1ubuntu1~22.04) 11.4.0 CentOS Stream 10 Kernel: 5.4 Compiler: gcc gcc (GCC) 14.2.1 20250110 (Red Hat 14.2.1-8) CentOS Stream 9 Kernel: 5.4 Compiler: gcc gcc (GCC) 11.5.0 20240719 (Red Hat 11.5.0-11) To view detailed results, visit: https://lab.dpdk.org/results/dashboard/patchsets/34596/ UNH-IOL DPDK Community Lab To manage your email subscriptions, visit: https://lab.dpdk.org/results/dashboard/preferences/subscriptions/