From mboxrd@z Thu Jan 1 00:00:00 1970 Return-Path: Received: from mails.dpdk.org (mails.dpdk.org [217.70.189.124]) by inbox.dpdk.org (Postfix) with ESMTP id 1955A48B6E for ; Sat, 22 Nov 2025 01:45:10 +0100 (CET) Received: from mails.dpdk.org (localhost [127.0.0.1]) by mails.dpdk.org (Postfix) with ESMTP id 1391E40269; Sat, 22 Nov 2025 01:45:10 +0100 (CET) Received: from mail-yw1-f226.google.com (mail-yw1-f226.google.com [209.85.128.226]) by mails.dpdk.org (Postfix) with ESMTP id 8BD0D40269 for ; Sat, 22 Nov 2025 01:45:09 +0100 (CET) Received: by mail-yw1-f226.google.com with SMTP id 00721157ae682-789314f0920so25479187b3.1 for ; Fri, 21 Nov 2025 16:45:09 -0800 (PST) DKIM-Signature: v=1; a=rsa-sha256; c=relaxed/relaxed; d=iol.unh.edu; s=unh-iol; t=1763772309; x=1764377109; darn=dpdk.org; h=references:in-reply-to:cc:to:from:subject:message-id:date:from:to :cc:subject:date:message-id:reply-to; bh=Ei8X5ex8Ohb6wRwVGk+24+Tgb/iYRYPh6OxdznzJAyw=; b=Ou9z61h99QEiaw0ie1L1wlMmg6JF4Cfnh23NrwAD9j/BvtaofErUdk/J1wQn8WbkuP H3RZGPdKnB3tafUzWpm0Lnb1yPt6HcDLMKgP22U2Pgn0RR1ZQN9wdXspsuqSN1E9eMdm 7dt44hFi06HE4xTOq1W11hhDJzODUhDuyxFBA= X-Google-DKIM-Signature: v=1; a=rsa-sha256; c=relaxed/relaxed; d=1e100.net; s=20230601; t=1763772309; x=1764377109; h=references:in-reply-to:cc:to:from:subject:message-id:date:x-gm-gg :x-gm-message-state:from:to:cc:subject:date:message-id:reply-to; bh=Ei8X5ex8Ohb6wRwVGk+24+Tgb/iYRYPh6OxdznzJAyw=; b=LeCeMiiYHGm5hDVggb4zLb8Lm+p4E+CBucJFnphYYvbuwz1kYg+zPN+NWk92CUSi+B 2wvlOWL7xVA+BZy8mI3tElbgvqprORPcI2u6CiheqpVp7Iy9Tht9vFfOvECSvHydJVNm Mj9gY2T64kVZJPK/8tWPQEEWXLcAu5v0XN27tGd7YnxXi5CHTP7jeoRGN3Na/EltWxjZ FRhqScdE+TUbaTtCvlx4YwH7+EKMn+7FhlTzMDww1MM7JYkJ+a2WVgSHqe5J25cSzF4m WdJYZbWH253gn1IIT2ybVtYmT0acvWjWVUIJjsYPdx9q54H2Z3rI5z7MMyhoSCYsIATP i3Mg== X-Gm-Message-State: AOJu0Yy6t16znrmgnsj2l5eB4+idyczfhf5jFs/Cp71WsUT009Jz4d9g YlzLQ8Qq89dAm0YvioMPSpyYqbT1XB2zyJKuXVrmgzJt3miP8GPLUu2ysXGjklQIIv57jsfjHBZ bYqmbw0sSCd8ya3T0IHe39HkUajFkR+7j/Jmj6ehpfOuEdXm/BXoDkBLeqBfq X-Gm-Gg: ASbGncspwkbs4OaTJ/23Osc47YWaFklBd6gHq99n/E3MlKNbqaKK59gz6fQz/tdQDF8 r794CFrxww3bTyrWAqKQX2+KzvF/IqnWVzUZX/lYyZc9lp9ZZCO0PB16anRjf+fyqhd4eh+Q19b g7xAr1d4dQfd4D5MIcpW8rjlzeuQ6r/GD/lWG2V7QmPIo11uUUpVa+i2md1G3CHrFGa0yeHH17O 5xGN9wmH7H7L1p6GkoYtouPbIhtxUbO6M+fMKgFPVUj9gKnUSRvnS5/i+gIno9G0aVALOl+9qwp 4+mmQQX86/VUtnReaKkAMHNe+csEtN0etFyBew5T30kRhkgLPa4DJfdoGfsf1tj4bd4sRC+bhMx 9n0T5Qd4iinqqYTm2u9o= X-Google-Smtp-Source: AGHT+IHvSUdOsC9dv4iijFwBtouvfW0gvFfL669y8/OfZtL6y1EAXDYvsaexV3DeHKHgoCm0PyJP43cz6HDt X-Received: by 2002:a05:690c:48c2:b0:784:92a3:68b3 with SMTP id 00721157ae682-78a8b486b6amr36853277b3.12.1763772308933; Fri, 21 Nov 2025 16:45:08 -0800 (PST) Received: from postal.iol.unh.edu (postal.iol.unh.edu. [2606:4100:3880:1234::84]) by smtp-relay.gmail.com with ESMTPS id 00721157ae682-78a79920fdesm4600017b3.19.2025.11.21.16.45.08 (version=TLS1_2 cipher=ECDHE-ECDSA-AES128-GCM-SHA256 bits=128/128); Fri, 21 Nov 2025 16:45:08 -0800 (PST) X-Relaying-Domain: iol.unh.edu Date: Fri, 21 Nov 2025 16:45:08 -0800 (PST) Message-ID: <69210794.050a0220.e7281.78c9SMTPIN_ADDED_MISSING@mx.google.com> Received: from [172.21.0.3] (unknown [172.18.0.240]) by postal.iol.unh.edu (Postfix) with ESMTP id 96D7A6051830; Fri, 21 Nov 2025 19:45:08 -0500 (EST) Subject: |SUCCESS| pw158982 [PATCH] [v1] dts: automate VFIO-PCI modprobe From: dpdklab@iol.unh.edu To: Test Report Cc: dpdk-test-reports@iol.unh.edu In-Reply-To: <20251121210650.328804-1-abailey@iol.unh.edu> References: <20251121210650.328804-1-abailey@iol.unh.edu> Content-Type: text/plain X-BeenThere: test-report@dpdk.org X-Mailman-Version: 2.1.29 Precedence: list List-Id: automatic DPDK test reports List-Unsubscribe: , List-Archive: List-Post: List-Help: List-Subscribe: , Errors-To: test-report-bounces@dpdk.org Test-Label: iol-unit-amd64-testing Test-Status: SUCCESS http://dpdk.org/patch/158982 _Testing PASS_ Submitter: Andrew Bailey Date: Friday, November 21 2025 21:06:50 DPDK git baseline: Repo:dpdk-next-dts Branch: master CommitID:53e368696fe13360483caeb8a2ec66827e295bec 158982 --> testing pass Upstream job id: Generic-VM-Unit-Test-DPDK#32737 Test environment and result as below: +-------------------------------+----------------+ | Environment | dpdk_unit_test | +===============================+================+ | Ubuntu 24.04 | PASS | +-------------------------------+----------------+ | Fedora Linux 42 | PASS | +-------------------------------+----------------+ | Ubuntu 22.04 | PASS | +-------------------------------+----------------+ | CentOS Stream 9 | PASS | +-------------------------------+----------------+ | Red Hat Enterprise Linux 8.10 | PASS | +-------------------------------+----------------+ | Ubuntu 20.04 | PASS | +-------------------------------+----------------+ | Fedora Linux 41 | PASS | +-------------------------------+----------------+ | Fedora Linux 40 | PASS | +-------------------------------+----------------+ | Debian GNU/Linux 12 | PASS | +-------------------------------+----------------+ | CentOS Stream 10 | PASS | +-------------------------------+----------------+ | Red Hat Enterprise Linux 9.5 | PASS | +-------------------------------+----------------+ | Windows Server 2022 | PASS | +-------------------------------+----------------+ Ubuntu 24.04 Kernel: 5.15 Compiler: gcc gcc (Ubuntu 13.3.0-6ubuntu2~24.04) 13.3.0 Fedora Linux 42 Kernel: 5.15 Compiler: gcc gcc (GCC) 15.2.1 20250808 (Red Hat 15.2.1-1) Ubuntu 22.04 Kernel: 5.15 Compiler: gcc gcc (Ubuntu 11.4.0-1ubuntu1~22.04) 11.4.0 CentOS Stream 9 Kernel: 5.15 Compiler: gcc gcc (GCC) 11.5.0 20240719 (Red Hat 11.5.0-11) Red Hat Enterprise Linux 8.10 Kernel: 5.15 Compiler: gcc gcc (GCC) 8.5.0 20210514 (Red Hat 8.5.0-22) Ubuntu 20.04 Kernel: 5.15 Compiler: gcc gcc (Ubuntu 9.4.0-1ubuntu1~20.04.2) 9.4.0 Fedora Linux 41 Kernel: 5.15 Compiler: gcc gcc (GCC) 14.3.1 20250523 (Red Hat 14.3.1-1) Fedora Linux 40 Kernel: 5.15 Compiler: clang gcc (GCC) 14.2.1 20240912 (Red Hat 14.2.1-3) Debian GNU/Linux 12 Kernel: 5.15 Compiler: gcc gcc (Debian 12.2.0-14+deb12u1) 12.2.0 CentOS Stream 10 Kernel: 5.15 Compiler: gcc gcc (GCC) 14.2.1 20250110 (Red Hat 14.2.1-8) Red Hat Enterprise Linux 9.5 Kernel: 5.15 Compiler: gcc gcc (GCC) 11.5.0 20240719 (Red Hat 11.5.0-2) Windows Server 2022 Kernel: 10.0.20348.2031 Compiler: clang 15.0.7, gcc 14.1.0 (MinGW), and MSVC VS 19.39.33521 To view detailed results, visit: https://lab.dpdk.org/results/dashboard/patchsets/34656/ UNH-IOL DPDK Community Lab To manage your email subscriptions, visit: https://lab.dpdk.org/results/dashboard/preferences/subscriptions/