From mboxrd@z Thu Jan 1 00:00:00 1970 Return-Path: Received: from mails.dpdk.org (mails.dpdk.org [217.70.189.124]) by inbox.dpdk.org (Postfix) with ESMTP id 1746548B6F for ; Sat, 22 Nov 2025 02:31:17 +0100 (CET) Received: from mails.dpdk.org (localhost [127.0.0.1]) by mails.dpdk.org (Postfix) with ESMTP id EBE17400EF; Sat, 22 Nov 2025 02:31:16 +0100 (CET) Received: from mail-il1-f225.google.com (mail-il1-f225.google.com [209.85.166.225]) by mails.dpdk.org (Postfix) with ESMTP id BF7E7400EF for ; Sat, 22 Nov 2025 02:31:15 +0100 (CET) Received: by mail-il1-f225.google.com with SMTP id e9e14a558f8ab-4336f8e97c3so11850475ab.3 for ; Fri, 21 Nov 2025 17:31:15 -0800 (PST) DKIM-Signature: v=1; a=rsa-sha256; c=relaxed/relaxed; d=iol.unh.edu; s=unh-iol; t=1763775075; x=1764379875; darn=dpdk.org; h=references:in-reply-to:cc:to:from:subject:message-id:date:from:to :cc:subject:date:message-id:reply-to; bh=zbyuoLrjODbtxXgrD+/nMTKoDa5aoBDU6tqs/5KieFk=; b=dnZdEUHN4V/n2L40NFeJkKfo1Ped3oVNVMQQsmfx8Yh4Wm1jDNmYKIxayW8AH32KpU PICYPYegapoIyISlM+cn1fsATNzICDSfH1WvwfT2vd+saCtUDNA7JrCAh6/L5eaMecqN xLwBme3K2gTrSaoS0E+T7ijjFptik93yokf8Y= X-Google-DKIM-Signature: v=1; a=rsa-sha256; c=relaxed/relaxed; d=1e100.net; s=20230601; t=1763775075; x=1764379875; h=references:in-reply-to:cc:to:from:subject:message-id:date:x-gm-gg :x-gm-message-state:from:to:cc:subject:date:message-id:reply-to; bh=zbyuoLrjODbtxXgrD+/nMTKoDa5aoBDU6tqs/5KieFk=; b=ixuLHc//LWA+DT/8Gymqg/g1oTXnI3AzMDZfOaLJA601ZdQq4MLu0Za/3zVFfITJ6q dUktpNmOAUtosnNIILMzJAEpxbOfMsG305OT8JhZNmbMrOzEeXuoWE/qFJM6wlSCiXMy e47OvqmA61R3o4wththSkFWHeUd9mwdxuk73RRJQVT22bhxRMJ1ajv+I2sGqQq9GJSeK Y5PpbtARxbm+YmnrAv1FpVHl8vLubmRttTs5HbzTe1EAf1j/iHLoq4e9Nc06uWm9amMc oCNpid9noDNUqlgBVI+0JpQiZMVnelB54uTiV2W8cUscSw6UG0OnTZp3BUXAM3ETzSkC TDQQ== X-Gm-Message-State: AOJu0YwhwH7abzpAbPNQbA9OqcnFMXHlm+I2gZN/rgAAdQien0a4c3XW D3ajz7BB4xRS0eA7FiE2wxex7e7zWbQZ99bBwMDq8NErUM99otSrHq1MPbtKcxwEfSkT1M3yh9u 1IZgIyoP76mPorCbVfHsr0r8uYdu9QNt5ly9XOOf/d4AidDahSFtDWtSbFyyL X-Gm-Gg: ASbGncveLpy8+yIFQv3ZKmvPZZGcKMjpbMfgcQwfHoQPYMdC7wxkNjUZeTFDnbCj6g8 ajgmJH2djVzPQx9MQFYhNAMjHoQ0lMmeqiOjWzlZxkFzF3P+6eyFAY168wEaZ0mAL8a5rhtVHwd hTLAIyQrSPahBTKUBFxPYOSrUTVRfwWbmDhCgR1/2jJmBAFbUgz5PDfEeBZLf1eRXKtb9jf53ax rTB8tPp7rrXkGkE2Ix6Xp3CeXhcXSjvDoAgcjx0BX3DZez/5iFA3i8IVMSfry9SQhjs/dOqk0e7 etj5wYjM8374K42ZJKYP6rPmxBInzvUuZhVcSlEDCNJlWdJ1zcYbNxFafR+IL/o+XgstFbIQx0I Max3a5OGmmtyE/Y8QuME= X-Google-Smtp-Source: AGHT+IG2iKJ4CM9Fd+r8h2oDHJjzYNwWsKfJgSx2RaMGSKwr+VYgRjLPIJXDLmtAz0UWfdLFbDqzWiApEORv X-Received: by 2002:a05:6638:2997:b0:5b7:3b49:e76a with SMTP id 8926c6da1cb9f-5b967a222fdmr2457015173.10.1763775074974; Fri, 21 Nov 2025 17:31:14 -0800 (PST) Received: from postal.iol.unh.edu (postal.iol.unh.edu. [2606:4100:3880:1234::84]) by smtp-relay.gmail.com with ESMTPS id 8926c6da1cb9f-5b954b16f1bsm650522173.25.2025.11.21.17.31.14 (version=TLS1_2 cipher=ECDHE-ECDSA-AES128-GCM-SHA256 bits=128/128); Fri, 21 Nov 2025 17:31:14 -0800 (PST) X-Relaying-Domain: iol.unh.edu Date: Fri, 21 Nov 2025 17:31:14 -0800 (PST) Message-ID: <69211262.050a0220.25d207.0c03SMTPIN_ADDED_MISSING@mx.google.com> Received: from [172.21.0.2] (unknown [172.18.0.240]) by postal.iol.unh.edu (Postfix) with ESMTP id 7BD7B6051830; Fri, 21 Nov 2025 20:31:14 -0500 (EST) Subject: |SUCCESS| pw158971 [PATCH] [v3] eal/x86: optimize memcpy of small si From: dpdklab@iol.unh.edu To: Test Report Cc: dpdk-test-reports@iol.unh.edu In-Reply-To: <20251121104052.1273637-1-mb@smartsharesystems.com> References: <20251121104052.1273637-1-mb@smartsharesystems.com> Content-Type: text/plain X-BeenThere: test-report@dpdk.org X-Mailman-Version: 2.1.29 Precedence: list List-Id: automatic DPDK test reports List-Unsubscribe: , List-Archive: List-Post: List-Help: List-Subscribe: , Errors-To: test-report-bounces@dpdk.org Test-Label: iol-unit-arm64-testing Test-Status: SUCCESS http://dpdk.org/patch/158971 _Testing PASS_ Submitter: Morten Brorup Date: Friday, November 21 2025 10:40:51 DPDK git baseline: Repo:dpdk Branch: master CommitID:ef98b88455bf4a7c8b7aa3106a761c9e9270d6a3 158971 --> testing pass Upstream job id: Generic-Unit-Test-DPDK#394987 Test environment and result as below: +------------------------------+------------------------------+----------------+--------------+---------------------------+ | Environment | cryptodev_sw_snow3g_autotest | dpdk_unit_test | lpm_autotest | cryptodev_sw_zuc_autotest | +==============================+==============================+================+==============+===========================+ | Debian 12 (arm) | PASS | SKIPPED | SKIPPED | PASS | +------------------------------+------------------------------+----------------+--------------+---------------------------+ | Debian GNU/Linux 12 | SKIPPED | PASS | SKIPPED | SKIPPED | +------------------------------+------------------------------+----------------+--------------+---------------------------+ | Fedora Linux 41 | SKIPPED | PASS | SKIPPED | SKIPPED | +------------------------------+------------------------------+----------------+--------------+---------------------------+ | Ubuntu 22.04 | SKIPPED | PASS | SKIPPED | SKIPPED | +------------------------------+------------------------------+----------------+--------------+---------------------------+ | Fedora Linux 40 | SKIPPED | PASS | SKIPPED | SKIPPED | +------------------------------+------------------------------+----------------+--------------+---------------------------+ | Fedora Linux 42 | SKIPPED | PASS | SKIPPED | SKIPPED | +------------------------------+------------------------------+----------------+--------------+---------------------------+ | Ubuntu 20.04 | SKIPPED | PASS | PASS | SKIPPED | +------------------------------+------------------------------+----------------+--------------+---------------------------+ | CentOS Stream 9 | SKIPPED | PASS | SKIPPED | SKIPPED | +------------------------------+------------------------------+----------------+--------------+---------------------------+ | Ubuntu 24.04 | SKIPPED | PASS | SKIPPED | SKIPPED | +------------------------------+------------------------------+----------------+--------------+---------------------------+ | CentOS Stream 10 | SKIPPED | PASS | SKIPPED | SKIPPED | +------------------------------+------------------------------+----------------+--------------+---------------------------+ | Red Hat Enterprise Linux 9.5 | SKIPPED | PASS | SKIPPED | SKIPPED | +------------------------------+------------------------------+----------------+--------------+---------------------------+ Debian 12 (arm) Kernel: Depends on container host Compiler: gcc (Debian 12.2.0-14) 12.2.0 Debian GNU/Linux 12 Kernel: 5.4 Compiler: gcc gcc (Debian 12.2.0-14+deb12u1) 12.2.0 Fedora Linux 41 Kernel: 5.4 Compiler: clang gcc (GCC) 14.3.1 20250523 (Red Hat 14.3.1-1) Ubuntu 22.04 Kernel: 5.4 Compiler: gcc gcc (Ubuntu 11.4.0-1ubuntu1~22.04) 11.4.0 Fedora Linux 40 Kernel: 5.4 Compiler: clang gcc (GCC) 14.2.1 20240912 (Red Hat 14.2.1-3) Fedora Linux 42 Kernel: 5.4 Compiler: gcc gcc (GCC) 15.2.1 20250808 (Red Hat 15.2.1-1) Ubuntu 20.04 Kernel: 5.4 Compiler: gcc gcc (Ubuntu 9.4.0-1ubuntu1~20.04.2) 9.4.0 CentOS Stream 9 Kernel: 5.4 Compiler: gcc gcc (GCC) 11.5.0 20240719 (Red Hat 11.5.0-11) Ubuntu 24.04 Kernel: 5.4 Compiler: gcc gcc (Ubuntu 13.3.0-6ubuntu2~24.04) 13.3.0 CentOS Stream 10 Kernel: 5.4 Compiler: gcc gcc (GCC) 14.2.1 20250110 (Red Hat 14.2.1-8) Red Hat Enterprise Linux 9.5 Kernel: 5.4 Compiler: gcc gcc (GCC) 11.5.0 20240719 (Red Hat 11.5.0-2) To view detailed results, visit: https://lab.dpdk.org/results/dashboard/patchsets/34653/ UNH-IOL DPDK Community Lab To manage your email subscriptions, visit: https://lab.dpdk.org/results/dashboard/preferences/subscriptions/