From mboxrd@z Thu Jan 1 00:00:00 1970 Return-Path: Received: from mails.dpdk.org (mails.dpdk.org [217.70.189.124]) by inbox.dpdk.org (Postfix) with ESMTP id DDDEF48B6F for ; Sat, 22 Nov 2025 02:47:44 +0100 (CET) Received: from mails.dpdk.org (localhost [127.0.0.1]) by mails.dpdk.org (Postfix) with ESMTP id C6CD0400EF; Sat, 22 Nov 2025 02:47:44 +0100 (CET) Received: from mail-il1-f227.google.com (mail-il1-f227.google.com [209.85.166.227]) by mails.dpdk.org (Postfix) with ESMTP id DFDE8400EF for ; Sat, 22 Nov 2025 02:47:42 +0100 (CET) Received: by mail-il1-f227.google.com with SMTP id e9e14a558f8ab-4330d78f935so10011655ab.2 for ; Fri, 21 Nov 2025 17:47:42 -0800 (PST) DKIM-Signature: v=1; a=rsa-sha256; c=relaxed/relaxed; d=iol.unh.edu; s=unh-iol; t=1763776062; x=1764380862; darn=dpdk.org; h=references:in-reply-to:cc:to:from:subject:message-id:date:from:to :cc:subject:date:message-id:reply-to; bh=02xrDXRYO/KCHutHaXi5RVh2z0QLfJRj5aS7S2jXB8w=; b=jUU6WQUqoPuhJCQJUVBaI0guQ4PW4tNOAjcclsFTmSaBE1EV4ZPGDZ0c09cHcjRP3m /7SEz4lAjI5ad2Y+6wM35gDjoX0gM08sshqMwm9LFDY6bJHFOEc+yscHG5xbR5UBdkvj xUVYvDGPn5f8tWQq8Bkxul3AHD9r9LJo6fExI= X-Google-DKIM-Signature: v=1; a=rsa-sha256; c=relaxed/relaxed; d=1e100.net; s=20230601; t=1763776062; x=1764380862; h=references:in-reply-to:cc:to:from:subject:message-id:date:x-gm-gg :x-gm-message-state:from:to:cc:subject:date:message-id:reply-to; bh=02xrDXRYO/KCHutHaXi5RVh2z0QLfJRj5aS7S2jXB8w=; b=JfllOiVwRQIAZNwgk9P2rtKqNS/5IZYY8ZVEsBN6RwDgbV5QNMMg88dddDtNd7J65X PP8ytInBwkX50akcRWDrPhs3IhrAK9T4NWqEBREUOtrhw1rRLdK0UJ7bzgBPyk8uHfDR eQtmwXpSANesGaGuIHIC0hgv46rpWa7lRecODgp9jO0l2PjDg2PisTqlUst4q9I5zbfC B8fgqwA4ld0vwUwDOg+yvR6jj4PPZqoFw4TJmcT47Y1e2TR7oRPVDnMYoHqvnAb53gDk wZcFPz/H33N9aYa7FqGTSBcS1j64O1V2eoQUTjf5vVZc5JhFKc7T1uyuFjpH5UmkY4MG kovQ== X-Gm-Message-State: AOJu0YwGAPWCf3108G856FNWTfAlotqnz8kau4xHY9HmJHr7yI29vR+8 2LE9SekmKQHzzNwdMtsVMM526s1YPguyHbKy9fmiTReUziWLSsqFoaDngJglLtSRQoJrpsr7U2i qTDICaMTAH1FwW51VaHgoGQH0wQpAtT23pIt+QYNaP3Fg X-Gm-Gg: ASbGncuqejeT+2YY2rlKqQUOrOLw3XK54YzbMr4OScKW5UFao+1NUruwRbzieberInQ OOzRrLRpUGSeDGCDvcyPQ2JsNUUEicsw2/Pv89N3u4nEuxP8dUchyJMoA2Bsg212R4T2EPp57zk Y2mxqNN/DLfYFhotDfCUjdFlMykZAZh5sK9xoKllzHkJMk4Xepmb1nl/OdSy8UdfDgobcP2lI9m 1Iz5lSb+9z7PLPZ+gIZ0s5zOaMtd/udz61qozKS2lncC3c/hDSKA5fll9GE/D+zSnxQXhcXx+kR keZKjJ8ONtQb62FlAmQNkmCayNBJB5FKPczb8ZF4TJbBn6jhYg2Fq/7EIxyVIv5CjZbTQSMsXAf sZRtrRfhqwESRgYJC6VM6Jrkw31uLTs+5Acxs9pehNQ== X-Google-Smtp-Source: AGHT+IGoxmNYpbyJaKqqcMDF2FOeuuTFcsPHW+VX3ywRTXd9uHkp67zw7XJc/6mPwdHr7zRvhuCExGMTzBPn X-Received: by 2002:a05:6e02:1745:b0:433:7964:d82e with SMTP id e9e14a558f8ab-435b8c0ea3amr29972195ab.13.1763776062215; Fri, 21 Nov 2025 17:47:42 -0800 (PST) Received: from postal.iol.unh.edu (postal.iol.unh.edu. [132.177.123.84]) by smtp-relay.gmail.com with ESMTPS id e9e14a558f8ab-435a905dd27sm6318235ab.8.2025.11.21.17.47.42 (version=TLS1_2 cipher=ECDHE-ECDSA-AES128-GCM-SHA256 bits=128/128); Fri, 21 Nov 2025 17:47:42 -0800 (PST) X-Relaying-Domain: iol.unh.edu Date: Fri, 21 Nov 2025 17:47:42 -0800 (PST) Message-ID: <6921163e.050a0220.2cfdba.f83eSMTPIN_ADDED_MISSING@mx.google.com> Received: from [172.21.0.2] (unknown [172.18.0.240]) by postal.iol.unh.edu (Postfix) with ESMTP id 66B156051830; Fri, 21 Nov 2025 20:47:41 -0500 (EST) Subject: |SUCCESS| pw158971 [PATCH] [v3] eal/x86: optimize memcpy of small si From: dpdklab@iol.unh.edu To: Test Report Cc: dpdk-test-reports@iol.unh.edu In-Reply-To: <20251121104052.1273637-1-mb@smartsharesystems.com> References: <20251121104052.1273637-1-mb@smartsharesystems.com> Content-Type: text/plain X-BeenThere: test-report@dpdk.org X-Mailman-Version: 2.1.29 Precedence: list List-Id: automatic DPDK test reports List-Unsubscribe: , List-Archive: List-Post: List-Help: List-Subscribe: , Errors-To: test-report-bounces@dpdk.org Test-Label: iol-compile-arm64-testing Test-Status: SUCCESS http://dpdk.org/patch/158971 _Testing PASS_ Submitter: Morten Brorup Date: Friday, November 21 2025 10:40:51 DPDK git baseline: Repo:dpdk Branch: master CommitID:ef98b88455bf4a7c8b7aa3106a761c9e9270d6a3 158971 --> testing pass Upstream job id: Generic-DPDK-Compile-Meson#446579 Test environment and result as below: +------------------------------+--------------------+ | Environment | dpdk_meson_compile | +==============================+====================+ | Ubuntu 20.04 | PASS | +------------------------------+--------------------+ | Red Hat Enterprise Linux 9.5 | PASS | +------------------------------+--------------------+ | Debian GNU/Linux 12 | PASS | +------------------------------+--------------------+ | Fedora Linux 42 | PASS | +------------------------------+--------------------+ | Ubuntu 22.04 | PASS | +------------------------------+--------------------+ | Ubuntu 24.04 | PASS | +------------------------------+--------------------+ | CentOS Stream 9 | PASS | +------------------------------+--------------------+ | CentOS Stream 10 | PASS | +------------------------------+--------------------+ Ubuntu 20.04 Kernel: 5.15 Compiler: aarch64-linux-gnu-gcc gcc (Ubuntu 9.4.0-1ubuntu1~20.04.2) 9.4.0 Red Hat Enterprise Linux 9.5 Kernel: 5.4 Compiler: gcc gcc (GCC) 11.5.0 20240719 (Red Hat 11.5.0-2) Debian GNU/Linux 12 Kernel: 5.4 Compiler: gcc gcc (Debian 12.2.0-14+deb12u1) 12.2.0 Fedora Linux 42 Kernel: 5.4 Compiler: gcc gcc (GCC) 15.2.1 20250808 (Red Hat 15.2.1-1) Ubuntu 22.04 Kernel: 5.4 Compiler: gcc gcc (Ubuntu 11.4.0-1ubuntu1~22.04) 11.4.0 Ubuntu 24.04 Kernel: 5.4 Compiler: gcc gcc (Ubuntu 13.3.0-6ubuntu2~24.04) 13.3.0 CentOS Stream 9 Kernel: 5.4 Compiler: gcc gcc (GCC) 11.5.0 20240719 (Red Hat 11.5.0-11) CentOS Stream 10 Kernel: 5.4 Compiler: gcc gcc (GCC) 14.2.1 20250110 (Red Hat 14.2.1-8) To view detailed results, visit: https://lab.dpdk.org/results/dashboard/patchsets/34653/ UNH-IOL DPDK Community Lab To manage your email subscriptions, visit: https://lab.dpdk.org/results/dashboard/preferences/subscriptions/