From mboxrd@z Thu Jan 1 00:00:00 1970 Return-Path: Received: from mails.dpdk.org (mails.dpdk.org [217.70.189.124]) by inbox.dpdk.org (Postfix) with ESMTP id 7715D48B6F for ; Sat, 22 Nov 2025 02:53:59 +0100 (CET) Received: from mails.dpdk.org (localhost [127.0.0.1]) by mails.dpdk.org (Postfix) with ESMTP id 51ACB400EF; Sat, 22 Nov 2025 02:53:59 +0100 (CET) Received: from mail-oo1-f97.google.com (mail-oo1-f97.google.com [209.85.161.97]) by mails.dpdk.org (Postfix) with ESMTP id 9E097400EF for ; Sat, 22 Nov 2025 02:53:57 +0100 (CET) Received: by mail-oo1-f97.google.com with SMTP id 006d021491bc7-656b612e607so1206992eaf.2 for ; Fri, 21 Nov 2025 17:53:57 -0800 (PST) DKIM-Signature: v=1; a=rsa-sha256; c=relaxed/relaxed; d=iol.unh.edu; s=unh-iol; t=1763776437; x=1764381237; darn=dpdk.org; h=cc:to:from:subject:message-id:date:from:to:cc:subject:date :message-id:reply-to; bh=ex1HFvIyqFSo/Pj1/7Zg7n87VZcGIRvFKfr8h2nWS4Q=; b=PJuzSMYhgMsGYU+ObwfeOf0KtwiicqW+pBcUc02/cEBhOgKXoRiUdiDOZtu1cQLhC0 QNRc9Ojrb+Z4kSB+ckIWJYjR7+btah4NUUgLj10ypo6sg4Ku/6VVxkmRpR+6oqO4EeQC +fhj8+VFW28T+IQs4vchy/c2JcDBTcazdR52c= X-Google-DKIM-Signature: v=1; a=rsa-sha256; c=relaxed/relaxed; d=1e100.net; s=20230601; t=1763776437; x=1764381237; h=cc:to:from:subject:message-id:date:x-gm-gg:x-gm-message-state:from :to:cc:subject:date:message-id:reply-to; bh=ex1HFvIyqFSo/Pj1/7Zg7n87VZcGIRvFKfr8h2nWS4Q=; b=bkNjGMywaWhhcxiSibQXKvd7fvxePQWf23eAUyETCDDP6UDoqx8GaUhaIGrPS58NEi 425/OC8E+xTzWqhmPhvqDRefo4pmwPBqTUKeIH76WBLbxRpIURdf6VC12/XaclJRZlv2 kb2RAW5xm+AOEigdIQ8bNGXXFZsRS0JvydlTkJsTGxG021MNYaf2N0AVK2uHgTZ4FdHp aAfqH1yiKqzMwJ6t+Q8gzcttQO5IwmJ/0xdY71JPxRENpXdR5pXEZzZj3iMgVDMGfIgt V9H2Od8qPEnrD4TcLHISH4L1YHq33GYjVJBhAPoGoDbA3v2l+SmxwTlODGaYWAKVixUB opJQ== X-Gm-Message-State: AOJu0YxoqABl31Y67yhQAB035DJWzn8avjyqX5NEIXe0S5M2yRSM01ev WIR0DFtxLU5auuTjre74UXiinq/YPU5u0t8Mz9ksmo6PYgkJ+QnUtv0Yv59ejtJbJnm0JnOm3s/ +FdGmPmwAUOOupBTyEe1rDmhTHvTLfQIBhB1n9H/zO1yz8XntgCXC0vaq0ymK X-Gm-Gg: ASbGncsdJ/Id+xw/xI3o6hWFIFfnHHwycPwENwl88pz1f1xgEhE8FY29K0RJL7znMFd N+5LWbHQ/u+s3GhC3VKwtY2hkGch1yeDgtcUbYiDBT8Ga8dcPNRYtcxW+9y0DXMhqEBW17gwnM4 fsZ4pM/Ir+s750lhUP4Y6zHdGeQxfL9hcIx0BONcmwfFxA9f+lInU1Jym/rrIyOdere8hPQBFZl cznKTEJJe0dJtENyPIHHlIYuTPTdk/07i7nmR+rlrHs6ZHmk94kbFm/lVbc7pAHhqtBgdFo3Y7N znaSjlwSwE6+11D3JcA1GSUG1pqxQAL3QrC47rT3IFxtapi8Dj68xAgSw0NZAFsPTosU5cRmSwB CkG3p/0bIBqFWNU05AC8= X-Google-Smtp-Source: AGHT+IFqC9nVRm3Q5h9kawF7X8/pIvgb7kTez/msAwfZgn7TsKzyzIaPBSjcmTwf4D4TkH3SiKOlc8JsgpFO X-Received: by 2002:a05:6808:148c:b0:450:4628:e3ef with SMTP id 5614622812f47-4511296b0c0mr1977697b6e.16.1763776436595; Fri, 21 Nov 2025 17:53:56 -0800 (PST) Received: from postal.iol.unh.edu (postal.iol.unh.edu. [2606:4100:3880:1234::84]) by smtp-relay.gmail.com with ESMTPS id 586e51a60fabf-3ec9dc787besm662959fac.16.2025.11.21.17.53.56 (version=TLS1_2 cipher=ECDHE-ECDSA-AES128-GCM-SHA256 bits=128/128); Fri, 21 Nov 2025 17:53:56 -0800 (PST) X-Relaying-Domain: iol.unh.edu Date: Fri, 21 Nov 2025 17:53:56 -0800 (PST) Message-ID: <692117b4.050a0220.b7ea8.120dSMTPIN_ADDED_MISSING@mx.google.com> Received: from [172.21.0.3] (unknown [172.18.0.240]) by postal.iol.unh.edu (Postfix) with ESMTP id 141D06051830; Fri, 21 Nov 2025 20:53:56 -0500 (EST) Subject: |SUCCESS| [GIT MASTER] ef98b88455bf4a7c8b7aa3106a761c9e9270d6a3 From: dpdklab@iol.unh.edu To: Test Report Cc: dpdk-test-reports@iol.unh.edu Content-Type: text/plain X-BeenThere: test-report@dpdk.org X-Mailman-Version: 2.1.29 Precedence: list List-Id: automatic DPDK test reports List-Unsubscribe: , List-Archive: List-Post: List-Help: List-Subscribe: , Errors-To: test-report-bounces@dpdk.org _Testing PASS_ Branch: dpdk ef98b88455bf4a7c8b7aa3106a761c9e9270d6a3 --> testing pass Upstream job id: Generic-DPDK-Compile-Meson#446681 Test environment and result as below: +-------------------------------+--------------------+-------------------+------------------+-------------------------+----------------------+ | Environment | dpdk_meson_compile | dpdk_msvc_compile | dpdk_compile_ovs | dpdk_llvm_clang_compile | dpdk_mingw64_compile | +===============================+====================+===================+==================+=========================+======================+ | Debian GNU/Linux 12 | PASS | SKIPPED | SKIPPED | SKIPPED | SKIPPED | +-------------------------------+--------------------+-------------------+------------------+-------------------------+----------------------+ | Red Hat Enterprise Linux 8.10 | PASS | SKIPPED | SKIPPED | SKIPPED | SKIPPED | +-------------------------------+--------------------+-------------------+------------------+-------------------------+----------------------+ | CentOS Stream 9 | PASS | SKIPPED | SKIPPED | SKIPPED | SKIPPED | +-------------------------------+--------------------+-------------------+------------------+-------------------------+----------------------+ | Ubuntu 20.04 | PASS | SKIPPED | SKIPPED | SKIPPED | SKIPPED | +-------------------------------+--------------------+-------------------+------------------+-------------------------+----------------------+ | CentOS Stream 10 | PASS | SKIPPED | SKIPPED | SKIPPED | SKIPPED | +-------------------------------+--------------------+-------------------+------------------+-------------------------+----------------------+ | Ubuntu 22.04 | PASS | SKIPPED | SKIPPED | SKIPPED | SKIPPED | +-------------------------------+--------------------+-------------------+------------------+-------------------------+----------------------+ | openSUSE Leap 15.6 | PASS | SKIPPED | SKIPPED | SKIPPED | SKIPPED | +-------------------------------+--------------------+-------------------+------------------+-------------------------+----------------------+ | Red Hat Enterprise Linux 9.5 | PASS | SKIPPED | SKIPPED | SKIPPED | SKIPPED | +-------------------------------+--------------------+-------------------+------------------+-------------------------+----------------------+ | Fedora Linux 42 | PASS | SKIPPED | PASS | SKIPPED | SKIPPED | +-------------------------------+--------------------+-------------------+------------------+-------------------------+----------------------+ | Arch Linux 20250613.0.365270 | PASS | SKIPPED | SKIPPED | SKIPPED | SKIPPED | +-------------------------------+--------------------+-------------------+------------------+-------------------------+----------------------+ | Alpine Linux 3.22.0 | PASS | SKIPPED | SKIPPED | SKIPPED | SKIPPED | +-------------------------------+--------------------+-------------------+------------------+-------------------------+----------------------+ | Ubuntu 24.04 | PASS | SKIPPED | PASS | SKIPPED | SKIPPED | +-------------------------------+--------------------+-------------------+------------------+-------------------------+----------------------+ | FreeBSD 14.2 | PASS | SKIPPED | SKIPPED | SKIPPED | SKIPPED | +-------------------------------+--------------------+-------------------+------------------+-------------------------+----------------------+ | Windows Server 2022 | SKIPPED | PASS | SKIPPED | SKIPPED | PASS | +-------------------------------+--------------------+-------------------+------------------+-------------------------+----------------------+ | Windows Server 2025 | SKIPPED | SKIPPED | SKIPPED | PASS | SKIPPED | +-------------------------------+--------------------+-------------------+------------------+-------------------------+----------------------+ Debian GNU/Linux 12 Kernel: 5.15 Compiler: gcc gcc (Debian 12.2.0-14+deb12u1) 12.2.0 Red Hat Enterprise Linux 8.10 Kernel: 5.15 Compiler: gcc gcc (GCC) 8.5.0 20210514 (Red Hat 8.5.0-22) CentOS Stream 9 Kernel: 5.15 Compiler: gcc gcc (GCC) 11.5.0 20240719 (Red Hat 11.5.0-11) Ubuntu 20.04 Kernel: 5.15 Compiler: gcc gcc (Ubuntu 9.4.0-1ubuntu1~20.04.2) 9.4.0 CentOS Stream 10 Kernel: 5.15 Compiler: gcc gcc (GCC) 14.2.1 20250110 (Red Hat 14.2.1-8) Ubuntu 22.04 Kernel: 5.15 Compiler: gcc gcc (Ubuntu 11.4.0-1ubuntu1~22.04) 11.4.0 openSUSE Leap 15.6 Kernel: 5.15 Compiler: gcc gcc (SUSE Linux) 7.5.0 Red Hat Enterprise Linux 9.5 Kernel: 5.15 Compiler: gcc gcc (GCC) 11.5.0 20240719 (Red Hat 11.5.0-2) Fedora Linux 42 Kernel: 5.15 Compiler: gcc gcc (GCC) 15.2.1 20250808 (Red Hat 15.2.1-1) Arch Linux 20250613.0.365270 Kernel: 5.15 Compiler: gcc gcc (GCC) 15.1.1 20250425 Alpine Linux 3.22.0 Kernel: 5.15 Compiler: gcc gcc (Alpine 14.2.0) 14.2.0 Ubuntu 24.04 Kernel: 5.15 Compiler: gcc gcc (Ubuntu 13.3.0-6ubuntu2~24.04) 13.3.0 FreeBSD 14.2 Kernel: 14.2-RELEASE Compiler: clang 18.1.6 Windows Server 2022 Kernel: 10.0.20348.2031 Compiler: clang 15.0.7, gcc 14.1.0 (MinGW), and MSVC VS 19.39.33521 Windows Server 2025 Kernel: 10.0.26100 Compiler: clang 15.0.7, gcc 14.1.0 (MinGW), and MSVC VS 19.39.33521 To view detailed results, visit: https://lab.dpdk.org/results/dashboard/tarballs/35679/ UNH-IOL DPDK Community Lab To manage your email subscriptions, visit: https://lab.dpdk.org/results/dashboard/preferences/subscriptions/