From mboxrd@z Thu Jan 1 00:00:00 1970 Return-Path: Received: from mails.dpdk.org (mails.dpdk.org [217.70.189.124]) by inbox.dpdk.org (Postfix) with ESMTP id 43E2E48B6F for ; Sat, 22 Nov 2025 03:01:35 +0100 (CET) Received: from mails.dpdk.org (localhost [127.0.0.1]) by mails.dpdk.org (Postfix) with ESMTP id 19CB0400EF; Sat, 22 Nov 2025 03:01:35 +0100 (CET) Received: from mail-ot1-f99.google.com (mail-ot1-f99.google.com [209.85.210.99]) by mails.dpdk.org (Postfix) with ESMTP id 75B48400EF for ; Sat, 22 Nov 2025 03:01:33 +0100 (CET) Received: by mail-ot1-f99.google.com with SMTP id 46e09a7af769-7c78d30649aso1826776a34.2 for ; Fri, 21 Nov 2025 18:01:33 -0800 (PST) DKIM-Signature: v=1; a=rsa-sha256; c=relaxed/relaxed; d=iol.unh.edu; s=unh-iol; t=1763776892; x=1764381692; darn=dpdk.org; h=cc:to:from:subject:message-id:date:from:to:cc:subject:date :message-id:reply-to; bh=pU4+PSuL7oqVfZI+M1KzZ32BZBs01ITc/oRU8YG2lBI=; b=FT4wFE3653va9X7rmF3xHf2r8bph5PyE+0pstEyCiI8s9XG2HzFU9PXxafsC+7d0Lp lPUAgUxsb9DeNxtKiViw28rntJw+471qOHaEjW2H5isk3lNsDHBPOuDb68CCxJRqpCmM llNbcjHADjqlmwOhI4c8+tqMBSoD5m1zSxA8c= X-Google-DKIM-Signature: v=1; a=rsa-sha256; c=relaxed/relaxed; d=1e100.net; s=20230601; t=1763776892; x=1764381692; h=cc:to:from:subject:message-id:date:x-gm-gg:x-gm-message-state:from :to:cc:subject:date:message-id:reply-to; bh=pU4+PSuL7oqVfZI+M1KzZ32BZBs01ITc/oRU8YG2lBI=; b=gzr+jWpY/g5iKbb0HKxgGnnJZfSQHj/YysmH0qHoWDIWRRCsVtohW/tmTMZADc4ipP eUpwOiE1ucW2jvZcFeXWG0UVb9DbBC+QWQyNdirq1QgIkKIKDvsz1/Wu75opZbMSCXHd gAe+eqd4TKwPF/lyklHlqjXrWyrVn63xWKQZR+Uzp9+7POhveOJqhiBoi42ewhbARbwa kFyR/kLxkj/lpIXotgUudNgC+2XW1jilhYMuHFlkmJc+RjQy9HkUNVza84Kmi71lhVrG DECMbTR1VO6PdhLsgTIvDXnKcmB5LgKoZuaGi/9bC6w10jfQoCRzNkel1pypf5K6bIHE WMNg== X-Gm-Message-State: AOJu0YyYxMfN4yJYkVLL3AjR2qv0VEkZWzkC7tMjgv/XWM2HeToyF6tr v6fNiw6I1rM/LHW67Kzl4AH59h1S16daI8Vq4+oV0xTKdEKB1wiGkAhucKQmdIiTuJzAGWGq0e3 /b5aJBoLsRMvNnNPn2WPOzAImm8DqjWeP7LSWsRIzQewD X-Gm-Gg: ASbGnctcHrGRcM5jFOu8yqCM69BYmIRuNEVmC1nUXJlk9AMxzfdgQTmFIiTlgcjygKT ur7lHnCE+bKiordSZu6aHBhnWnsWNaFD9lWHs7ug/Cj4Og/B9D811A3+RqsBLAvWNaRuwQTIScF fGSmyShy6qsarrAXx/8r/F0mBfbtryuAuN5zQLV/b+qndEEVMRnGRc9Bzv6W6LL/L/ZklBzRqd8 K4L5nXwqoXhihGM3Qdpk+fjSaONPnQ3R0DsiJvSBjkRLlB7DtSl0eCOkiPtWTg4vXRsI6ABNzbJ /5SDht1RIj2FJYoZhWdJ2C81GM3IrtDmsHC2+UTplMrTQvIQ7BbPjeWPObo1LLk0YymusEOV8ta OsvHInE8H/VuoehkXKVmNkV2PylmZFOl5enfhpIQ9Wg== X-Google-Smtp-Source: AGHT+IFkpqEPDWFDsk0/cFVaZwO4KJlZebgxOIruhexg/5FTJGoC4bFeH/Ixyv4vsUehmHHQY/61CtxjyKn9 X-Received: by 2002:a05:6830:349b:b0:74a:1f03:db4b with SMTP id 46e09a7af769-7c798f7baaemr1881677a34.1.1763776892591; Fri, 21 Nov 2025 18:01:32 -0800 (PST) Received: from postal.iol.unh.edu (postal.iol.unh.edu. [132.177.123.84]) by smtp-relay.gmail.com with ESMTPS id 46e09a7af769-7c78d3a524bsm791430a34.6.2025.11.21.18.01.32 (version=TLS1_2 cipher=ECDHE-ECDSA-AES128-GCM-SHA256 bits=128/128); Fri, 21 Nov 2025 18:01:32 -0800 (PST) X-Relaying-Domain: iol.unh.edu Date: Fri, 21 Nov 2025 18:01:32 -0800 (PST) Message-ID: <6921197c.050a0220.1a0c03.7b2dSMTPIN_ADDED_MISSING@mx.google.com> Received: from [172.21.0.3] (unknown [172.18.0.240]) by postal.iol.unh.edu (Postfix) with ESMTP id 22F846051830; Fri, 21 Nov 2025 21:01:32 -0500 (EST) Subject: |SUCCESS| [GIT MASTER] ef98b88455bf4a7c8b7aa3106a761c9e9270d6a3 From: dpdklab@iol.unh.edu To: Test Report Cc: dpdk-test-reports@iol.unh.edu Content-Type: text/plain X-BeenThere: test-report@dpdk.org X-Mailman-Version: 2.1.29 Precedence: list List-Id: automatic DPDK test reports List-Unsubscribe: , List-Archive: List-Post: List-Help: List-Subscribe: , Errors-To: test-report-bounces@dpdk.org _Testing PASS_ Branch: dpdk ef98b88455bf4a7c8b7aa3106a761c9e9270d6a3 --> testing pass Upstream job id: Generic-VM-Unit-Test-DPDK#32739 Test environment and result as below: +-------------------------------+----------------+ | Environment | dpdk_unit_test | +===============================+================+ | CentOS Stream 9 | PASS | +-------------------------------+----------------+ | CentOS Stream 10 | PASS | +-------------------------------+----------------+ | Debian GNU/Linux 12 | PASS | +-------------------------------+----------------+ | Red Hat Enterprise Linux 9.5 | PASS | +-------------------------------+----------------+ | Fedora Linux 42 | PASS | +-------------------------------+----------------+ | Fedora Linux 41 | PASS | +-------------------------------+----------------+ | Ubuntu 22.04 | PASS | +-------------------------------+----------------+ | Fedora Linux 40 | PASS | +-------------------------------+----------------+ | Arch Linux 20250613.0.365270 | PASS | +-------------------------------+----------------+ | Ubuntu 20.04 | PASS | +-------------------------------+----------------+ | Red Hat Enterprise Linux 8.10 | PASS | +-------------------------------+----------------+ | Ubuntu 24.04 | PASS | +-------------------------------+----------------+ | Windows Server 2022 | PASS | +-------------------------------+----------------+ CentOS Stream 9 Kernel: 5.15 Compiler: gcc gcc (GCC) 11.5.0 20240719 (Red Hat 11.5.0-11) CentOS Stream 10 Kernel: 5.15 Compiler: gcc gcc (GCC) 14.2.1 20250110 (Red Hat 14.2.1-8) Debian GNU/Linux 12 Kernel: 5.15 Compiler: gcc gcc (Debian 12.2.0-14+deb12u1) 12.2.0 Red Hat Enterprise Linux 9.5 Kernel: 5.15 Compiler: gcc gcc (GCC) 11.5.0 20240719 (Red Hat 11.5.0-2) Fedora Linux 42 Kernel: 5.15 Compiler: gcc gcc (GCC) 15.2.1 20250808 (Red Hat 15.2.1-1) Fedora Linux 41 Kernel: 5.15 Compiler: clang gcc (GCC) 14.3.1 20250523 (Red Hat 14.3.1-1) Ubuntu 22.04 Kernel: 5.15 Compiler: gcc gcc (Ubuntu 11.4.0-1ubuntu1~22.04) 11.4.0 Fedora Linux 40 Kernel: 5.15 Compiler: gcc gcc (GCC) 14.2.1 20240912 (Red Hat 14.2.1-3) Arch Linux 20250613.0.365270 Kernel: 5.15 Compiler: gcc gcc (GCC) 15.1.1 20250425 Ubuntu 20.04 Kernel: 5.15 Compiler: gcc gcc (Ubuntu 9.4.0-1ubuntu1~20.04.2) 9.4.0 Red Hat Enterprise Linux 8.10 Kernel: 5.15 Compiler: gcc gcc (GCC) 8.5.0 20210514 (Red Hat 8.5.0-22) Ubuntu 24.04 Kernel: 5.15 Compiler: gcc gcc (Ubuntu 13.3.0-6ubuntu2~24.04) 13.3.0 Windows Server 2022 Kernel: 10.0.20348.2031 Compiler: clang 15.0.7, gcc 14.1.0 (MinGW), and MSVC VS 19.39.33521 To view detailed results, visit: https://lab.dpdk.org/results/dashboard/tarballs/35679/ UNH-IOL DPDK Community Lab To manage your email subscriptions, visit: https://lab.dpdk.org/results/dashboard/preferences/subscriptions/