From mboxrd@z Thu Jan 1 00:00:00 1970 Return-Path: Received: from mails.dpdk.org (mails.dpdk.org [217.70.189.124]) by inbox.dpdk.org (Postfix) with ESMTP id 88DBD48B6F for ; Sat, 22 Nov 2025 03:28:51 +0100 (CET) Received: from mails.dpdk.org (localhost [127.0.0.1]) by mails.dpdk.org (Postfix) with ESMTP id 6C1A0400EF; Sat, 22 Nov 2025 03:28:51 +0100 (CET) Received: from mail-il1-f227.google.com (mail-il1-f227.google.com [209.85.166.227]) by mails.dpdk.org (Postfix) with ESMTP id 0304A400EF for ; Sat, 22 Nov 2025 03:28:49 +0100 (CET) Received: by mail-il1-f227.google.com with SMTP id e9e14a558f8ab-4330d2ea04eso10520895ab.3 for ; Fri, 21 Nov 2025 18:28:49 -0800 (PST) DKIM-Signature: v=1; a=rsa-sha256; c=relaxed/relaxed; d=iol.unh.edu; s=unh-iol; t=1763778529; x=1764383329; darn=dpdk.org; h=references:in-reply-to:cc:to:from:subject:message-id:date:from:to :cc:subject:date:message-id:reply-to; bh=NUqpBUfhUB/ehwg+SGHuV9oot7dvGu9FfQLkPj9PWnQ=; b=T1X/211uwlXiamSpElye2CvIV3qPluKW2aatD6MuZpQgfDBX0xT3QIwXZinJQTJ/lo 0pXypDoWZdZX+3RKZrdnaFVnKSdkM14s5QrmMDp7jKklZc6iGG+3aYgPsZrrSfPAu+79 ctKxCFgvkioLIq/KAl2xzroRWeaxcMsKhyh/k= X-Google-DKIM-Signature: v=1; a=rsa-sha256; c=relaxed/relaxed; d=1e100.net; s=20230601; t=1763778529; x=1764383329; h=references:in-reply-to:cc:to:from:subject:message-id:date:x-gm-gg :x-gm-message-state:from:to:cc:subject:date:message-id:reply-to; bh=NUqpBUfhUB/ehwg+SGHuV9oot7dvGu9FfQLkPj9PWnQ=; b=ZWODFL+DDhOzD91K2iOyJdScnqGmKA7yf7nJPd/T8LQBAXXoEqwBHtzZu9fvUB0pkf yBKpXr070H2vdXn66bw7B9ZBEVRs51ZFLolXmShgDZXXCWTYdudh8wNWpDyycNQbl7XO FYoI05UCFJdZYoUfJo7qeMigr/OhF98HhXXJyWh2FgIbYjZ8zYqpVFPs+oCEDH6Kiw5o JizSHeej8l5kdVXq43dC82picj3haI6fh7m6zil704np8KTFTsklMmyc88KZmylwLPS1 EAGG7ba+mLqXiehtxoEzSEIrNm9xXiGawMDjm58q/JeceD/1T525CJiBVIlSiYeLhI5c buJw== X-Gm-Message-State: AOJu0Yz9heMQxd/z0wvHzPAJpZiwLNTEusq+Dn7mqTGdlT+VTpsutKyk qTO+r2XfWTfSDlzWpfkNU0htmGhYhNvYFjwSjmnreIuILXne/WtNSsP/oDnDGhNfPsu+In9hhau Sgdn4rHVssBpT0xw9NfCJg2nvBkcAaJB8XgSCenA7sVCi X-Gm-Gg: ASbGncvDEYlUihsflt/gDd8dSB3R5TGTZSYBHujKPnCerGpNyRybILmAuDSxBfllbee zeri2RzJ6yiSUTffvBqu9wAvw2LRQcqWtELfEWYN3ITy42O+VBNuU0Sh+oVU74NUoReIatI00qz 01Sxac5FP42rOigu/c3SBRmWAHP+/ydqWPXukYyupbbTL4ODJGnez7SoSNI454VH975QYcguQfz /g90Yr+Tyh9tIMcQZm5bCUYcdBYUcR3//AUWY6keXCPgdXIm7JgqH6XteQ3uKHJoPFZRi7NncZZ gn6Kv9gEIcJ1VLAkaeBRZqSaSmmHFJXksNjg1zQ8pa9mBuc4AwtuMfJlpKTnRljQ8uwBBi1/vQN 4KhTt+oauhQ/REGbM4rrjj/9fw0A6YQ87kFbU7n7SCg== X-Google-Smtp-Source: AGHT+IE1lTW6AAN2vD9koziLgjvtn+G9VVEN69e6W7S8o9eARe7iw3+AGgegT42lV8Wher3dv01oPiVskdbP X-Received: by 2002:a05:6e02:2684:b0:434:96ea:ff5d with SMTP id e9e14a558f8ab-435b8eb549cmr38891945ab.38.1763778529245; Fri, 21 Nov 2025 18:28:49 -0800 (PST) Received: from postal.iol.unh.edu (postal.iol.unh.edu. [132.177.123.84]) by smtp-relay.gmail.com with ESMTPS id e9e14a558f8ab-435a9055919sm6610625ab.3.2025.11.21.18.28.49 (version=TLS1_2 cipher=ECDHE-ECDSA-AES128-GCM-SHA256 bits=128/128); Fri, 21 Nov 2025 18:28:49 -0800 (PST) X-Relaying-Domain: iol.unh.edu Date: Fri, 21 Nov 2025 18:28:49 -0800 (PST) Message-ID: <69211fe1.050a0220.2d13f7.18d0SMTPIN_ADDED_MISSING@mx.google.com> Received: from [172.21.0.2] (unknown [172.18.0.240]) by postal.iol.unh.edu (Postfix) with ESMTP id BC8576051830; Fri, 21 Nov 2025 21:28:48 -0500 (EST) Subject: |SUCCESS| pw158792-158793 [PATCH] [v5,2/2] dts: add QinQ test suite From: dpdklab@iol.unh.edu To: Test Report Cc: dpdk-test-reports@iol.unh.edu In-Reply-To: <20251114164003.327455-2-dmarx@iol.unh.edu> References: <20251114164003.327455-2-dmarx@iol.unh.edu> Content-Type: text/plain X-BeenThere: test-report@dpdk.org X-Mailman-Version: 2.1.29 Precedence: list List-Id: automatic DPDK test reports List-Unsubscribe: , List-Archive: List-Post: List-Help: List-Subscribe: , Errors-To: test-report-bounces@dpdk.org Test-Label: iol-compile-arm64-testing Test-Status: SUCCESS http://dpdk.org/patch/158793 _Testing PASS_ Submitter: Dean Marx Date: Friday, November 14 2025 16:40:03 DPDK git baseline: Repo:dpdk-next-dts Branch: master CommitID:53e368696fe13360483caeb8a2ec66827e295bec 158792-158793 --> testing pass Upstream job id: Generic-DPDK-Compile-Meson#446539 Test environment and result as below: +------------------------------+--------------------+ | Environment | dpdk_meson_compile | +==============================+====================+ | Ubuntu 20.04 | PASS | +------------------------------+--------------------+ | Red Hat Enterprise Linux 9.5 | PASS | +------------------------------+--------------------+ | Debian GNU/Linux 12 | PASS | +------------------------------+--------------------+ | Ubuntu 22.04 | PASS | +------------------------------+--------------------+ | Fedora Linux 42 | PASS | +------------------------------+--------------------+ | CentOS Stream 9 | PASS | +------------------------------+--------------------+ | CentOS Stream 10 | PASS | +------------------------------+--------------------+ | Ubuntu 24.04 | PASS | +------------------------------+--------------------+ Ubuntu 20.04 Kernel: 5.15 Compiler: aarch64-linux-gnu-gcc gcc (Ubuntu 9.4.0-1ubuntu1~20.04.2) 9.4.0 Red Hat Enterprise Linux 9.5 Kernel: 5.4 Compiler: gcc gcc (GCC) 11.5.0 20240719 (Red Hat 11.5.0-2) Debian GNU/Linux 12 Kernel: 5.4 Compiler: gcc gcc (Debian 12.2.0-14+deb12u1) 12.2.0 Ubuntu 22.04 Kernel: 5.4 Compiler: gcc gcc (Ubuntu 11.4.0-1ubuntu1~22.04) 11.4.0 Fedora Linux 42 Kernel: 5.4 Compiler: gcc gcc (GCC) 15.2.1 20250808 (Red Hat 15.2.1-1) CentOS Stream 9 Kernel: 5.4 Compiler: gcc gcc (GCC) 11.5.0 20240719 (Red Hat 11.5.0-11) CentOS Stream 10 Kernel: 5.4 Compiler: gcc gcc (GCC) 14.2.1 20250110 (Red Hat 14.2.1-8) Ubuntu 24.04 Kernel: 5.4 Compiler: gcc gcc (Ubuntu 13.3.0-6ubuntu2~24.04) 13.3.0 To view detailed results, visit: https://lab.dpdk.org/results/dashboard/patchsets/34594/ UNH-IOL DPDK Community Lab To manage your email subscriptions, visit: https://lab.dpdk.org/results/dashboard/preferences/subscriptions/