From mboxrd@z Thu Jan 1 00:00:00 1970 Return-Path: Received: from mails.dpdk.org (mails.dpdk.org [217.70.189.124]) by inbox.dpdk.org (Postfix) with ESMTP id 820FE48B6F for ; Sat, 22 Nov 2025 03:38:42 +0100 (CET) Received: from mails.dpdk.org (localhost [127.0.0.1]) by mails.dpdk.org (Postfix) with ESMTP id 432B6400EF; Sat, 22 Nov 2025 03:38:42 +0100 (CET) Received: from mail-yw1-f227.google.com (mail-yw1-f227.google.com [209.85.128.227]) by mails.dpdk.org (Postfix) with ESMTP id AE6D4400EF for ; Sat, 22 Nov 2025 03:38:41 +0100 (CET) Received: by mail-yw1-f227.google.com with SMTP id 00721157ae682-787e7aa1631so44753377b3.1 for ; Fri, 21 Nov 2025 18:38:41 -0800 (PST) DKIM-Signature: v=1; a=rsa-sha256; c=relaxed/relaxed; d=iol.unh.edu; s=unh-iol; t=1763779121; x=1764383921; darn=dpdk.org; h=cc:to:from:subject:message-id:date:from:to:cc:subject:date :message-id:reply-to; bh=NwkqZrNVp9UtbR4zEH2qO6Mk28HlHvByRCc2PuYKbjk=; b=KYGL91sHJ1qyBQ6vLCwn3vX9/cSPNgn/yxweV/6NPC+2/gwtxuNPiVil5/U7Ar2IEj XuxkMtgHGRGIae1joOApzVZoySRrpMXbKEOfdVgdrzZWypLdRRiOCoKVzWcRknyrIORU GJTctrAsdVHGmXJwbOE3jCFVGsvX7rYcX3gcY= X-Google-DKIM-Signature: v=1; a=rsa-sha256; c=relaxed/relaxed; d=1e100.net; s=20230601; t=1763779121; x=1764383921; h=cc:to:from:subject:message-id:date:x-gm-gg:x-gm-message-state:from :to:cc:subject:date:message-id:reply-to; bh=NwkqZrNVp9UtbR4zEH2qO6Mk28HlHvByRCc2PuYKbjk=; b=HYju4EDQpcULhPSxf2wjMa472IgF/Ix+H3kzOFEpkvmPbjbSp37OoonaJVuMq0XOen u1tq4vqAkqKGNgUsnj6Iw08IXyZvFlNDXSs4G4fDdOSFM9up90s80/LL9IBF2qvaNZze 3WL5cJau3+843cB09kVEwB6JVxY6avAfgAN9SBWJcTVQ6lYBNGa55lwTxykRhfKIRCKH lRu+Mq9/Z5YCOA1PmnAecDg99vSPbOLeJk/Jn/rU0douBojIW1jW5myZ79+pa1beUcmy DMkALmwwNU+GFuJowCvX5h+fqnmgOhZCTDtjECpHbvYeDq1OvI+SZqqt3bVnO6RT9qGo pQKw== X-Gm-Message-State: AOJu0YzYO6j5G54/MicLcrDf6xcqBGA1YITAA5CL0JYCIOaJ89qa8NFd PlD6xcW6xfQv0jx7nSqAkG+RpY+y9HJ+o7Jf/yZU8VtgQfmTCUd5PxcUlWD78dB+athADmODEHE XwCZssKtki15nmTxEIko5Zaa0c5j08ELtW9RYM/K4vZ8b X-Gm-Gg: ASbGncuirmHJNPQ7KV5IDuu2B6wSWWNMFD9JWeQG2gmq/vRddKrYRBHDEd0zDCqLzM/ yUkG111KP2+IPBV9Nmt0i8pE8BMYfTUnvSKR+BsCD6sH0DRahfvM7SU/5ENMEiTMTe1QTxs4YE3 bmkUQxKeEoJWTlEf/90k1zbufZbu9N4eqcrosILZRT+qt3fuwHiqAAG5XcV6GEyKnInuM/h73aB 3JqPYsKIh2sjBGWxa/XUqImRJqcjRPwSB0/z4mseMGm4tgYcHz2+G0brr30tt1YPQvdatkBn70/ 5Lf5L8kJp28NjKGSNvGOTZfF8Wa9Gbn1CXh/x0Z3kteGAWgUJOcyhEEjhhza9asjox1+oc+27K/ pMCcmW6ILMXV64UxWyCRCtgymJwKmS0ESqPzHh6d3bw== X-Google-Smtp-Source: AGHT+IEHgQkPnWEFCaLJRDxN3rtvPPi6CIRbi11Bgb30ekZ9Sh1ndl/iz5GDp6tJj5b+mpsHtjG9LQteJJtT X-Received: by 2002:a53:accf:0:10b0:641:f5bc:6954 with SMTP id 956f58d0204a3-64302636b7amr2840759d50.37.1763779120861; Fri, 21 Nov 2025 18:38:40 -0800 (PST) Received: from postal.iol.unh.edu (postal.iol.unh.edu. [132.177.123.84]) by smtp-relay.gmail.com with ESMTPS id 956f58d0204a3-642f71ac39bsm604091d50.11.2025.11.21.18.38.40 (version=TLS1_2 cipher=ECDHE-ECDSA-AES128-GCM-SHA256 bits=128/128); Fri, 21 Nov 2025 18:38:40 -0800 (PST) X-Relaying-Domain: iol.unh.edu Date: Fri, 21 Nov 2025 18:38:40 -0800 (PST) Message-ID: <69212230.530a0220.1db070.e9c1SMTPIN_ADDED_MISSING@mx.google.com> Received: from [172.21.0.3] (unknown [172.18.0.240]) by postal.iol.unh.edu (Postfix) with ESMTP id 7A6B66051830; Fri, 21 Nov 2025 21:38:40 -0500 (EST) Subject: |SUCCESS| [GIT MASTER] ef98b88455bf4a7c8b7aa3106a761c9e9270d6a3 From: dpdklab@iol.unh.edu To: Test Report Cc: dpdk-test-reports@iol.unh.edu Content-Type: text/plain X-BeenThere: test-report@dpdk.org X-Mailman-Version: 2.1.29 Precedence: list List-Id: automatic DPDK test reports List-Unsubscribe: , List-Archive: List-Post: List-Help: List-Subscribe: , Errors-To: test-report-bounces@dpdk.org _Testing PASS_ Branch: dpdk ef98b88455bf4a7c8b7aa3106a761c9e9270d6a3 --> testing pass Upstream job id: Generic-VM-Unit-Test-DPDK#32740 Test environment and result as below: +-------------------------------+----------------+ | Environment | dpdk_unit_test | +===============================+================+ | CentOS Stream 9 | PASS | +-------------------------------+----------------+ | CentOS Stream 10 | PASS | +-------------------------------+----------------+ | Debian GNU/Linux 12 | PASS | +-------------------------------+----------------+ | Red Hat Enterprise Linux 9.5 | PASS | +-------------------------------+----------------+ | Fedora Linux 42 | PASS | +-------------------------------+----------------+ | Fedora Linux 41 | PASS | +-------------------------------+----------------+ | Ubuntu 22.04 | PASS | +-------------------------------+----------------+ | Fedora Linux 40 | PASS | +-------------------------------+----------------+ | Arch Linux 20250613.0.365270 | PASS | +-------------------------------+----------------+ | Ubuntu 20.04 | PASS | +-------------------------------+----------------+ | Red Hat Enterprise Linux 8.10 | PASS | +-------------------------------+----------------+ | Ubuntu 24.04 | PASS | +-------------------------------+----------------+ | Windows Server 2022 | PASS | +-------------------------------+----------------+ CentOS Stream 9 Kernel: 5.15 Compiler: gcc gcc (GCC) 11.5.0 20240719 (Red Hat 11.5.0-11) CentOS Stream 10 Kernel: 5.15 Compiler: gcc gcc (GCC) 14.2.1 20250110 (Red Hat 14.2.1-8) Debian GNU/Linux 12 Kernel: 5.15 Compiler: gcc gcc (Debian 12.2.0-14+deb12u1) 12.2.0 Red Hat Enterprise Linux 9.5 Kernel: 5.15 Compiler: gcc gcc (GCC) 11.5.0 20240719 (Red Hat 11.5.0-2) Fedora Linux 42 Kernel: 5.15 Compiler: gcc gcc (GCC) 15.2.1 20250808 (Red Hat 15.2.1-1) Fedora Linux 41 Kernel: 5.15 Compiler: clang gcc (GCC) 14.3.1 20250523 (Red Hat 14.3.1-1) Ubuntu 22.04 Kernel: 5.15 Compiler: gcc gcc (Ubuntu 11.4.0-1ubuntu1~22.04) 11.4.0 Fedora Linux 40 Kernel: 5.15 Compiler: gcc gcc (GCC) 14.2.1 20240912 (Red Hat 14.2.1-3) Arch Linux 20250613.0.365270 Kernel: 5.15 Compiler: gcc gcc (GCC) 15.1.1 20250425 Ubuntu 20.04 Kernel: 5.15 Compiler: gcc gcc (Ubuntu 9.4.0-1ubuntu1~20.04.2) 9.4.0 Red Hat Enterprise Linux 8.10 Kernel: 5.15 Compiler: gcc gcc (GCC) 8.5.0 20210514 (Red Hat 8.5.0-22) Ubuntu 24.04 Kernel: 5.15 Compiler: gcc gcc (Ubuntu 13.3.0-6ubuntu2~24.04) 13.3.0 Windows Server 2022 Kernel: 10.0.20348.2031 Compiler: clang 15.0.7, gcc 14.1.0 (MinGW), and MSVC VS 19.39.33521 To view detailed results, visit: https://lab.dpdk.org/results/dashboard/tarballs/35679/ UNH-IOL DPDK Community Lab To manage your email subscriptions, visit: https://lab.dpdk.org/results/dashboard/preferences/subscriptions/