From mboxrd@z Thu Jan 1 00:00:00 1970 Return-Path: Received: from mails.dpdk.org (mails.dpdk.org [217.70.189.124]) by inbox.dpdk.org (Postfix) with ESMTP id ACAE448B70 for ; Sat, 22 Nov 2025 05:11:29 +0100 (CET) Received: from mails.dpdk.org (localhost [127.0.0.1]) by mails.dpdk.org (Postfix) with ESMTP id 84062400EF; Sat, 22 Nov 2025 05:11:29 +0100 (CET) Received: from mail-yw1-f225.google.com (mail-yw1-f225.google.com [209.85.128.225]) by mails.dpdk.org (Postfix) with ESMTP id 8E05A400EF for ; Sat, 22 Nov 2025 05:11:28 +0100 (CET) Received: by mail-yw1-f225.google.com with SMTP id 00721157ae682-787e84ceaf7so29352007b3.2 for ; Fri, 21 Nov 2025 20:11:28 -0800 (PST) DKIM-Signature: v=1; a=rsa-sha256; c=relaxed/relaxed; d=iol.unh.edu; s=unh-iol; t=1763784688; x=1764389488; darn=dpdk.org; h=references:in-reply-to:cc:to:from:subject:message-id:date:from:to :cc:subject:date:message-id:reply-to; bh=ScORskw+i0UMakglZwLoa5o3rt2JLx8+oB+I/iCQCWs=; b=dT3Xcmc33VHa9S2Dg4WuvCpCF9HSv/E3aHxI8khs/eeNvjfTazqR3e0pNF4pSuwdEk SLs3X7RRH6eHikZELgBR/REmiOY3kqoeU698qiulMdI7/fszrp+YloEOHNhjyEgzfhxZ TQ7eQpbstf0somOW2vfx1vpQe4NYsvON1v8+w= X-Google-DKIM-Signature: v=1; a=rsa-sha256; c=relaxed/relaxed; d=1e100.net; s=20230601; t=1763784688; x=1764389488; h=references:in-reply-to:cc:to:from:subject:message-id:date:x-gm-gg :x-gm-message-state:from:to:cc:subject:date:message-id:reply-to; bh=ScORskw+i0UMakglZwLoa5o3rt2JLx8+oB+I/iCQCWs=; b=RMGjKDzhtOejliEQMAjH7TqLgXqUaq+Kgj3JnRzPbuP5kkn+j5F1RPzWR7G4G/MFCG otEDks6Kx6lT0vQyhnnMicMIjmPT9a/vXRD19YbuA3UXT7N4q2CLUG6718ntqzkNfvET 2OxzOk+Rtbe1dHOc2Gu0WTFJ7P00P8cqp5HlJaGIGz1coZv37Kbh33bvIlmLTkm16572 YcrnwburYDsVs+agEz05EiWEy1+SUq8E+E2bCbcXAIfsvRX0mSAVLvY8dKVwdr4x1P7m rbwk/BLPTGHvtiw6+lt87p2JrmMtB09/ds1b7cH/2lx8dVoT1idnJ7wx7CywdFSvFbge R4Pg== X-Gm-Message-State: AOJu0YzamdeKbUY/LSCaI1LsR4RRUOAAf7huebvHJvv2JDyRWMM0oDA4 ZJI2VsUy0nmyqp0v9A7mA6CmaMEFn8nz3TJ+bcQXpOcdZO7Nny9d/3XjSsEKVd+xzY2n/mxiE3s c5WSB4bc1Cw39zaPpKgZm2bFweGjnCkcJrzRXcia9skWUCACgy9IhJszj4kaM X-Gm-Gg: ASbGnct3UFTXh7ExMFDRSkdIWzexVUoj5AzhlFkRcxPfS6uyG8IcTWZjxzr3rhzDX5W WS1mmapnjk9NAptvGjgsH59ci1ynWY+lUuoCdf6+A936emzGYKcTdQuEf6hv8pXgJ3AKxh5vFnL yv+APGskelT4sA7rObhcMHaqJzU+sec73du3pIR0XFi6i2pZlXHxKb+YHwuSxE4cs1HcwUOsDUJ Eyey4VkY4V90V9P1StHQefUhyReZdL+Gs6x0sMUapD0fEQNuTLfoy/0cawq/IF3UQETmshc/SuT c11fe0lpaC4kKUrxN5RWsMUZRaY0d1/9yKaiwWEnVTMjm+bCfBnBj9+Br4a2dtGBjKQ6LyMgwqv Yidb5h5yg7rO1+qFT4Us= X-Google-Smtp-Source: AGHT+IEGSXmEXxHkSq9qgeZ/Yu2yPsfFdKQUfNMvSxsNrmaQ5q1C+NEZrONtfSAXjZBERqyDHqvxDUSPxZzA X-Received: by 2002:a05:690c:3001:b0:787:e9bc:fa25 with SMTP id 00721157ae682-78a8b4722a6mr37417487b3.22.1763784687795; Fri, 21 Nov 2025 20:11:27 -0800 (PST) Received: from postal.iol.unh.edu (postal.iol.unh.edu. [2606:4100:3880:1234::84]) by smtp-relay.gmail.com with ESMTPS id 00721157ae682-78a79945f5bsm4923187b3.27.2025.11.21.20.11.27 (version=TLS1_2 cipher=ECDHE-ECDSA-AES128-GCM-SHA256 bits=128/128); Fri, 21 Nov 2025 20:11:27 -0800 (PST) X-Relaying-Domain: iol.unh.edu Date: Fri, 21 Nov 2025 20:11:27 -0800 (PST) Message-ID: <692137ef.050a0220.10846b.99a5SMTPIN_ADDED_MISSING@mx.google.com> Received: from [172.21.0.2] (unknown [172.18.0.240]) by postal.iol.unh.edu (Postfix) with ESMTP id 5606D60003F7; Fri, 21 Nov 2025 23:11:27 -0500 (EST) Subject: |SUCCESS| pw158982 [PATCH] [v1] dts: automate VFIO-PCI modprobe From: dpdklab@iol.unh.edu To: Test Report Cc: dpdk-test-reports@iol.unh.edu In-Reply-To: <20251121210650.328804-1-abailey@iol.unh.edu> References: <20251121210650.328804-1-abailey@iol.unh.edu> Content-Type: text/plain X-BeenThere: test-report@dpdk.org X-Mailman-Version: 2.1.29 Precedence: list List-Id: automatic DPDK test reports List-Unsubscribe: , List-Archive: List-Post: List-Help: List-Subscribe: , Errors-To: test-report-bounces@dpdk.org Test-Label: iol-compile-arm64-testing Test-Status: SUCCESS http://dpdk.org/patch/158982 _Testing PASS_ Submitter: Andrew Bailey Date: Friday, November 21 2025 21:06:50 DPDK git baseline: Repo:dpdk-next-dts Branch: master CommitID:53e368696fe13360483caeb8a2ec66827e295bec 158982 --> testing pass Upstream job id: Generic-DPDK-Compile-Meson#446647 Test environment and result as below: +------------------------------+--------------------+ | Environment | dpdk_meson_compile | +==============================+====================+ | Ubuntu 24.04 | PASS | +------------------------------+--------------------+ | CentOS Stream 10 | PASS | +------------------------------+--------------------+ | Ubuntu 20.04 | PASS | +------------------------------+--------------------+ | Debian GNU/Linux 12 | PASS | +------------------------------+--------------------+ | Fedora Linux 42 | PASS | +------------------------------+--------------------+ | Red Hat Enterprise Linux 9.5 | PASS | +------------------------------+--------------------+ | CentOS Stream 9 | PASS | +------------------------------+--------------------+ | Ubuntu 22.04 | PASS | +------------------------------+--------------------+ Ubuntu 24.04 Kernel: 5.4 Compiler: gcc gcc (Ubuntu 13.3.0-6ubuntu2~24.04) 13.3.0 CentOS Stream 10 Kernel: 5.4 Compiler: gcc gcc (GCC) 14.2.1 20250110 (Red Hat 14.2.1-8) Ubuntu 20.04 Kernel: 5.15 Compiler: aarch64-linux-gnu-gcc gcc (Ubuntu 9.4.0-1ubuntu1~20.04.2) 9.4.0 Debian GNU/Linux 12 Kernel: 5.4 Compiler: gcc gcc (Debian 12.2.0-14+deb12u1) 12.2.0 Fedora Linux 42 Kernel: 5.4 Compiler: clang gcc (GCC) 15.2.1 20250808 (Red Hat 15.2.1-1) Red Hat Enterprise Linux 9.5 Kernel: 5.4 Compiler: gcc gcc (GCC) 11.5.0 20240719 (Red Hat 11.5.0-2) CentOS Stream 9 Kernel: 5.4 Compiler: gcc gcc (GCC) 11.5.0 20240719 (Red Hat 11.5.0-11) Ubuntu 22.04 Kernel: 5.4 Compiler: gcc gcc (Ubuntu 11.4.0-1ubuntu1~22.04) 11.4.0 To view detailed results, visit: https://lab.dpdk.org/results/dashboard/patchsets/34656/ UNH-IOL DPDK Community Lab To manage your email subscriptions, visit: https://lab.dpdk.org/results/dashboard/preferences/subscriptions/