From mboxrd@z Thu Jan 1 00:00:00 1970 Return-Path: Received: from mails.dpdk.org (mails.dpdk.org [217.70.189.124]) by inbox.dpdk.org (Postfix) with ESMTP id A947448B70 for ; Sat, 22 Nov 2025 05:37:29 +0100 (CET) Received: from mails.dpdk.org (localhost [127.0.0.1]) by mails.dpdk.org (Postfix) with ESMTP id 85A3F400EF; Sat, 22 Nov 2025 05:37:29 +0100 (CET) Received: from mail-qv1-f98.google.com (mail-qv1-f98.google.com [209.85.219.98]) by mails.dpdk.org (Postfix) with ESMTP id 66AF0400EF for ; Sat, 22 Nov 2025 05:37:28 +0100 (CET) Received: by mail-qv1-f98.google.com with SMTP id 6a1803df08f44-882379c0b14so19792506d6.1 for ; Fri, 21 Nov 2025 20:37:28 -0800 (PST) DKIM-Signature: v=1; a=rsa-sha256; c=relaxed/relaxed; d=iol.unh.edu; s=unh-iol; t=1763786247; x=1764391047; darn=dpdk.org; h=cc:to:from:subject:message-id:date:from:to:cc:subject:date :message-id:reply-to; bh=a0NUYxMMAOUR9b4JkcCWHyCWkaBK6RuuKxn9DSAuW1o=; b=GyhUfYT77+DdQbHw4qrBd04mKKFishy3C+JN1v7tJJ0nePwb6ynrBcDD0YvcNO4bHU LxD7JnmfVBOtE2cMGmji1r8R/D5G0+emdHqjAnNRqnkEwgc2ZaLGoP+jCLyJXED0mqvH pN1Xw2KC/mGik7qtLeITTvqHX4YEjwsU1PG74= X-Google-DKIM-Signature: v=1; a=rsa-sha256; c=relaxed/relaxed; d=1e100.net; s=20230601; t=1763786247; x=1764391047; h=cc:to:from:subject:message-id:date:x-gm-gg:x-gm-message-state:from :to:cc:subject:date:message-id:reply-to; bh=a0NUYxMMAOUR9b4JkcCWHyCWkaBK6RuuKxn9DSAuW1o=; b=nwyMKFuCkS8FcgmsmYlfkFd+GszcBKJMZhuyT8RFXxLCWZXKpQPMEvWyCTm84j1u55 Baty7SV2LVTrg6k3JjJ2Rdb7Ot1+a3Ce5RNRovlNWYEKyL/sSJ17M6mosMCZXOcvNZFC zFKGNS5lV3460ux9ljLMNhYveCQbx9V+xB4dnkd70ry3qCvdLM4PNePIQEgti3pCCdzA pckdY7dsZEiZfRYCS2EZlVeLn6hrQ+lK4CkExfPlU4XSJlOA6LRWL8Xjr2frpO77ZAfX xjUCRRC04/rWPAAo4OSXWJFa8eJM5yOTtHTyH1LDrcZgi9HiIxsi6r31AsS9dQvN0Bcq 150Q== X-Gm-Message-State: AOJu0YxUouZMoFQxOtIebsLwCuRWao6tpgoI44b4hQLWg6xs+aSfK04r C2Z6Ly+/2zqwMHYYswku7+mPbNeyNY3ohy34wdaJWaP/S33USTPqbFjJ5SoAr/qri17V7bRBUrI cvruqNXxu56++O+mJIyK/ydhKGWmEzJNs1uIHC6uh5Oqf X-Gm-Gg: ASbGncvME1trRuPixX86STvu3/EVLB8YSJ/HyMCIeRLCkQMIAbqNEs+5f93UYwOTLZy 0H5IDb/CrmffW6IkEy2PIHeYFnUu4HXuCgFK0rkCfe0DQVSXSRQIGtgygURJpma+HD171EmCEiZ kqEug54fAs+sac8oG0S9rYg+cdmbNjl3Vx/hc6NBOXPq6VRBv/nvIzwmjQZMF/EuWZ8sacroqqE J4qgnUxlEkpJfctpEPw6BoRCbaFoZ9NJM0AtzNhp5CY6d8lT5FG9fxeP0Rh5b7Ih07QP1SOxaBK 7SKpzLX31vwFJCnLMTMuz8PpiKAl3757TFGHdu9/Jp++mexwiSyqtWS8qaR1A6y3VFZMzNNv9A5 tTvecU8MTrfEryOo1PjsJTsk5oFEDBnDyIpJe4G8sXA== X-Google-Smtp-Source: AGHT+IFeNeXHuqAEgkN2nLANI4rqCojT/pAWI63b66RL2wTzEJv5eDBKbjWqvGwSaH56qaC7gOFG5DcjiaDi X-Received: by 2002:a05:6214:29e9:b0:882:8b19:da02 with SMTP id 6a1803df08f44-8847c566895mr73425656d6.50.1763786247456; Fri, 21 Nov 2025 20:37:27 -0800 (PST) Received: from postal.iol.unh.edu (postal.iol.unh.edu. [132.177.123.84]) by smtp-relay.gmail.com with ESMTPS id 6a1803df08f44-8846e48465esm8331156d6.12.2025.11.21.20.37.27 (version=TLS1_2 cipher=ECDHE-ECDSA-AES128-GCM-SHA256 bits=128/128); Fri, 21 Nov 2025 20:37:27 -0800 (PST) X-Relaying-Domain: iol.unh.edu Date: Fri, 21 Nov 2025 20:37:27 -0800 (PST) Message-ID: <69213e07.050a0220.198ff0.9f37SMTPIN_ADDED_MISSING@mx.google.com> Received: from [172.21.0.2] (unknown [172.18.0.240]) by postal.iol.unh.edu (Postfix) with ESMTP id EB9F96051830; Fri, 21 Nov 2025 23:37:26 -0500 (EST) Subject: |SUCCESS| [GIT MASTER] ef98b88455bf4a7c8b7aa3106a761c9e9270d6a3 From: dpdklab@iol.unh.edu To: Test Report Cc: dpdk-test-reports@iol.unh.edu Content-Type: text/plain X-BeenThere: test-report@dpdk.org X-Mailman-Version: 2.1.29 Precedence: list List-Id: automatic DPDK test reports List-Unsubscribe: , List-Archive: List-Post: List-Help: List-Subscribe: , Errors-To: test-report-bounces@dpdk.org _Testing PASS_ Branch: dpdk ef98b88455bf4a7c8b7aa3106a761c9e9270d6a3 --> testing pass Upstream job id: Generic-DPDK-Compile-Meson#446688 Test environment and result as below: +------------------------------+--------------------+ | Environment | dpdk_meson_compile | +==============================+====================+ | Red Hat Enterprise Linux 9.5 | PASS | +------------------------------+--------------------+ | Ubuntu 20.04 | PASS | +------------------------------+--------------------+ | Debian GNU/Linux 12 | PASS | +------------------------------+--------------------+ | Fedora Linux 42 | PASS | +------------------------------+--------------------+ | Ubuntu 22.04 | PASS | +------------------------------+--------------------+ | Ubuntu 24.04 | PASS | +------------------------------+--------------------+ | CentOS Stream 9 | PASS | +------------------------------+--------------------+ | CentOS Stream 10 | PASS | +------------------------------+--------------------+ Red Hat Enterprise Linux 9.5 Kernel: 5.4 Compiler: gcc gcc (GCC) 11.5.0 20240719 (Red Hat 11.5.0-2) Ubuntu 20.04 Kernel: 5.15 Compiler: aarch64-linux-gnu-gcc gcc (Ubuntu 9.4.0-1ubuntu1~20.04.2) 9.4.0 Debian GNU/Linux 12 Kernel: 5.4 Compiler: gcc gcc (Debian 12.2.0-14+deb12u1) 12.2.0 Fedora Linux 42 Kernel: 5.4 Compiler: gcc gcc (GCC) 15.2.1 20250808 (Red Hat 15.2.1-1) Ubuntu 22.04 Kernel: 5.4 Compiler: gcc gcc (Ubuntu 11.4.0-1ubuntu1~22.04) 11.4.0 Ubuntu 24.04 Kernel: 5.4 Compiler: gcc gcc (Ubuntu 13.3.0-6ubuntu2~24.04) 13.3.0 CentOS Stream 9 Kernel: 5.4 Compiler: gcc gcc (GCC) 11.5.0 20240719 (Red Hat 11.5.0-11) CentOS Stream 10 Kernel: 5.4 Compiler: gcc gcc (GCC) 14.2.1 20250110 (Red Hat 14.2.1-8) To view detailed results, visit: https://lab.dpdk.org/results/dashboard/tarballs/35679/ UNH-IOL DPDK Community Lab To manage your email subscriptions, visit: https://lab.dpdk.org/results/dashboard/preferences/subscriptions/