From mboxrd@z Thu Jan 1 00:00:00 1970 Return-Path: Received: from mails.dpdk.org (mails.dpdk.org [217.70.189.124]) by inbox.dpdk.org (Postfix) with ESMTP id D2A7848B71 for ; Sat, 22 Nov 2025 06:14:36 +0100 (CET) Received: from mails.dpdk.org (localhost [127.0.0.1]) by mails.dpdk.org (Postfix) with ESMTP id AFB57400EF; Sat, 22 Nov 2025 06:14:36 +0100 (CET) Received: from mail-yx1-f99.google.com (mail-yx1-f99.google.com [74.125.224.99]) by mails.dpdk.org (Postfix) with ESMTP id 609A8400EF for ; Sat, 22 Nov 2025 06:14:35 +0100 (CET) Received: by mail-yx1-f99.google.com with SMTP id 956f58d0204a3-63fc6115d65so2286158d50.0 for ; Fri, 21 Nov 2025 21:14:35 -0800 (PST) DKIM-Signature: v=1; a=rsa-sha256; c=relaxed/relaxed; d=iol.unh.edu; s=unh-iol; t=1763788474; x=1764393274; darn=dpdk.org; h=references:in-reply-to:cc:to:from:subject:message-id:date:from:to :cc:subject:date:message-id:reply-to; bh=cJ+jTpW1n1avoQ/p0aGsrR27yJp4h1JBxL2nhNcrM+U=; b=VGqqtQZHjPLbIj4IkvBcQ+6hm/z25/tToYfCDhXWXoKawxev5wVp7W6KKgLnfIVEf2 sII9ApNphgWPz+0ampnw9hy/v2m97TRdOeBlvf0Ipn5VXy736lN/2/ubqK+Qm9/MpxuI qX7B7M+JUZgzdsST6npTeOw7BL795T5c4YKfs= X-Google-DKIM-Signature: v=1; a=rsa-sha256; c=relaxed/relaxed; d=1e100.net; s=20230601; t=1763788474; x=1764393274; h=references:in-reply-to:cc:to:from:subject:message-id:date:x-gm-gg :x-gm-message-state:from:to:cc:subject:date:message-id:reply-to; bh=cJ+jTpW1n1avoQ/p0aGsrR27yJp4h1JBxL2nhNcrM+U=; b=RNg3NrVJbfFIZu54pOryKi4vUVFrODIRSat2r2ijHr3jUQr8WQrDwcuxBP3vdBa1Bz 1MIGOvoT/LfF5FR5Mzr6OnvDLLoSUgpuDC9FFPD4iwk5epVX6/CEz/MpHp/145DJ8ZXh Xa6whWDlekxe1bZ1CdE1RobYODe3PTvhABBFmQM2Br0UHbTkHTGQ1lcZ76chnjQywFmH oNehfYGYFFz6n4/U8WpbiNfq51YYbanqXECSr8xY+vgvqxwr8YTfghd9UZIxBv/Esy2s r5MOsfzzM+TbMTVKDWJ61QHKtxNQK3tUyt7MVjDSfxXFoc7qKfqwjaZ5Mhmcwmj9MbqM Ig0A== X-Gm-Message-State: AOJu0YwiME1f/v8+SrnLoz1PVa0+YGqrtouXGTgOdOirBi2CnPa63cwU 995owQ5CVaoutdlDbllsvqG7MIVFzasGOPAhyyHKsXcTVvlA9kg1cLDootbDSlEtfidEnfSUM4s yA21y+CJ8CvE7IFSwikT1W1/6rsRzMMJI8SF0zZdMOCO/u6009A8mXH3h4n7l X-Gm-Gg: ASbGncvlb0wFnfneqr8ZB3J2CY9PC9VCMibUkS2hhG3JMmEHMQqFz7NlVt9afgXdesB vMqFFt/6YB2/VOVGxdsSW5u1Ajfe8m52sxjlHdQPIPnpPTxkYHVjrJV/nlZ/CrZlRP8E7cvysEP lExWNnNaX09cnTVOj9+lsIWgyVWDHiRkEzpeM7O6fKQpq3By6TvM25ulCZx+4N+23DxILbHOzSE h6/T3aQSNsw6w4h6+dKNtyZaKTgYjTETh6l9leZOXNI31rAiMoyicNe7oVujRxHrMurbQLixYLa WWi43zPi86VTotfvUZksOms6eiURH0M3c31JwDS7m+XcuAhCmcJItIpNPOUN2/azW3jZG4HVkBx aSzxQptvwhhAjzGrfmaU= X-Google-Smtp-Source: AGHT+IGYDbuiOOZFP5K12Qgun/j+A9/1/bea/QR+HcLEVYbNFYNKXb9+SDm09UALjowiZRvWrgiQvp7rrZzm X-Received: by 2002:a05:690e:14c4:b0:63f:b4d8:1f3c with SMTP id 956f58d0204a3-64302a5db05mr3169116d50.35.1763788474542; Fri, 21 Nov 2025 21:14:34 -0800 (PST) Received: from postal.iol.unh.edu (postal.iol.unh.edu. [2606:4100:3880:1234::84]) by smtp-relay.gmail.com with ESMTPS id 00721157ae682-78a7994aa3asm5065407b3.30.2025.11.21.21.14.34 (version=TLS1_2 cipher=ECDHE-ECDSA-AES128-GCM-SHA256 bits=128/128); Fri, 21 Nov 2025 21:14:34 -0800 (PST) X-Relaying-Domain: iol.unh.edu Date: Fri, 21 Nov 2025 21:14:34 -0800 (PST) Message-ID: <692146ba.050a0220.373266.9dd9SMTPIN_ADDED_MISSING@mx.google.com> Received: from [172.21.0.2] (unknown [172.18.0.240]) by postal.iol.unh.edu (Postfix) with ESMTP id 3ACE26051830; Sat, 22 Nov 2025 00:14:34 -0500 (EST) Subject: |SUCCESS| pw158980-158981 [PATCH] [v4,2/2] dts: rewrite two link top From: dpdklab@iol.unh.edu To: Test Report Cc: dpdk-test-reports@iol.unh.edu In-Reply-To: <20251121195511.322005-2-abailey@iol.unh.edu> References: <20251121195511.322005-2-abailey@iol.unh.edu> Content-Type: text/plain X-BeenThere: test-report@dpdk.org X-Mailman-Version: 2.1.29 Precedence: list List-Id: automatic DPDK test reports List-Unsubscribe: , List-Archive: List-Post: List-Help: List-Subscribe: , Errors-To: test-report-bounces@dpdk.org Test-Label: iol-unit-arm64-testing Test-Status: SUCCESS http://dpdk.org/patch/158981 _Testing PASS_ Submitter: Andrew Bailey Date: Friday, November 21 2025 19:55:11 DPDK git baseline: Repo:dpdk-next-dts Branch: master CommitID:53e368696fe13360483caeb8a2ec66827e295bec 158980-158981 --> testing pass Upstream job id: Generic-Unit-Test-DPDK#395043 Test environment and result as below: +------------------------------+--------------+------------------------------+----------------+---------------------------+ | Environment | lpm_autotest | cryptodev_sw_snow3g_autotest | dpdk_unit_test | cryptodev_sw_zuc_autotest | +==============================+==============+==============================+================+===========================+ | Ubuntu 20.04 | PASS | SKIPPED | PASS | SKIPPED | +------------------------------+--------------+------------------------------+----------------+---------------------------+ | Debian 12 (arm) | SKIPPED | PASS | SKIPPED | PASS | +------------------------------+--------------+------------------------------+----------------+---------------------------+ | Ubuntu 22.04 | SKIPPED | SKIPPED | PASS | SKIPPED | +------------------------------+--------------+------------------------------+----------------+---------------------------+ | CentOS Stream 10 | SKIPPED | SKIPPED | PASS | SKIPPED | +------------------------------+--------------+------------------------------+----------------+---------------------------+ | Fedora Linux 40 | SKIPPED | SKIPPED | PASS | SKIPPED | +------------------------------+--------------+------------------------------+----------------+---------------------------+ | Debian GNU/Linux 12 | SKIPPED | SKIPPED | PASS | SKIPPED | +------------------------------+--------------+------------------------------+----------------+---------------------------+ | Fedora Linux 41 | SKIPPED | SKIPPED | PASS | SKIPPED | +------------------------------+--------------+------------------------------+----------------+---------------------------+ | Ubuntu 24.04 | SKIPPED | SKIPPED | PASS | SKIPPED | +------------------------------+--------------+------------------------------+----------------+---------------------------+ | Fedora Linux 42 | SKIPPED | SKIPPED | PASS | SKIPPED | +------------------------------+--------------+------------------------------+----------------+---------------------------+ | CentOS Stream 9 | SKIPPED | SKIPPED | PASS | SKIPPED | +------------------------------+--------------+------------------------------+----------------+---------------------------+ | Red Hat Enterprise Linux 9.5 | SKIPPED | SKIPPED | PASS | SKIPPED | +------------------------------+--------------+------------------------------+----------------+---------------------------+ Ubuntu 20.04 Kernel: 5.4 Compiler: gcc gcc (Ubuntu 9.4.0-1ubuntu1~20.04.2) 9.4.0 Debian 12 (arm) Kernel: Depends on container host Compiler: gcc (Debian 12.2.0-14) 12.2.0 Ubuntu 22.04 Kernel: 5.15 Compiler: gcc gcc (Ubuntu 11.4.0-1ubuntu1~22.04.2) 11.4.0 CentOS Stream 10 Kernel: 5.4 Compiler: gcc gcc (GCC) 14.2.1 20250110 (Red Hat 14.2.1-8) Fedora Linux 40 Kernel: 5.4 Compiler: clang gcc (GCC) 14.2.1 20240912 (Red Hat 14.2.1-3) Debian GNU/Linux 12 Kernel: 5.4 Compiler: gcc gcc (Debian 12.2.0-14+deb12u1) 12.2.0 Fedora Linux 41 Kernel: 5.4 Compiler: gcc gcc (GCC) 14.3.1 20250523 (Red Hat 14.3.1-1) Ubuntu 24.04 Kernel: 5.4 Compiler: gcc gcc (Ubuntu 13.3.0-6ubuntu2~24.04) 13.3.0 Fedora Linux 42 Kernel: 5.4 Compiler: gcc gcc (GCC) 15.2.1 20250808 (Red Hat 15.2.1-1) CentOS Stream 9 Kernel: 5.4 Compiler: gcc gcc (GCC) 11.5.0 20240719 (Red Hat 11.5.0-11) Red Hat Enterprise Linux 9.5 Kernel: 5.4 Compiler: gcc gcc (GCC) 11.5.0 20240719 (Red Hat 11.5.0-2) To view detailed results, visit: https://lab.dpdk.org/results/dashboard/patchsets/34655/ UNH-IOL DPDK Community Lab To manage your email subscriptions, visit: https://lab.dpdk.org/results/dashboard/preferences/subscriptions/