From mboxrd@z Thu Jan 1 00:00:00 1970 Return-Path: Received: from mails.dpdk.org (mails.dpdk.org [217.70.189.124]) by inbox.dpdk.org (Postfix) with ESMTP id 73D8D48B71 for ; Sat, 22 Nov 2025 07:22:11 +0100 (CET) Received: from mails.dpdk.org (localhost [127.0.0.1]) by mails.dpdk.org (Postfix) with ESMTP id 683EC40291; Sat, 22 Nov 2025 07:22:11 +0100 (CET) Received: from mail-yw1-f225.google.com (mail-yw1-f225.google.com [209.85.128.225]) by mails.dpdk.org (Postfix) with ESMTP id 94A74400EF for ; Sat, 22 Nov 2025 07:22:00 +0100 (CET) Received: by mail-yw1-f225.google.com with SMTP id 00721157ae682-787eb2d86bfso27539797b3.2 for ; Fri, 21 Nov 2025 22:22:00 -0800 (PST) DKIM-Signature: v=1; a=rsa-sha256; c=relaxed/relaxed; d=iol.unh.edu; s=unh-iol; t=1763792520; x=1764397320; darn=dpdk.org; h=cc:to:from:subject:message-id:date:from:to:cc:subject:date :message-id:reply-to; bh=TAXVAWa7Un1aNZASiZzL8/nA/diEDpsfc6pToLQ1efg=; b=CrUBT42suVnPA+GRF75h24zCKewef4Qqjyqm2KUVZvisEX+VkxTZkNkgIWVhvI5Fm5 2UAMFDcVrou8HqYainuHW20X8r36PKZO7awL6xspJPGCIL+y2ATGhbDZkr49SA6Unabg WzPBPFcDeZ0qGnmF8tfBjG0fEkI/tFrEA7Kqc= X-Google-DKIM-Signature: v=1; a=rsa-sha256; c=relaxed/relaxed; d=1e100.net; s=20230601; t=1763792520; x=1764397320; h=cc:to:from:subject:message-id:date:x-gm-gg:x-gm-message-state:from :to:cc:subject:date:message-id:reply-to; bh=TAXVAWa7Un1aNZASiZzL8/nA/diEDpsfc6pToLQ1efg=; b=NkfWaEXFUEgXUbC2nxd5GSSaog8b2HxFiAjW5RuwxxuYdKUDxYcPkmCL1hm/Vq5c/R qnf0gFQbVcC/cVSzSmcyQIHZY3pVWm60YRPgg7Bamgq6RpawHT4GLoViPH9jaF1WM1iO 66Li6c2nAkkrsj0JZx8JkDDKBY8eDwko2l3iJ14PNtg7eA8MvXfm1M0K1dFVzUaTlbzY plUzRJhOLdyJ2KAmqatLdXOMtoIeNioJL04wQVePfare905SnObhTbeZZFw9nvntD3Uc rAKl7J959xj3liOZl+d8Q7BirY9wl6MyrPYgIIADIxrwByj2+ApVsGdfy10QXUzi8lBI CN8A== X-Gm-Message-State: AOJu0YzUccQyYbCqnskY3OC9cSS+FaFnPWXxPTD6k4otwAk80tNhI89b WztGnISsFtnCAEw0dLAjkAjeFErbiRim0+Bqpq7CbtHMosMCQLnmtz1j3hWRCzuQbDdw1fwuv3z hlxi3j3/+yi37RJJXeAq8CD2aZ1WL61JpFRNb X-Gm-Gg: ASbGncu+ia/OE38JVkOkDIAeZaTvVp7V63PNr6tXwjbyb2Z+IdBF1sSpgPAUO+S6Yl+ VoJrYKZYfUXvK3zwNmF1IjlT+BU3IsNXPbZMxb6mX0Iy875iGnb83Dn3ycCZxYus14jYXBgU7Yx 0GcMEB5E/OVMz5TOBsHS2OK5nO7tG79L9gRt+ppXsWJUk8BWUSbG2tpeZzWdYxot9RH+snc0FgS shHXXPwBGv6tFvXu82/tE4cpw6jtlygC2Usz1CP6bethAy2+I9MmKK6H2fjqYLwpYUKpaVS5+mE rNTrc99kySNZ793HlmyqhLJgKyu1CKULtlIFPe36R6vwg799cD3EnOdQtiZZX1PHGy73axPFIJO 0f+F8c3VDOHHPdzRN35NVYt4U9L3qld/+uu+D8MnAxA== X-Google-Smtp-Source: AGHT+IEOYSDht2oBrZKxsEWMhCTXvEkowaW3khpCjTZGWmByECkbiy45J4m9PAbX3JojbyHgdOzGIq1KGHb5 X-Received: by 2002:a05:690c:6301:b0:786:506c:3cba with SMTP id 00721157ae682-78a8b47de66mr39513177b3.13.1763792519986; Fri, 21 Nov 2025 22:21:59 -0800 (PST) Received: from postal.iol.unh.edu (postal.iol.unh.edu. [132.177.123.84]) by smtp-relay.gmail.com with ESMTPS id 00721157ae682-78a799359b3sm5698937b3.25.2025.11.21.22.21.59 (version=TLS1_2 cipher=ECDHE-ECDSA-AES128-GCM-SHA256 bits=128/128); Fri, 21 Nov 2025 22:21:59 -0800 (PST) X-Relaying-Domain: iol.unh.edu Date: Fri, 21 Nov 2025 22:21:59 -0800 (PST) Message-ID: <69215687.050a0220.325e76.ca00SMTPIN_ADDED_MISSING@mx.google.com> Received: from [172.21.0.3] (unknown [172.18.0.240]) by postal.iol.unh.edu (Postfix) with ESMTP id A4E0F6051830; Sat, 22 Nov 2025 01:21:59 -0500 (EST) Subject: |SUCCESS| [GIT MASTER] d297bb24650efb7040a66a3270e01c94fc8ee4f5 From: dpdklab@iol.unh.edu To: Test Report Cc: dpdk-test-reports@iol.unh.edu, Xueming Li , Kevin Traynor , Luca Boccassi Content-Type: text/plain X-BeenThere: test-report@dpdk.org X-Mailman-Version: 2.1.29 Precedence: list List-Id: automatic DPDK test reports List-Unsubscribe: , List-Archive: List-Post: List-Help: List-Subscribe: , Errors-To: test-report-bounces@dpdk.org _Testing PASS_ Branch: tags/v22.11 d297bb24650efb7040a66a3270e01c94fc8ee4f5 --> testing pass Upstream job id: Generic-DPDK-Compile-Meson#446700 Test environment and result as below: +-------------------------------+--------------------+-------------------------+----------------------+ | Environment | dpdk_meson_compile | dpdk_llvm_clang_compile | dpdk_mingw64_compile | +===============================+====================+=========================+======================+ | Fedora Linux 42 | PASS | SKIPPED | SKIPPED | +-------------------------------+--------------------+-------------------------+----------------------+ | CentOS Stream 10 | PASS | SKIPPED | SKIPPED | +-------------------------------+--------------------+-------------------------+----------------------+ | CentOS Stream 9 | PASS | SKIPPED | SKIPPED | +-------------------------------+--------------------+-------------------------+----------------------+ | Ubuntu 20.04 | PASS | SKIPPED | SKIPPED | +-------------------------------+--------------------+-------------------------+----------------------+ | FreeBSD 14.2 | PASS | SKIPPED | SKIPPED | +-------------------------------+--------------------+-------------------------+----------------------+ | openSUSE Leap 15.6 | PASS | SKIPPED | SKIPPED | +-------------------------------+--------------------+-------------------------+----------------------+ | Red Hat Enterprise Linux 9.5 | PASS | SKIPPED | SKIPPED | +-------------------------------+--------------------+-------------------------+----------------------+ | Ubuntu 24.04 | PASS | SKIPPED | SKIPPED | +-------------------------------+--------------------+-------------------------+----------------------+ | Debian GNU/Linux 12 | PASS | SKIPPED | SKIPPED | +-------------------------------+--------------------+-------------------------+----------------------+ | Ubuntu 22.04 | PASS | SKIPPED | SKIPPED | +-------------------------------+--------------------+-------------------------+----------------------+ | Red Hat Enterprise Linux 8.10 | PASS | SKIPPED | SKIPPED | +-------------------------------+--------------------+-------------------------+----------------------+ | Windows Server 2025 | SKIPPED | PASS | SKIPPED | +-------------------------------+--------------------+-------------------------+----------------------+ | Windows Server 2022 | SKIPPED | SKIPPED | PASS | +-------------------------------+--------------------+-------------------------+----------------------+ Fedora Linux 42 Kernel: 5.15 Compiler: clang gcc (GCC) 15.2.1 20250808 (Red Hat 15.2.1-1) CentOS Stream 10 Kernel: 5.15 Compiler: gcc gcc (GCC) 14.2.1 20250110 (Red Hat 14.2.1-8) CentOS Stream 9 Kernel: 5.15 Compiler: gcc gcc (GCC) 11.5.0 20240719 (Red Hat 11.5.0-11) Ubuntu 20.04 Kernel: 4.19 Compiler: gcc gcc (Ubuntu 9.4.0-1ubuntu1~20.04.2) 9.4.0 FreeBSD 14.2 Kernel: 14.2-RELEASE Compiler: clang 18.1.6 openSUSE Leap 15.6 Kernel: 5.15 Compiler: gcc gcc (SUSE Linux) 7.5.0 Red Hat Enterprise Linux 9.5 Kernel: 5.15 Compiler: gcc gcc (GCC) 11.5.0 20240719 (Red Hat 11.5.0-2) Ubuntu 24.04 Kernel: 5.15 Compiler: gcc gcc (Ubuntu 13.3.0-6ubuntu2~24.04) 13.3.0 Debian GNU/Linux 12 Kernel: 5.15 Compiler: gcc gcc (Debian 12.2.0-14+deb12u1) 12.2.0 Ubuntu 22.04 Kernel: 5.15 Compiler: gcc gcc (Ubuntu 11.4.0-1ubuntu1~22.04) 11.4.0 Red Hat Enterprise Linux 8.10 Kernel: 5.15 Compiler: gcc gcc (GCC) 8.5.0 20210514 (Red Hat 8.5.0-22) Windows Server 2025 Kernel: 10.0.26100 Compiler: clang 15.0.7, gcc 14.1.0 (MinGW), and MSVC VS 19.39.33521 Windows Server 2022 Kernel: 10.0.20348.2031 Compiler: clang 15.0.7, gcc 14.1.0 (MinGW), and MSVC VS 19.39.33521 To view detailed results, visit: https://lab.dpdk.org/results/dashboard/tarballs/35680/ UNH-IOL DPDK Community Lab To manage your email subscriptions, visit: https://lab.dpdk.org/results/dashboard/preferences/subscriptions/