From mboxrd@z Thu Jan 1 00:00:00 1970 Return-Path: Received: from mails.dpdk.org (mails.dpdk.org [217.70.189.124]) by inbox.dpdk.org (Postfix) with ESMTP id EBF9A48B71 for ; Sat, 22 Nov 2025 07:44:50 +0100 (CET) Received: from mails.dpdk.org (localhost [127.0.0.1]) by mails.dpdk.org (Postfix) with ESMTP id C5D99400EF; Sat, 22 Nov 2025 07:44:50 +0100 (CET) Received: from mail-vk1-f225.google.com (mail-vk1-f225.google.com [209.85.221.225]) by mails.dpdk.org (Postfix) with ESMTP id CB1FA400EF for ; Sat, 22 Nov 2025 07:44:49 +0100 (CET) Received: by mail-vk1-f225.google.com with SMTP id 71dfb90a1353d-55b265f5122so726881e0c.1 for ; Fri, 21 Nov 2025 22:44:49 -0800 (PST) DKIM-Signature: v=1; a=rsa-sha256; c=relaxed/relaxed; d=iol.unh.edu; s=unh-iol; t=1763793889; x=1764398689; darn=dpdk.org; h=references:in-reply-to:cc:to:from:subject:message-id:date:from:to :cc:subject:date:message-id:reply-to; bh=9UaCC6Fe8NamGPFQNNel3gx5nPCr11CLO5UFIX8gmcA=; b=SCsWSG4wIO4PV/HHg6waErXxRO7yBR9O26EJImh1rFMsjtuEzBjCpq6HcOSWdWy3iE rQquzfFtmBBwJvhWH2O0ljFHQiYQHYt5ZcOWRIPF7yFDFjxmnW99VcGRMxi28UBkw05c 7bmNzij4SRJwKIcfpqhRAKZ1Dwea1ElXDHT1o= X-Google-DKIM-Signature: v=1; a=rsa-sha256; c=relaxed/relaxed; d=1e100.net; s=20230601; t=1763793889; x=1764398689; h=references:in-reply-to:cc:to:from:subject:message-id:date:x-gm-gg :x-gm-message-state:from:to:cc:subject:date:message-id:reply-to; bh=9UaCC6Fe8NamGPFQNNel3gx5nPCr11CLO5UFIX8gmcA=; b=pPVgLKMzDKwextddL/8Crh2Ul+ZZbTXf/we8qG9rUofgYdChFa9vw7JtUiEDa+mUOa iD1K4nMxLHeXVRRRz8CXOrY7TGVWbenzsDcR3351eRSZYyHp8AKcdWuR+KFkeZdEn4xg GxHeWazwHoEguZ3dAcv34yxGpCl/fqRwB+Z4q4+WcC9Mw6n3IegGlHiV+MW3z85QgAgB FstB09Y7vcKCDRUnskNjYEREiEGxCJOyBwvv+9tN28zY5Hb6wQdNHViWRiGZCef95xF9 uxLNG+tV0Y/GRXcJDnWhIhCP0lm2/BkZJj/sZMB4KoiKV1JTghrGZaQWLKPLcfn9BJZx /mWg== X-Gm-Message-State: AOJu0YwpCZB0WrpviKAwczFyd93PiLPIj0vZs5sHQGqyOBgvVaTsoCMU XPDXXePUyzHtTynEgFtgJhvjkcSt962VqbCjdRx5JTeS915+aHjya3r3i1jIs0YQAruEYSdPD8c fvs9Gk9d4pEf7SvQAdy2jbmeu3B2k6O8nTmWf673p/wGiwEBSDQVugCmFN80q X-Gm-Gg: ASbGncshc8+5sToxs4d0HTq6VP6DpgUhi8uethqJKTGz0hW47Uw9Yt19x3vH7uM290r o9y9IzolWiRAmKPqkEFAz6qD3PeEoHMcHO/GrvxqMtXrY+UFUBlQSPUg/N5eBzWjgWQJ3F4LZ+Q vqLauNTimCOnSsyR19RHuP/SPNbJlJElq46hz1lM9WR78Jdubo5EZ280gKVRwjxmOFVw3awPve2 CJqFNT3uTjsejKlKdvbMrndUMc1IdW1X0ND1QEAbAweYkLd0Q4XXRvtPnHhdf8Aj7x/NNLOQc8G R+I5BUxxSDl9zABKguclDM7dbyyYYEU9HyuEWG2Q60jXqR3Zo54v4dfC6UtktdvXDwCdCRgDPLD yI3Jr6k3YgSOXnESPLAw= X-Google-Smtp-Source: AGHT+IGMHLijwNul1Fgf+Eh0QauImJdi43NihhYCF/9mCnx1XVSL1/DbJEFlZ+7Kgq2HWVoQWkOYbwHwIWS+ X-Received: by 2002:a05:6122:400a:b0:559:85d5:bfbd with SMTP id 71dfb90a1353d-55b8d715209mr1574026e0c.9.1763793889023; Fri, 21 Nov 2025 22:44:49 -0800 (PST) Received: from postal.iol.unh.edu (postal.iol.unh.edu. [2606:4100:3880:1234::84]) by smtp-relay.gmail.com with ESMTPS id 71dfb90a1353d-55b7f49f28dsm771530e0c.0.2025.11.21.22.44.48 (version=TLS1_2 cipher=ECDHE-ECDSA-AES128-GCM-SHA256 bits=128/128); Fri, 21 Nov 2025 22:44:49 -0800 (PST) X-Relaying-Domain: iol.unh.edu Date: Fri, 21 Nov 2025 22:44:49 -0800 (PST) Message-ID: <69215be1.050a0220.1f7a23.611cSMTPIN_ADDED_MISSING@mx.google.com> Received: from [172.21.0.2] (unknown [172.18.0.240]) by postal.iol.unh.edu (Postfix) with ESMTP id AB2DD6050A61; Sat, 22 Nov 2025 01:44:48 -0500 (EST) Subject: |SUCCESS| pw158982 [PATCH] [v1] dts: automate VFIO-PCI modprobe From: dpdklab@iol.unh.edu To: Test Report Cc: dpdk-test-reports@iol.unh.edu In-Reply-To: <20251121210650.328804-1-abailey@iol.unh.edu> References: <20251121210650.328804-1-abailey@iol.unh.edu> Content-Type: text/plain X-BeenThere: test-report@dpdk.org X-Mailman-Version: 2.1.29 Precedence: list List-Id: automatic DPDK test reports List-Unsubscribe: , List-Archive: List-Post: List-Help: List-Subscribe: , Errors-To: test-report-bounces@dpdk.org Test-Label: iol-unit-arm64-testing Test-Status: SUCCESS http://dpdk.org/patch/158982 _Testing PASS_ Submitter: Andrew Bailey Date: Friday, November 21 2025 21:06:50 DPDK git baseline: Repo:dpdk-next-dts Branch: master CommitID:53e368696fe13360483caeb8a2ec66827e295bec 158982 --> testing pass Upstream job id: Generic-Unit-Test-DPDK#395077 Test environment and result as below: +------------------------------+----------------+---------------------------+------------------------------+--------------+ | Environment | dpdk_unit_test | cryptodev_sw_zuc_autotest | cryptodev_sw_snow3g_autotest | lpm_autotest | +==============================+================+===========================+==============================+==============+ | Fedora Linux 40 | PASS | SKIPPED | SKIPPED | SKIPPED | +------------------------------+----------------+---------------------------+------------------------------+--------------+ | Ubuntu 24.04 | PASS | SKIPPED | SKIPPED | SKIPPED | +------------------------------+----------------+---------------------------+------------------------------+--------------+ | Ubuntu 22.04 | PASS | SKIPPED | SKIPPED | SKIPPED | +------------------------------+----------------+---------------------------+------------------------------+--------------+ | Fedora Linux 41 | PASS | SKIPPED | SKIPPED | SKIPPED | +------------------------------+----------------+---------------------------+------------------------------+--------------+ | Ubuntu 20.04 | PASS | SKIPPED | SKIPPED | PASS | +------------------------------+----------------+---------------------------+------------------------------+--------------+ | CentOS Stream 10 | PASS | SKIPPED | SKIPPED | SKIPPED | +------------------------------+----------------+---------------------------+------------------------------+--------------+ | Fedora Linux 42 | PASS | SKIPPED | SKIPPED | SKIPPED | +------------------------------+----------------+---------------------------+------------------------------+--------------+ | CentOS Stream 9 | PASS | SKIPPED | SKIPPED | SKIPPED | +------------------------------+----------------+---------------------------+------------------------------+--------------+ | Debian GNU/Linux 12 | PASS | SKIPPED | SKIPPED | SKIPPED | +------------------------------+----------------+---------------------------+------------------------------+--------------+ | Red Hat Enterprise Linux 9.5 | PASS | SKIPPED | SKIPPED | SKIPPED | +------------------------------+----------------+---------------------------+------------------------------+--------------+ | Debian 12 (arm) | SKIPPED | PASS | PASS | SKIPPED | +------------------------------+----------------+---------------------------+------------------------------+--------------+ Fedora Linux 40 Kernel: 5.4 Compiler: clang gcc (GCC) 14.2.1 20240912 (Red Hat 14.2.1-3) Ubuntu 24.04 Kernel: 5.4 Compiler: gcc gcc (Ubuntu 13.3.0-6ubuntu2~24.04) 13.3.0 Ubuntu 22.04 Kernel: 5.15 Compiler: gcc gcc (Ubuntu 11.4.0-1ubuntu1~22.04.2) 11.4.0 Fedora Linux 41 Kernel: 5.4 Compiler: clang gcc (GCC) 14.3.1 20250523 (Red Hat 14.3.1-1) Ubuntu 20.04 Kernel: 5.4 Compiler: gcc gcc (Ubuntu 9.4.0-1ubuntu1~20.04.2) 9.4.0 CentOS Stream 10 Kernel: 5.4 Compiler: gcc gcc (GCC) 14.2.1 20250110 (Red Hat 14.2.1-8) Fedora Linux 42 Kernel: 5.4 Compiler: clang gcc (GCC) 15.2.1 20250808 (Red Hat 15.2.1-1) CentOS Stream 9 Kernel: 5.4 Compiler: gcc gcc (GCC) 11.5.0 20240719 (Red Hat 11.5.0-11) Debian GNU/Linux 12 Kernel: 5.4 Compiler: gcc gcc (Debian 12.2.0-14+deb12u1) 12.2.0 Red Hat Enterprise Linux 9.5 Kernel: 5.4 Compiler: gcc gcc (GCC) 11.5.0 20240719 (Red Hat 11.5.0-2) Debian 12 (arm) Kernel: Depends on container host Compiler: gcc (Debian 12.2.0-14) 12.2.0 To view detailed results, visit: https://lab.dpdk.org/results/dashboard/patchsets/34656/ UNH-IOL DPDK Community Lab To manage your email subscriptions, visit: https://lab.dpdk.org/results/dashboard/preferences/subscriptions/