From mboxrd@z Thu Jan 1 00:00:00 1970 Return-Path: Received: from mails.dpdk.org (mails.dpdk.org [217.70.189.124]) by inbox.dpdk.org (Postfix) with ESMTP id 0D20E48B71 for ; Sat, 22 Nov 2025 07:47:08 +0100 (CET) Received: from mails.dpdk.org (localhost [127.0.0.1]) by mails.dpdk.org (Postfix) with ESMTP id 06E6D400EF; Sat, 22 Nov 2025 07:47:08 +0100 (CET) Received: from mail-pl1-f227.google.com (mail-pl1-f227.google.com [209.85.214.227]) by mails.dpdk.org (Postfix) with ESMTP id 3B15C400EF for ; Sat, 22 Nov 2025 07:47:06 +0100 (CET) Received: by mail-pl1-f227.google.com with SMTP id d9443c01a7336-2984dfae043so24918865ad.0 for ; Fri, 21 Nov 2025 22:47:06 -0800 (PST) DKIM-Signature: v=1; a=rsa-sha256; c=relaxed/relaxed; d=iol.unh.edu; s=unh-iol; t=1763794025; x=1764398825; darn=dpdk.org; h=cc:to:from:subject:message-id:date:from:to:cc:subject:date :message-id:reply-to; bh=TDEj4o0GzqirERFiSxIAYjVz8j8f1H3hMTknx1ayvDg=; b=W+rR74bpPEL/jbZdQtagdvjGxLqpOwcnfY+eO+7mm8k+Kv9Phq9OghLPiCV5mtTH/k oQg6fm7e5dQiCVDB5nkJ2Psbl0ZqE6fmb1Vk19STCVOBnUoeJCl48IMz5BgPoK2DjKmF jzu2J0NMiPWjikiCMiCveI3TCRBxsk3uIbVh0= X-Google-DKIM-Signature: v=1; a=rsa-sha256; c=relaxed/relaxed; d=1e100.net; s=20230601; t=1763794025; x=1764398825; h=cc:to:from:subject:message-id:date:x-gm-gg:x-gm-message-state:from :to:cc:subject:date:message-id:reply-to; bh=TDEj4o0GzqirERFiSxIAYjVz8j8f1H3hMTknx1ayvDg=; b=evP6Ewz+BA3QWhbxu1HpWwzOBLn5hDNRZyVYfVpzWxDEEO/FaX7musfuobp/su4IN9 gzf+IpBsFKlzBQCIE3/DpZGh6Z2CNRDf5KlQTdz3oDr+spUOHA3+MacgfCaaUszQPvfu e2DmvdIqtUARR0YLX9hWaqC0MvIgRSSHSahPd5+HrKWAVtqzjE2vNE/WL57eFJRjLaQ6 pQs/b3pCNWhq45A9oIlaV979uXDzC41IxnjPTAFrz32PgM6ODE+coYFZWeYm/TkFbMM1 fPonUoi2PIRhuiudLuvaET9ZSUo9Wga3IhT1nQ5V5mt9PAolSoqgwdPJV2WE+fZvRXUX 1Zlw== X-Gm-Message-State: AOJu0Yya4Tz6/AuEqSspSIZmOw7kdj8DKNr6IeYS4zfsrY2IHlY5jkws fXORTRMejpEXp3JiTZDJkaITZVMgF/zextMxcbjmCP56TUouBhdOJT47wCwJ+V5p1KMJpKay7uh ZebTKGod4kXSqdZR1FGLLOhR5FEB2pLFUfcD+Y7R2SpIei4+kO894 X-Gm-Gg: ASbGncunGGOLyGqp96jHSS1gX2ukYSdDYwPSODOSIU2ATCaJWqBMprqs+S5NEe7uPfr sJXEVp4wsWV4MRdiFBJm4w1pEsBGxhgR2jvc8VOTmYi8cIKwNuLo9DpGSThMgDAX8BekPRpR2VI tfwBSmCQKWanmmKz5wF6zve34LS7F3Rw4znkv5BNewtLIy8iCFb0ll553CelW/+nuiP8CWjzcN1 TDd5bnmjlXuQYOPIHXo7rk9NgIN1c1bvcMR/12/5S2XbXmAqyy5hNwRRJwMCiELjZiv9rY/xNp0 qoEqymj+d0WOW+On3EQVSNBOdQFU23OhwRXqOxjoxpc+ienC63rhxyyaLwopswspzTuH4b6aPoe KEeQ1ImUdfp1ZYf6DgAM= X-Google-Smtp-Source: AGHT+IEvk55D8ho6G+Q1IL5j0AgM83pSCoIEUwTHSxVNNr9OFNxYJi4iZtBS41S+ZXaP9++AXy/bf+BbXQMO X-Received: by 2002:a17:903:fa6:b0:295:5668:2f27 with SMTP id d9443c01a7336-29b6c3c29bcmr41575725ad.9.1763794025266; Fri, 21 Nov 2025 22:47:05 -0800 (PST) Received: from postal.iol.unh.edu (postal.iol.unh.edu. [2606:4100:3880:1234::84]) by smtp-relay.gmail.com with ESMTPS id d9443c01a7336-29b5b21c73dsm8751355ad.50.2025.11.21.22.47.05 (version=TLS1_2 cipher=ECDHE-ECDSA-AES128-GCM-SHA256 bits=128/128); Fri, 21 Nov 2025 22:47:05 -0800 (PST) X-Relaying-Domain: iol.unh.edu Date: Fri, 21 Nov 2025 22:47:05 -0800 (PST) Message-ID: <69215c69.170a0220.328063.be3cSMTPIN_ADDED_MISSING@mx.google.com> Received: from [172.21.0.2] (unknown [172.18.0.240]) by postal.iol.unh.edu (Postfix) with ESMTP id 605BB6050A61; Sat, 22 Nov 2025 01:47:04 -0500 (EST) Subject: |SUCCESS| [GIT MASTER] 0bd935abcb823f581ce53986986aa54eaf6f8140 From: dpdklab@iol.unh.edu To: Test Report Cc: dpdk-test-reports@iol.unh.edu, Xueming Li , Kevin Traynor , Luca Boccassi Content-Type: text/plain X-BeenThere: test-report@dpdk.org X-Mailman-Version: 2.1.29 Precedence: list List-Id: automatic DPDK test reports List-Unsubscribe: , List-Archive: List-Post: List-Help: List-Subscribe: , Errors-To: test-report-bounces@dpdk.org _Testing PASS_ Branch: tags/v24.11 0bd935abcb823f581ce53986986aa54eaf6f8140 --> testing pass Upstream job id: Generic-Unit-Test-DPDK#395147 Test environment and result as below: +-------------------------------+----------------+ | Environment | dpdk_unit_test | +===============================+================+ | Debian GNU/Linux 12 | PASS | +-------------------------------+----------------+ | CentOS Stream 10 | PASS | +-------------------------------+----------------+ | Fedora Linux 40 | PASS | +-------------------------------+----------------+ | CentOS Stream 9 | PASS | +-------------------------------+----------------+ | Red Hat Enterprise Linux 9.5 | PASS | +-------------------------------+----------------+ | Fedora Linux 41 | PASS | +-------------------------------+----------------+ | Red Hat Enterprise Linux 8.10 | PASS | +-------------------------------+----------------+ | Ubuntu 20.04 | PASS | +-------------------------------+----------------+ | Fedora Linux 42 | PASS | +-------------------------------+----------------+ | Ubuntu 24.04 | PASS | +-------------------------------+----------------+ | Ubuntu 22.04 | PASS | +-------------------------------+----------------+ | Windows Server 2022 | PASS | +-------------------------------+----------------+ Debian GNU/Linux 12 Kernel: 5.15 Compiler: gcc gcc (Debian 12.2.0-14+deb12u1) 12.2.0 CentOS Stream 10 Kernel: 5.15 Compiler: gcc gcc (GCC) 14.2.1 20250110 (Red Hat 14.2.1-8) Fedora Linux 40 Kernel: 5.15 Compiler: clang gcc (GCC) 14.2.1 20240912 (Red Hat 14.2.1-3) CentOS Stream 9 Kernel: 5.15 Compiler: gcc gcc (GCC) 11.5.0 20240719 (Red Hat 11.5.0-11) Red Hat Enterprise Linux 9.5 Kernel: 5.15 Compiler: gcc gcc (GCC) 11.5.0 20240719 (Red Hat 11.5.0-2) Fedora Linux 41 Kernel: 5.15 Compiler: gcc gcc (GCC) 14.3.1 20250523 (Red Hat 14.3.1-1) Red Hat Enterprise Linux 8.10 Kernel: 5.15 Compiler: gcc gcc (GCC) 8.5.0 20210514 (Red Hat 8.5.0-22) Ubuntu 20.04 Kernel: 5.15 Compiler: gcc gcc (Ubuntu 9.4.0-1ubuntu1~20.04.2) 9.4.0 Fedora Linux 42 Kernel: 5.15 Compiler: clang gcc (GCC) 15.2.1 20250808 (Red Hat 15.2.1-1) Ubuntu 24.04 Kernel: 5.15 Compiler: gcc gcc (Ubuntu 13.3.0-6ubuntu2~24.04) 13.3.0 Ubuntu 22.04 Kernel: 5.15 Compiler: gcc gcc (Ubuntu 11.4.0-1ubuntu1~22.04) 11.4.0 Windows Server 2022 Kernel: 10.0.20348.2031 Compiler: clang 15.0.7, gcc 14.1.0 (MinGW), and MSVC VS 19.39.33521 To view detailed results, visit: https://lab.dpdk.org/results/dashboard/tarballs/35681/ UNH-IOL DPDK Community Lab To manage your email subscriptions, visit: https://lab.dpdk.org/results/dashboard/preferences/subscriptions/