From mboxrd@z Thu Jan 1 00:00:00 1970 Return-Path: Received: from mails.dpdk.org (mails.dpdk.org [217.70.189.124]) by inbox.dpdk.org (Postfix) with ESMTP id C505B48B74 for ; Sat, 22 Nov 2025 09:18:04 +0100 (CET) Received: from mails.dpdk.org (localhost [127.0.0.1]) by mails.dpdk.org (Postfix) with ESMTP id 9FE9E400EF; Sat, 22 Nov 2025 09:18:04 +0100 (CET) Received: from mail-pl1-f227.google.com (mail-pl1-f227.google.com [209.85.214.227]) by mails.dpdk.org (Postfix) with ESMTP id E6AF7400EF for ; Sat, 22 Nov 2025 09:18:03 +0100 (CET) Received: by mail-pl1-f227.google.com with SMTP id d9443c01a7336-2984dfae0acso42682585ad.0 for ; Sat, 22 Nov 2025 00:18:03 -0800 (PST) DKIM-Signature: v=1; a=rsa-sha256; c=relaxed/relaxed; d=iol.unh.edu; s=unh-iol; t=1763799483; x=1764404283; darn=dpdk.org; h=cc:to:from:subject:message-id:date:from:to:cc:subject:date :message-id:reply-to; bh=7RkQIpOeKsJ4nLbr/cimUVJCeOqWIPDZitBABKnpgr0=; b=USoN+NnWDI0VqTKc+AcAYiV7mqjCg1kubmOarfHSHlc3VKmTLJjtuVDNqxqXw5rYSD jr8ubDfcTmfTVAiaWcGPSoS+GoRoq5B0Ptd2/M4p4qLofy20S3U9Oabm8nUkShsMrBVz 36LlSg58j+/65UMgBrDqR+/OtzNkYJl9Gc1yk= X-Google-DKIM-Signature: v=1; a=rsa-sha256; c=relaxed/relaxed; d=1e100.net; s=20230601; t=1763799483; x=1764404283; h=cc:to:from:subject:message-id:date:x-gm-gg:x-gm-message-state:from :to:cc:subject:date:message-id:reply-to; bh=7RkQIpOeKsJ4nLbr/cimUVJCeOqWIPDZitBABKnpgr0=; b=bNnEz+oyEvxvg7MIa2WGH1Ra8gNa08YHfF1eadcG/eaJn6Y0X0gwnyuzpOShd2IyvG bJQbHvpgTi/BoUQFTRGAgQuQgOEM+L9xCWRdAo0qkRYJFNrVtuI/HLppYGJIH75xUQAZ h7ylVGNobiEMwTNr0qu1mFdh2wp/BOGT/X7VFDm42Qd44XJys8R0N78j7oSqG/FuWpnn JlsTOEaWQMPFyi9Uv+YWtpsrSpXRgIqO2NybwDkCfBYfWyL37PhKo3DKwVWXr3cHX5Is A49Ck/9El2hCiSgth4Z0JmRHZpvruKj3Av4vPNyTQT+PaY0EHvrTQIg3fHoUsfbVDOp4 t62w== X-Gm-Message-State: AOJu0YxAROQhTl/btwwTuUA6kk5fPlx2DJJAVmxMB+MQHqW2ay9Wcsmr S+FYd3c7SZu9rm0wSQO2RXJez1Bgu1lzpH7SkN/ZmA5abXYmMHR2+tR7tj9Lm9f0B7UPD3iNtH8 i1KvfmTrAWZIxY8//SiqharOFU0kiTBFtb0N4KrNgn4ey X-Gm-Gg: ASbGncv3/+8TiK4Q6leMurChp5TrfwcquXAq1ZU9bz5BDyiMQNqJ2bBtaCd64ImixnM b8H5rzvzRKY+lMmO9MY828EX5juy2fUUH+0WndGZ4DMkLSbaSucTlWhSywFbKLWdv3kV3au4zyS YHNz+450rcBNjJTpnXrRGz8zq8UEy010AsAYCwnDinev8lThPZXxMmRReyMcqDY0Quy2/9aKEXs k9dxxzae37HSdYNgxidOUQXfJuKX4bijI5dL1wTLtQIo22JTt+0GdlrVK+cZhnAAat8SHNRacsY +1mi2AaLdBs5w0SGLRx2dAUsy4Vg7xtRkbLCS/5uMQ4JoyrHv/owon8yIYbAp7J8On6YE5Wm+42 S1rlrngGGEInKguLU2kIRuZEOCXq0EJZDySlAn4PhWQ== X-Google-Smtp-Source: AGHT+IFfH4cmMGLx4ekle7YXot13OVQejqrWXY87dUtO3eVZr78K6ETEXqMGCaMBKTfAnCrg+7kG/Ymnabv9 X-Received: by 2002:a17:902:e945:b0:295:565b:c691 with SMTP id d9443c01a7336-29b6be9d664mr67161035ad.17.1763799482913; Sat, 22 Nov 2025 00:18:02 -0800 (PST) Received: from postal.iol.unh.edu (postal.iol.unh.edu. [132.177.123.84]) by smtp-relay.gmail.com with ESMTPS id d9443c01a7336-29b5b15830asm8758415ad.26.2025.11.22.00.18.02 (version=TLS1_2 cipher=ECDHE-ECDSA-AES128-GCM-SHA256 bits=128/128); Sat, 22 Nov 2025 00:18:02 -0800 (PST) X-Relaying-Domain: iol.unh.edu Date: Sat, 22 Nov 2025 00:18:02 -0800 (PST) Message-ID: <692171ba.170a0220.b6983.b4c1SMTPIN_ADDED_MISSING@mx.google.com> Received: from [172.21.0.2] (unknown [172.18.0.240]) by postal.iol.unh.edu (Postfix) with ESMTP id 5769C6051830; Sat, 22 Nov 2025 03:18:02 -0500 (EST) Subject: |SUCCESS| [GIT MASTER] ef98b88455bf4a7c8b7aa3106a761c9e9270d6a3 From: dpdklab@iol.unh.edu To: Test Report Cc: dpdk-test-reports@iol.unh.edu Content-Type: text/plain X-BeenThere: test-report@dpdk.org X-Mailman-Version: 2.1.29 Precedence: list List-Id: automatic DPDK test reports List-Unsubscribe: , List-Archive: List-Post: List-Help: List-Subscribe: , Errors-To: test-report-bounces@dpdk.org _Testing PASS_ Branch: dpdk ef98b88455bf4a7c8b7aa3106a761c9e9270d6a3 --> testing pass Upstream job id: Generic-Unit-Test-DPDK#395111 Test environment and result as below: +------------------------------+---------------------------+--------------+------------------------------+----------------+ | Environment | cryptodev_sw_zuc_autotest | lpm_autotest | cryptodev_sw_snow3g_autotest | dpdk_unit_test | +==============================+===========================+==============+==============================+================+ | Debian 12 (arm) | PASS | SKIPPED | PASS | SKIPPED | +------------------------------+---------------------------+--------------+------------------------------+----------------+ | Ubuntu 20.04 | SKIPPED | PASS | SKIPPED | PASS | +------------------------------+---------------------------+--------------+------------------------------+----------------+ | Fedora Linux 41 | SKIPPED | SKIPPED | SKIPPED | PASS | +------------------------------+---------------------------+--------------+------------------------------+----------------+ | CentOS Stream 9 | SKIPPED | SKIPPED | SKIPPED | PASS | +------------------------------+---------------------------+--------------+------------------------------+----------------+ | Fedora Linux 40 | SKIPPED | SKIPPED | SKIPPED | PASS | +------------------------------+---------------------------+--------------+------------------------------+----------------+ | CentOS Stream 10 | SKIPPED | SKIPPED | SKIPPED | PASS | +------------------------------+---------------------------+--------------+------------------------------+----------------+ | Debian GNU/Linux 12 | SKIPPED | SKIPPED | SKIPPED | PASS | +------------------------------+---------------------------+--------------+------------------------------+----------------+ | Fedora Linux 42 | SKIPPED | SKIPPED | SKIPPED | PASS | +------------------------------+---------------------------+--------------+------------------------------+----------------+ | Ubuntu 24.04 | SKIPPED | SKIPPED | SKIPPED | PASS | +------------------------------+---------------------------+--------------+------------------------------+----------------+ | Ubuntu 22.04 | SKIPPED | SKIPPED | SKIPPED | PASS | +------------------------------+---------------------------+--------------+------------------------------+----------------+ | Red Hat Enterprise Linux 9.5 | SKIPPED | SKIPPED | SKIPPED | PASS | +------------------------------+---------------------------+--------------+------------------------------+----------------+ Debian 12 (arm) Kernel: Depends on container host Compiler: gcc (Debian 12.2.0-14) 12.2.0 Ubuntu 20.04 Kernel: 5.4 Compiler: gcc gcc (Ubuntu 9.4.0-1ubuntu1~20.04.2) 9.4.0 Fedora Linux 41 Kernel: 5.4 Compiler: clang gcc (GCC) 14.3.1 20250523 (Red Hat 14.3.1-1) CentOS Stream 9 Kernel: 5.4 Compiler: gcc gcc (GCC) 11.5.0 20240719 (Red Hat 11.5.0-11) Fedora Linux 40 Kernel: 5.4 Compiler: gcc gcc (GCC) 14.2.1 20240912 (Red Hat 14.2.1-3) CentOS Stream 10 Kernel: 5.4 Compiler: gcc gcc (GCC) 14.2.1 20250110 (Red Hat 14.2.1-8) Debian GNU/Linux 12 Kernel: 5.4 Compiler: gcc gcc (Debian 12.2.0-14+deb12u1) 12.2.0 Fedora Linux 42 Kernel: 5.4 Compiler: gcc gcc (GCC) 15.2.1 20250808 (Red Hat 15.2.1-1) Ubuntu 24.04 Kernel: 5.4 Compiler: gcc gcc (Ubuntu 13.3.0-6ubuntu2~24.04) 13.3.0 Ubuntu 22.04 Kernel: 5.4 Compiler: gcc gcc (Ubuntu 11.4.0-1ubuntu1~22.04) 11.4.0 Red Hat Enterprise Linux 9.5 Kernel: 5.4 Compiler: gcc gcc (GCC) 11.5.0 20240719 (Red Hat 11.5.0-2) To view detailed results, visit: https://lab.dpdk.org/results/dashboard/tarballs/35679/ UNH-IOL DPDK Community Lab To manage your email subscriptions, visit: https://lab.dpdk.org/results/dashboard/preferences/subscriptions/