From mboxrd@z Thu Jan 1 00:00:00 1970 Return-Path: Received: from mails.dpdk.org (mails.dpdk.org [217.70.189.124]) by inbox.dpdk.org (Postfix) with ESMTP id 5F14048B74 for ; Sat, 22 Nov 2025 09:37:44 +0100 (CET) Received: from mails.dpdk.org (localhost [127.0.0.1]) by mails.dpdk.org (Postfix) with ESMTP id 3936D400EF; Sat, 22 Nov 2025 09:37:44 +0100 (CET) Received: from mail-io1-f98.google.com (mail-io1-f98.google.com [209.85.166.98]) by mails.dpdk.org (Postfix) with ESMTP id C2584400EF for ; Sat, 22 Nov 2025 09:37:43 +0100 (CET) Received: by mail-io1-f98.google.com with SMTP id ca18e2360f4ac-94895f6b144so114405239f.0 for ; Sat, 22 Nov 2025 00:37:43 -0800 (PST) DKIM-Signature: v=1; a=rsa-sha256; c=relaxed/relaxed; d=iol.unh.edu; s=unh-iol; t=1763800663; x=1764405463; darn=dpdk.org; h=cc:to:from:subject:message-id:date:from:to:cc:subject:date :message-id:reply-to; bh=ALY5i2MyOtyiDbkw98npZUHpX7TnnrWjgm1aZUPo7XQ=; b=g9UpBczdbEFwEFw6Ekgz0PCqhhOZF1kFLuP2YtkgwQ1ZJDnLAccLLwyacwL4S97mrl QrUiZwX/reCzu+tWw3QY4BvhpYA05KvHEwEwFJ65Q4tixt6+TpupkBVlmr1vG6clfFh6 onJqaK0kksi8zB41GhPnDv1rKSynYzdeHf+a4= X-Google-DKIM-Signature: v=1; a=rsa-sha256; c=relaxed/relaxed; d=1e100.net; s=20230601; t=1763800663; x=1764405463; h=cc:to:from:subject:message-id:date:x-gm-gg:x-gm-message-state:from :to:cc:subject:date:message-id:reply-to; bh=ALY5i2MyOtyiDbkw98npZUHpX7TnnrWjgm1aZUPo7XQ=; b=MfAYkkVtDBtKFFdVKD5xBW1P6L1vx21Xqcal3jpeptASvySN64ytlg54OuNQ0vl0hb hmSy3DZh3HgJwtqPyeJ8zWyG0RPcbTQ1IukpvIRogTNdfKC8L1gDD3htYRYKxrvL/BNf 0rU3vgLsL8FNSS6Ygmg7dB9JaHcR1mNeIJRLOHde4JCWmuJ2O84mM/48vea0vCvO8OTx CILahNgFyP9ccC2QIm2JJzRbCuoZpTgFNxV0nyzVLZmP9eu4RpKaNg/C9Gd0DYA08XAd VgcDFx+j7rp3QVf52ljh7rfHmrN9NyrDdGdQyd2p8LEUZXXcZT8P3R8nSq5BVrW00P7n hIHw== X-Gm-Message-State: AOJu0YxOPzy8HN11RHQuDgXrCDCf3rttnK0pOYRA9/c3dku2SqyNTTeB PX1EA2Y16TIUZRUOhsOUoBU9KavgZr8iLuNyf4MAd+rG2N0M8PqM9FWODHI2z04OESF+z0sEf/V hvU9Uyu3r4VcGWGQTVjvriWKt7gdpy6jTVyQn X-Gm-Gg: ASbGncuxTzzU/M5QhobQRaHa5GvmVTdr5KHCU5VYq92OOfI2y7VJyBOICJl2jKPgJfz 3Y8VKC6UebWB+rBD+0cQ8OdumeQHn4n2OmPZ44kC6U+vGNYELd7b/Ncg+3GjpdeYExUtrOvmWwA +R+uiWo8x/t11Kp9AC1xpc2VqMdgmkAYuSjfc2TWd2epFlu4f4Lh61d18DwlQb92ikvm3d6QxE0 SAvEN7OEsKqi6v2suySv4bSu0nKIPAzEt3t7LGiviv6WVEYsoDPnObQtsFPElf/pj9SVeRqPcNP csDXyLgJAEuagYQERaAkc9h8p5V95NymwYgJpW1yQgp2xhyZ9PBPcyUqGnHjXT/uJhOzRoIHhBx epBRzxlBZMABuZYBog21GTtiVOzUUAF+zwqaUhbCfJg== X-Google-Smtp-Source: AGHT+IHdjURTpuU46uQKa+LJS/VvPP3DNQoVO4vn0nUYro1CXVtRDfEmbSeUXEUFg4LfL9tJFN5T3dsGbUta X-Received: by 2002:a02:c60e:0:b0:5b7:ab40:9499 with SMTP id 8926c6da1cb9f-5b967a1c6c6mr2633307173.9.1763800662898; Sat, 22 Nov 2025 00:37:42 -0800 (PST) Received: from postal.iol.unh.edu (postal.iol.unh.edu. [132.177.123.84]) by smtp-relay.gmail.com with ESMTPS id 8926c6da1cb9f-5b954a3ae4esm710607173.10.2025.11.22.00.37.42 (version=TLS1_2 cipher=ECDHE-ECDSA-AES128-GCM-SHA256 bits=128/128); Sat, 22 Nov 2025 00:37:42 -0800 (PST) X-Relaying-Domain: iol.unh.edu Date: Sat, 22 Nov 2025 00:37:42 -0800 (PST) Message-ID: <69217656.050a0220.2524a6.462eSMTPIN_ADDED_MISSING@mx.google.com> Received: from [172.21.0.2] (unknown [172.18.0.240]) by postal.iol.unh.edu (Postfix) with ESMTP id 6C3B26051830; Sat, 22 Nov 2025 03:37:42 -0500 (EST) Subject: |SUCCESS| [GIT MASTER] 0bd935abcb823f581ce53986986aa54eaf6f8140 From: dpdklab@iol.unh.edu To: Test Report Cc: dpdk-test-reports@iol.unh.edu, Xueming Li , Kevin Traynor , Luca Boccassi Content-Type: text/plain X-BeenThere: test-report@dpdk.org X-Mailman-Version: 2.1.29 Precedence: list List-Id: automatic DPDK test reports List-Unsubscribe: , List-Archive: List-Post: List-Help: List-Subscribe: , Errors-To: test-report-bounces@dpdk.org _Testing PASS_ Branch: tags/v24.11 0bd935abcb823f581ce53986986aa54eaf6f8140 --> testing pass Upstream job id: Generic-DPDK-Compile-Meson#446738 Test environment and result as below: +------------------------------+--------------------+ | Environment | dpdk_meson_compile | +==============================+====================+ | Ubuntu 20.04 | PASS | +------------------------------+--------------------+ | Debian GNU/Linux 12 | PASS | +------------------------------+--------------------+ | Fedora Linux 42 | PASS | +------------------------------+--------------------+ | Ubuntu 22.04 | PASS | +------------------------------+--------------------+ | Ubuntu 24.04 | PASS | +------------------------------+--------------------+ | CentOS Stream 9 | PASS | +------------------------------+--------------------+ | CentOS Stream 10 | PASS | +------------------------------+--------------------+ | Red Hat Enterprise Linux 9.5 | PASS | +------------------------------+--------------------+ Ubuntu 20.04 Kernel: 5.15 Compiler: aarch64-linux-gnu-gcc gcc (Ubuntu 9.4.0-1ubuntu1~20.04.2) 9.4.0 Debian GNU/Linux 12 Kernel: 5.4 Compiler: gcc gcc (Debian 12.2.0-14+deb12u1) 12.2.0 Fedora Linux 42 Kernel: 5.4 Compiler: gcc gcc (GCC) 15.2.1 20250808 (Red Hat 15.2.1-1) Ubuntu 22.04 Kernel: 5.4 Compiler: gcc gcc (Ubuntu 11.4.0-1ubuntu1~22.04) 11.4.0 Ubuntu 24.04 Kernel: 5.4 Compiler: gcc gcc (Ubuntu 13.3.0-6ubuntu2~24.04) 13.3.0 CentOS Stream 9 Kernel: 5.4 Compiler: gcc gcc (GCC) 11.5.0 20240719 (Red Hat 11.5.0-11) CentOS Stream 10 Kernel: 5.4 Compiler: gcc gcc (GCC) 14.2.1 20250110 (Red Hat 14.2.1-8) Red Hat Enterprise Linux 9.5 Kernel: 5.4 Compiler: gcc gcc (GCC) 11.5.0 20240719 (Red Hat 11.5.0-2) To view detailed results, visit: https://lab.dpdk.org/results/dashboard/tarballs/35681/ UNH-IOL DPDK Community Lab To manage your email subscriptions, visit: https://lab.dpdk.org/results/dashboard/preferences/subscriptions/