From mboxrd@z Thu Jan 1 00:00:00 1970 Return-Path: Received: from mails.dpdk.org (mails.dpdk.org [217.70.189.124]) by inbox.dpdk.org (Postfix) with ESMTP id 332DF48B76 for ; Sat, 22 Nov 2025 10:01:01 +0100 (CET) Received: from mails.dpdk.org (localhost [127.0.0.1]) by mails.dpdk.org (Postfix) with ESMTP id 14BE9400EF; Sat, 22 Nov 2025 10:01:01 +0100 (CET) Received: from mail-pl1-f225.google.com (mail-pl1-f225.google.com [209.85.214.225]) by mails.dpdk.org (Postfix) with ESMTP id 7E551400EF for ; Sat, 22 Nov 2025 10:01:00 +0100 (CET) Received: by mail-pl1-f225.google.com with SMTP id d9443c01a7336-295548467c7so33051165ad.2 for ; Sat, 22 Nov 2025 01:01:00 -0800 (PST) DKIM-Signature: v=1; a=rsa-sha256; c=relaxed/relaxed; d=iol.unh.edu; s=unh-iol; t=1763802059; x=1764406859; darn=dpdk.org; h=cc:to:from:subject:message-id:date:from:to:cc:subject:date :message-id:reply-to; bh=NAc9tDx/zxR53NsUfmf+hWytv05rhrb6LvR/XV8IR+E=; b=BCEgxzdPqoEGWtWays7ynj9suyMzWwuC4O8WYn6bbBVoFz8cAbT1AJYzD86su5V0sQ NHNo9hp8NIC119a84AGUmSNuMm8Tus8uOkHDuK7oPfkaYyi0AsC3rn8QK+3I2h0SgNLj nv9ighCYPLaHllCHi3nqo5Vor1fr7s9hqA2SY= X-Google-DKIM-Signature: v=1; a=rsa-sha256; c=relaxed/relaxed; d=1e100.net; s=20230601; t=1763802059; x=1764406859; h=cc:to:from:subject:message-id:date:x-gm-gg:x-gm-message-state:from :to:cc:subject:date:message-id:reply-to; bh=NAc9tDx/zxR53NsUfmf+hWytv05rhrb6LvR/XV8IR+E=; b=pciDJfo4IbDruoG1HWanmk9L244LPglpN8LO35Qzz1aEj6ZDKmMXB0+gWmpZXjEDB3 rLmPu/5vGmlnAdBGOSU5bnGTRRJ+oql8VhQoDGIJmwFbit76QyjXAXjwG3b36fQOZkK9 ArL7Evw3VEVIv21bm+RWkWwsKNoiVRx1b1ftc2N1mzmCr901wTiElJPQvhGPgOOE42TN ImrvEZAKW9lHUYpPfMnTiw4afED6gOWbquqSESB7P8+5nTIog4eMjordt4lja4Xlf91w WZzmeXn/CJ3H234D+9LM2Tdb57VAkWpRa+Yuj6ff+MXJ4r2NoLIRmT0lRAlqJd6oX1b8 4l3Q== X-Gm-Message-State: AOJu0YyuiBZvOHSDw+CjEmmCPGuoKOH+uFyusiMn4kCxK3TOXBvJyEcu e31XjSAry2csswkV1SIZQOjXsERyuVrZAkMF2GnNbvCa0wzjH52Vn+5X8KVh7cgKyg15oygDZaR 1d8/1Gt6xMO34U4Q7MMpoj3H7C5OaLWupBKqI X-Gm-Gg: ASbGnct573/f2y5ShJHn8bQ/Ogqr7ThEzyJIVpI6mVzEroCtDxXw89RGq8WgaWVhOXl gqBrepU0098faBGXIRe8kHWuzrw2+mY0vAAEaqIf5V88y6plpCj+rCTLAm9PKKcTNz7rqkxPGRw 8TMW5oQrzhkmtsvw9ybp0NxQGeNa93KpZHhtxcVpIG2RhT39uH6GFT5ztkyxwDKCeWaR1kevyoF GF+CbV0icaZlpyT+E4Udu6FbVRlEQ+ywruO2JQuite1TipUQw3joSyHmFVefQRoE+TeemWw5EKy HGlVZZnKbcrZhgszZFsMmFNIPY3bnSkSin/2SsYqBdU0fbIi/VfYwMgw9nBho4WE7GFPnA4xCNH mE66y2mIcwJuPTYLa3Ne5hILZvhsm1UJMSN/1jdwp0g== X-Google-Smtp-Source: AGHT+IGASAgZutLYBTnV5EikuEtixWPs7wrV3CfGjoBZYu0O0+z4Gg1lpzwBUjadq4/tE7HjdPabB8hRxq1u X-Received: by 2002:a17:903:290:b0:29a:5ce:b485 with SMTP id d9443c01a7336-29b6bf91339mr57713405ad.52.1763802059038; Sat, 22 Nov 2025 01:00:59 -0800 (PST) Received: from postal.iol.unh.edu (postal.iol.unh.edu. [132.177.123.84]) by smtp-relay.gmail.com with ESMTPS id d9443c01a7336-29b5b21c98esm9186015ad.48.2025.11.22.01.00.58 (version=TLS1_2 cipher=ECDHE-ECDSA-AES128-GCM-SHA256 bits=128/128); Sat, 22 Nov 2025 01:00:59 -0800 (PST) X-Relaying-Domain: iol.unh.edu Date: Sat, 22 Nov 2025 01:00:59 -0800 (PST) Message-ID: <69217bcb.170a0220.26a2cf.d5d8SMTPIN_ADDED_MISSING@mx.google.com> Received: from [172.21.0.3] (unknown [172.18.0.240]) by postal.iol.unh.edu (Postfix) with ESMTP id 41D016051830; Sat, 22 Nov 2025 04:00:58 -0500 (EST) Subject: |SUCCESS| [GIT MASTER] d297bb24650efb7040a66a3270e01c94fc8ee4f5 From: dpdklab@iol.unh.edu To: Test Report Cc: dpdk-test-reports@iol.unh.edu, Xueming Li , Kevin Traynor , Luca Boccassi Content-Type: text/plain X-BeenThere: test-report@dpdk.org X-Mailman-Version: 2.1.29 Precedence: list List-Id: automatic DPDK test reports List-Unsubscribe: , List-Archive: List-Post: List-Help: List-Subscribe: , Errors-To: test-report-bounces@dpdk.org _Testing PASS_ Branch: tags/v22.11 d297bb24650efb7040a66a3270e01c94fc8ee4f5 --> testing pass Upstream job id: Generic-DPDK-Compile-Meson#446715 Test environment and result as below: +------------------------------+--------------------+ | Environment | dpdk_meson_compile | +==============================+====================+ | Red Hat Enterprise Linux 9.5 | PASS | +------------------------------+--------------------+ | Ubuntu 20.04 | PASS | +------------------------------+--------------------+ | CentOS Stream 9 | PASS | +------------------------------+--------------------+ | Fedora Linux 42 | PASS | +------------------------------+--------------------+ | Ubuntu 24.04 | PASS | +------------------------------+--------------------+ | Debian GNU/Linux 12 | PASS | +------------------------------+--------------------+ | Ubuntu 22.04 | PASS | +------------------------------+--------------------+ | CentOS Stream 10 | PASS | +------------------------------+--------------------+ Red Hat Enterprise Linux 9.5 Kernel: 5.4 Compiler: gcc gcc (GCC) 11.5.0 20240719 (Red Hat 11.5.0-2) Ubuntu 20.04 Kernel: 5.4 Compiler: gcc gcc (Ubuntu 9.4.0-1ubuntu1~20.04.2) 9.4.0 CentOS Stream 9 Kernel: 5.4 Compiler: gcc gcc (GCC) 11.5.0 20240719 (Red Hat 11.5.0-11) Fedora Linux 42 Kernel: 5.4 Compiler: gcc gcc (GCC) 15.2.1 20250808 (Red Hat 15.2.1-1) Ubuntu 24.04 Kernel: 5.4 Compiler: gcc gcc (Ubuntu 13.3.0-6ubuntu2~24.04) 13.3.0 Debian GNU/Linux 12 Kernel: 5.4 Compiler: gcc gcc (Debian 12.2.0-14+deb12u1) 12.2.0 Ubuntu 22.04 Kernel: 5.4 Compiler: gcc gcc (Ubuntu 11.4.0-1ubuntu1~22.04) 11.4.0 CentOS Stream 10 Kernel: 5.4 Compiler: gcc gcc (GCC) 14.2.1 20250110 (Red Hat 14.2.1-8) To view detailed results, visit: https://lab.dpdk.org/results/dashboard/tarballs/35680/ UNH-IOL DPDK Community Lab To manage your email subscriptions, visit: https://lab.dpdk.org/results/dashboard/preferences/subscriptions/