From mboxrd@z Thu Jan 1 00:00:00 1970 Return-Path: Received: from mails.dpdk.org (mails.dpdk.org [217.70.189.124]) by inbox.dpdk.org (Postfix) with ESMTP id 30D8A48B76 for ; Sat, 22 Nov 2025 11:05:59 +0100 (CET) Received: from mails.dpdk.org (localhost [127.0.0.1]) by mails.dpdk.org (Postfix) with ESMTP id 00FD8400EF; Sat, 22 Nov 2025 11:05:59 +0100 (CET) Received: from mail-oa1-f98.google.com (mail-oa1-f98.google.com [209.85.160.98]) by mails.dpdk.org (Postfix) with ESMTP id 8C9C2400EF for ; Sat, 22 Nov 2025 11:05:57 +0100 (CET) Received: by mail-oa1-f98.google.com with SMTP id 586e51a60fabf-3e80c483a13so1844688fac.2 for ; Sat, 22 Nov 2025 02:05:57 -0800 (PST) DKIM-Signature: v=1; a=rsa-sha256; c=relaxed/relaxed; d=iol.unh.edu; s=unh-iol; t=1763805956; x=1764410756; darn=dpdk.org; h=cc:to:from:subject:message-id:date:from:to:cc:subject:date :message-id:reply-to; bh=/7PcYf/Ylo192uthh8oWuP2Ia85Yp4+bgS7jLd8xlgI=; b=dqAJfUG8xRwFysCMONVZhdeKT9jxfJkwqvcqrWOy0ZuZZ2+B91QyRbULg6h3XOWqfG vCM6jk/qOEqmxoe4Mu6j5diySnoFaHWWBwQIzPRAe5YC0p7+mYz/NP4cbTQadwCJ9kZD m4ZV1ZhmIvjD0ktABMWRY1rv6mOvT6cv9Vlz8= X-Google-DKIM-Signature: v=1; a=rsa-sha256; c=relaxed/relaxed; d=1e100.net; s=20230601; t=1763805956; x=1764410756; h=cc:to:from:subject:message-id:date:x-gm-gg:x-gm-message-state:from :to:cc:subject:date:message-id:reply-to; bh=/7PcYf/Ylo192uthh8oWuP2Ia85Yp4+bgS7jLd8xlgI=; b=gr0RPSMw70moWfzK6zszimKt18ac+SdZLEb1zn5/Ap3CtyBW94QgEgVGGPcyU0WM/o OGoeB+3gpNDmdwcWDoVAFUFv9ivsd8SyOmzaQNQeLD+kUw2gwFIREWdVBIM0zVqt8C+s Qg1sqZPSGWI1JKk6QUR1U269s1aW/+B2Ipix1F18GWGi96D3xq/l4kNGwfak5Tcio+Zy pb+r4cu2kFsouU1lV3+PnCOq5ZcD8InfT3+rLOe1BlhAML/5krI29Pe09+oCTwihduAb +1iXZpifwgMl7n6rjt1b2rNx9D9NgK29qDKLy865KpU80KHtvApyKw0yh8NrkLAXaHoD FUTg== X-Gm-Message-State: AOJu0Yxn/PCkhI8qU4WMggaoQRqloY2jWwwX1SPGWCwVDnpLQVOSj88Z 8ugSjqa20MUSkXKsFRUzhQZf6/aS5FzUhgUagi80LH1PSnr/yVU+1PxoeTdLnVCA6lh77d1DgUY SzQI1TtRNBfTstiuVBR6o+w3B/34nzc/ZrmDA X-Gm-Gg: ASbGncsSdLy4z3MyiJ1e+e0EqwcSAgUriEMj3g2jyky8bFidYniSZMpFal00QJVRyKk LJGFGsrP0KiWlnPzFxAfJfZ3WszcMVt2zgshtcaKaoIreY+N6JpQKCnHlzp1Q6ec5iko+vNyLlv qtB/pDluTBmxUKYB2hp26m85dwWUWwDClTO9qlk0zfp1HyDez7Ry9q9N6pjZ7oOWbpcCxLbWfx9 grbeKpF/POVKdH6jXrRrGrvc9fe98kpouSh6aOyfgeNZGA+a7gsh9Y6SxlNhq7Wbvd2eOFPqmNX YwD0s7/YVAu5PwftBwXueAG/mr0S8bYCPcWsS8LRlNp6UQ2tBpw4GGJazp9UqhLRwhIow3ofu65 gdRCxDsSQjo1Z/42gN/6y+PYAc31GtINEltCLU/srjg== X-Google-Smtp-Source: AGHT+IFgyBVvAJ8Veb1eTtJ//1M5Q4mIutbzq+b0uG6AydA0GJAGoGPelT2mDjpVi72qpeXSo+B4AtEsRLYO X-Received: by 2002:a05:6870:8987:b0:3e7:e70f:fd64 with SMTP id 586e51a60fabf-3ecbe32139bmr1936013fac.14.1763805956507; Sat, 22 Nov 2025 02:05:56 -0800 (PST) Received: from postal.iol.unh.edu (postal.iol.unh.edu. [132.177.123.84]) by smtp-relay.gmail.com with ESMTPS id 586e51a60fabf-3ec9dc766b5sm766363fac.15.2025.11.22.02.05.56 (version=TLS1_2 cipher=ECDHE-ECDSA-AES128-GCM-SHA256 bits=128/128); Sat, 22 Nov 2025 02:05:56 -0800 (PST) X-Relaying-Domain: iol.unh.edu Date: Sat, 22 Nov 2025 02:05:56 -0800 (PST) Message-ID: <69218b04.050a0220.2ef60b.6b66SMTPIN_ADDED_MISSING@mx.google.com> Received: from [172.21.0.2] (unknown [172.18.0.240]) by postal.iol.unh.edu (Postfix) with ESMTP id 1B0BD6051830; Sat, 22 Nov 2025 05:05:56 -0500 (EST) Subject: |SUCCESS| [GIT MASTER] 0bd935abcb823f581ce53986986aa54eaf6f8140 From: dpdklab@iol.unh.edu To: Test Report Cc: dpdk-test-reports@iol.unh.edu, Xueming Li , Kevin Traynor , Luca Boccassi Content-Type: text/plain X-BeenThere: test-report@dpdk.org X-Mailman-Version: 2.1.29 Precedence: list List-Id: automatic DPDK test reports List-Unsubscribe: , List-Archive: List-Post: List-Help: List-Subscribe: , Errors-To: test-report-bounces@dpdk.org _Testing PASS_ Branch: tags/v24.11 0bd935abcb823f581ce53986986aa54eaf6f8140 --> testing pass Upstream job id: Generic-Unit-Test-DPDK#395165 Test environment and result as below: +------------------------------+---------------------------+------------------------------+--------------+----------------+ | Environment | cryptodev_sw_zuc_autotest | cryptodev_sw_snow3g_autotest | lpm_autotest | dpdk_unit_test | +==============================+===========================+==============================+==============+================+ | Debian 12 (arm) | PASS | PASS | SKIPPED | SKIPPED | +------------------------------+---------------------------+------------------------------+--------------+----------------+ | Ubuntu 20.04 | SKIPPED | SKIPPED | PASS | PASS | +------------------------------+---------------------------+------------------------------+--------------+----------------+ | CentOS Stream 10 | SKIPPED | SKIPPED | SKIPPED | PASS | +------------------------------+---------------------------+------------------------------+--------------+----------------+ | Fedora Linux 40 | SKIPPED | SKIPPED | SKIPPED | PASS | +------------------------------+---------------------------+------------------------------+--------------+----------------+ | Fedora Linux 41 | SKIPPED | SKIPPED | SKIPPED | PASS | +------------------------------+---------------------------+------------------------------+--------------+----------------+ | Debian GNU/Linux 12 | SKIPPED | SKIPPED | SKIPPED | PASS | +------------------------------+---------------------------+------------------------------+--------------+----------------+ | CentOS Stream 9 | SKIPPED | SKIPPED | SKIPPED | PASS | +------------------------------+---------------------------+------------------------------+--------------+----------------+ | Fedora Linux 42 | SKIPPED | SKIPPED | SKIPPED | PASS | +------------------------------+---------------------------+------------------------------+--------------+----------------+ | Red Hat Enterprise Linux 9.5 | SKIPPED | SKIPPED | SKIPPED | PASS | +------------------------------+---------------------------+------------------------------+--------------+----------------+ | Ubuntu 24.04 | SKIPPED | SKIPPED | SKIPPED | PASS | +------------------------------+---------------------------+------------------------------+--------------+----------------+ | Ubuntu 22.04 | SKIPPED | SKIPPED | SKIPPED | PASS | +------------------------------+---------------------------+------------------------------+--------------+----------------+ Debian 12 (arm) Kernel: Depends on container host Compiler: gcc (Debian 12.2.0-14) 12.2.0 Ubuntu 20.04 Kernel: 5.4 Compiler: gcc gcc (Ubuntu 9.4.0-1ubuntu1~20.04.2) 9.4.0 CentOS Stream 10 Kernel: 5.4 Compiler: gcc gcc (GCC) 14.2.1 20250110 (Red Hat 14.2.1-8) Fedora Linux 40 Kernel: 5.4 Compiler: clang gcc (GCC) 14.2.1 20240912 (Red Hat 14.2.1-3) Fedora Linux 41 Kernel: 5.4 Compiler: clang gcc (GCC) 14.3.1 20250523 (Red Hat 14.3.1-1) Debian GNU/Linux 12 Kernel: 5.4 Compiler: gcc gcc (Debian 12.2.0-14+deb12u1) 12.2.0 CentOS Stream 9 Kernel: 5.4 Compiler: gcc gcc (GCC) 11.5.0 20240719 (Red Hat 11.5.0-11) Fedora Linux 42 Kernel: 5.4 Compiler: clang gcc (GCC) 15.2.1 20250808 (Red Hat 15.2.1-1) Red Hat Enterprise Linux 9.5 Kernel: 5.4 Compiler: gcc gcc (GCC) 11.5.0 20240719 (Red Hat 11.5.0-2) Ubuntu 24.04 Kernel: 5.4 Compiler: gcc gcc (Ubuntu 13.3.0-6ubuntu2~24.04) 13.3.0 Ubuntu 22.04 Kernel: 5.4 Compiler: gcc gcc (Ubuntu 11.4.0-1ubuntu1~22.04) 11.4.0 To view detailed results, visit: https://lab.dpdk.org/results/dashboard/tarballs/35681/ UNH-IOL DPDK Community Lab To manage your email subscriptions, visit: https://lab.dpdk.org/results/dashboard/preferences/subscriptions/