From mboxrd@z Thu Jan 1 00:00:00 1970 Return-Path: Received: from mails.dpdk.org (mails.dpdk.org [217.70.189.124]) by inbox.dpdk.org (Postfix) with ESMTP id 74B7448B79 for ; Sat, 22 Nov 2025 17:57:41 +0100 (CET) Received: from mails.dpdk.org (localhost [127.0.0.1]) by mails.dpdk.org (Postfix) with ESMTP id 569A5400D7; Sat, 22 Nov 2025 17:57:41 +0100 (CET) Received: from mail-yw1-f225.google.com (mail-yw1-f225.google.com [209.85.128.225]) by mails.dpdk.org (Postfix) with ESMTP id 954B9400D7 for ; Sat, 22 Nov 2025 17:57:39 +0100 (CET) Received: by mail-yw1-f225.google.com with SMTP id 00721157ae682-789314f0920so28284477b3.1 for ; Sat, 22 Nov 2025 08:57:39 -0800 (PST) DKIM-Signature: v=1; a=rsa-sha256; c=relaxed/relaxed; d=iol.unh.edu; s=unh-iol; t=1763830659; x=1764435459; darn=dpdk.org; h=references:in-reply-to:cc:to:from:subject:message-id:date:from:to :cc:subject:date:message-id:reply-to; bh=IrhiGdFbnH+ytl36V/zCxEFDhcaf69o+3CBiloy/9T8=; b=P0rPSD7O7RSVV1VJWr+tlVyW/N3tiqZMavVKYMSsdnkJ3bk83YnaR2/FgJHGCxgC8G iVm45cKWlSEh4pQpC/c41Q9YRyZAz0K2xQPmdPXK0sjtXVZg3wXtrxG8VU61MWLidQs0 ZwUX2Q5FDv4PFKBWTD9gRjpndqr5BqBLhnnAU= X-Google-DKIM-Signature: v=1; a=rsa-sha256; c=relaxed/relaxed; d=1e100.net; s=20230601; t=1763830659; x=1764435459; h=references:in-reply-to:cc:to:from:subject:message-id:date:x-gm-gg :x-gm-message-state:from:to:cc:subject:date:message-id:reply-to; bh=IrhiGdFbnH+ytl36V/zCxEFDhcaf69o+3CBiloy/9T8=; b=lhf2Gl/hxKPbbNOxaSDAWR9I/LVEi35GJQJNx1GWbwWjm0v3d43ivUew8VKaUGgU6L LV4KDnr9lFF5NP+DfWuyco97ppK9VEwJ4f5H8EZy5dtoZ/ALV661c2gmlbkrpCuc/wma faGwMVM45sQ/C510hzm4sSQNe6sQ8jgU9nwHa0xa+ZR0A+IEmc5KbTozg6AWndLX90yc pJQIRG7yQvpA3eEt7CXzT1tNkKWWnkeDPHrkiZRpBH4Nso7NTXFVOPkDAHaJeA1LQtT5 o7wlKhu2D6MueXqhl/3XlI6trn3bMXRXMGOad0I8D/Rw6qVthzGZ2zLHn1tj9P1Yl5m8 tcBg== X-Gm-Message-State: AOJu0YyGE28k5Rgnj725zlixtjZpXjn/MJz/0pkATa+2jtAxbyIH2wlv g2mUkQ8O1Ku3xNYP6S48X2odaEW3tUg9oEBSBqZfAZRNx/LQbpa+EN17462QXx4gUz30uLzavzi Rs7ek1SKrJ2dJSHS6EXA+TuSNyX+kJqSDAOkryhJS8Msq X-Gm-Gg: ASbGnctkm+wtaqmJw0QCZ8wr4s2pY3juiUGgTZfGX1sw0InkW2zkUsdvjKWT3n6U/lK 3NOCAYcHAo9Ig+DCmwlSDqLZVjfx/KRMEnPuBFzI7IKYGStZmFuyCQK99eftUnTfD1ug2LYdCB5 WleXAnosWQrPcbKJmsNiXUPbW8fgoWdjl8nSYu+cVIrSQpmqM8JovBiXIAEIKZTjChMySIWhu2G j42mUTMEOIGZBNy+aQNVJXvzlg5sxfUvY4CpGo2+qLRl7qayuoZZuEmpx1GR60Fpd8kXb6yrx5e e1F0hhsjpWx0ssVa/XvPVnBj15INuCBdrsG7Ipg5t0Iq6GLwjkiX1PnflTsljTWsuTohCT+DlTr p+JIK5C2ihTQhJL10E6y64uaQiJIgKJ1IoW9m+Fp6dA== X-Google-Smtp-Source: AGHT+IE1uRO35ItivhFBdatmhftmKaBGKPt6WUr+seTS8fpH0OskpNSZn5/9gsEItvAYPdIkzvUiSMFc1GMn X-Received: by 2002:a05:690c:fce:b0:787:ffc0:40c7 with SMTP id 00721157ae682-78a8b576c0cmr46502607b3.68.1763830658828; Sat, 22 Nov 2025 08:57:38 -0800 (PST) Received: from postal.iol.unh.edu (postal.iol.unh.edu. [132.177.123.84]) by smtp-relay.gmail.com with ESMTPS id 00721157ae682-78a799350dbsm6040547b3.23.2025.11.22.08.57.38 (version=TLS1_2 cipher=ECDHE-ECDSA-AES128-GCM-SHA256 bits=128/128); Sat, 22 Nov 2025 08:57:38 -0800 (PST) X-Relaying-Domain: iol.unh.edu Date: Sat, 22 Nov 2025 08:57:38 -0800 (PST) Message-ID: <6921eb82.050a0220.306866.e1d7SMTPIN_ADDED_MISSING@mx.google.com> Received: from [172.21.0.2] (unknown [172.18.0.240]) by postal.iol.unh.edu (Postfix) with ESMTP id 3845D6051830; Sat, 22 Nov 2025 11:57:38 -0500 (EST) Subject: |SUCCESS| pw158983 [PATCH] net/iavf: check PTP capabilities during i From: dpdklab@iol.unh.edu To: Test Report Cc: dpdk-test-reports@iol.unh.edu, Bruce Richardson In-Reply-To: <20251121-jk-dpdk-iavf-rx-timestamping-fix-v1-1-21c9a337a6f2@intel.com> References: <20251121-jk-dpdk-iavf-rx-timestamping-fix-v1-1-21c9a337a6f2@intel.com> Content-Type: text/plain X-BeenThere: test-report@dpdk.org X-Mailman-Version: 2.1.29 Precedence: list List-Id: automatic DPDK test reports List-Unsubscribe: , List-Archive: List-Post: List-Help: List-Subscribe: , Errors-To: test-report-bounces@dpdk.org Test-Label: iol-compile-amd64-testing Test-Status: SUCCESS http://dpdk.org/patch/158983 _Testing PASS_ Submitter: Jacob Keller Date: Friday, November 21 2025 23:39:37 DPDK git baseline: Repo:dpdk-next-net-intel Branch: master CommitID:ef98b88455bf4a7c8b7aa3106a761c9e9270d6a3 158983 --> testing pass Upstream job id: Generic-DPDK-Compile-Meson#446772 Test environment and result as below: +-------------------------------+--------------------+------------------+-------------------+-------------------------+----------------------+ | Environment | dpdk_meson_compile | dpdk_compile_ovs | dpdk_msvc_compile | dpdk_llvm_clang_compile | dpdk_mingw64_compile | +===============================+====================+==================+===================+=========================+======================+ | CentOS Stream 9 | PASS | SKIPPED | SKIPPED | SKIPPED | SKIPPED | +-------------------------------+--------------------+------------------+-------------------+-------------------------+----------------------+ | Fedora Linux 42 | PASS | PASS | SKIPPED | SKIPPED | SKIPPED | +-------------------------------+--------------------+------------------+-------------------+-------------------------+----------------------+ | CentOS Stream 10 | PASS | SKIPPED | SKIPPED | SKIPPED | SKIPPED | +-------------------------------+--------------------+------------------+-------------------+-------------------------+----------------------+ | FreeBSD 14.2 | PASS | SKIPPED | SKIPPED | SKIPPED | SKIPPED | +-------------------------------+--------------------+------------------+-------------------+-------------------------+----------------------+ | Debian GNU/Linux 12 | PASS | SKIPPED | SKIPPED | SKIPPED | SKIPPED | +-------------------------------+--------------------+------------------+-------------------+-------------------------+----------------------+ | openSUSE Leap 15.6 | PASS | SKIPPED | SKIPPED | SKIPPED | SKIPPED | +-------------------------------+--------------------+------------------+-------------------+-------------------------+----------------------+ | Ubuntu 20.04 | PASS | SKIPPED | SKIPPED | SKIPPED | SKIPPED | +-------------------------------+--------------------+------------------+-------------------+-------------------------+----------------------+ | Red Hat Enterprise Linux 8.10 | PASS | SKIPPED | SKIPPED | SKIPPED | SKIPPED | +-------------------------------+--------------------+------------------+-------------------+-------------------------+----------------------+ | Red Hat Enterprise Linux 9.5 | PASS | SKIPPED | SKIPPED | SKIPPED | SKIPPED | +-------------------------------+--------------------+------------------+-------------------+-------------------------+----------------------+ | Ubuntu 24.04 | PASS | PASS | SKIPPED | SKIPPED | SKIPPED | +-------------------------------+--------------------+------------------+-------------------+-------------------------+----------------------+ | Ubuntu 22.04 | PASS | SKIPPED | SKIPPED | SKIPPED | SKIPPED | +-------------------------------+--------------------+------------------+-------------------+-------------------------+----------------------+ | Alpine Linux 3.22.0 | PASS | SKIPPED | SKIPPED | SKIPPED | SKIPPED | +-------------------------------+--------------------+------------------+-------------------+-------------------------+----------------------+ | Windows Server 2022 | SKIPPED | SKIPPED | PASS | SKIPPED | PASS | +-------------------------------+--------------------+------------------+-------------------+-------------------------+----------------------+ | Windows Server 2025 | SKIPPED | SKIPPED | SKIPPED | PASS | SKIPPED | +-------------------------------+--------------------+------------------+-------------------+-------------------------+----------------------+ CentOS Stream 9 Kernel: 5.15 Compiler: gcc gcc (GCC) 11.5.0 20240719 (Red Hat 11.5.0-11) Fedora Linux 42 Kernel: 5.15 Compiler: clang gcc (GCC) 15.2.1 20250808 (Red Hat 15.2.1-1) CentOS Stream 10 Kernel: 5.15 Compiler: gcc gcc (GCC) 14.2.1 20250110 (Red Hat 14.2.1-8) FreeBSD 14.2 Kernel: 14.2-RELEASE Compiler: clang 18.1.6 Debian GNU/Linux 12 Kernel: 5.15 Compiler: gcc gcc (Debian 12.2.0-14+deb12u1) 12.2.0 openSUSE Leap 15.6 Kernel: 5.15 Compiler: gcc gcc (SUSE Linux) 7.5.0 Ubuntu 20.04 Kernel: 5.15 Compiler: gcc gcc (Ubuntu 9.4.0-1ubuntu1~20.04.2) 9.4.0 Red Hat Enterprise Linux 8.10 Kernel: 5.15 Compiler: gcc gcc (GCC) 8.5.0 20210514 (Red Hat 8.5.0-22) Red Hat Enterprise Linux 9.5 Kernel: 5.15 Compiler: gcc gcc (GCC) 11.5.0 20240719 (Red Hat 11.5.0-2) Ubuntu 24.04 Kernel: 5.15 Compiler: gcc gcc (Ubuntu 13.3.0-6ubuntu2~24.04) 13.3.0 Ubuntu 22.04 Kernel: 5.15 Compiler: gcc gcc (Ubuntu 11.4.0-1ubuntu1~22.04) 11.4.0 Alpine Linux 3.22.0 Kernel: 5.15 Compiler: gcc gcc (Alpine 14.2.0) 14.2.0 Windows Server 2022 Kernel: 10.0.20348.2031 Compiler: clang 15.0.7, gcc 14.1.0 (MinGW), and MSVC VS 19.39.33521 Windows Server 2025 Kernel: 10.0.26100 Compiler: clang 15.0.7, gcc 14.1.0 (MinGW), and MSVC VS 19.39.33521 To view detailed results, visit: https://lab.dpdk.org/results/dashboard/patchsets/34657/ UNH-IOL DPDK Community Lab To manage your email subscriptions, visit: https://lab.dpdk.org/results/dashboard/preferences/subscriptions/