From mboxrd@z Thu Jan 1 00:00:00 1970 Return-Path: Received: from mails.dpdk.org (mails.dpdk.org [217.70.189.124]) by inbox.dpdk.org (Postfix) with ESMTP id 009DE48B7A for ; Sat, 22 Nov 2025 18:04:14 +0100 (CET) Received: from mails.dpdk.org (localhost [127.0.0.1]) by mails.dpdk.org (Postfix) with ESMTP id EE918400D7; Sat, 22 Nov 2025 18:04:14 +0100 (CET) Received: from mail-il1-f225.google.com (mail-il1-f225.google.com [209.85.166.225]) by mails.dpdk.org (Postfix) with ESMTP id 620A0400D7 for ; Sat, 22 Nov 2025 18:04:13 +0100 (CET) Received: by mail-il1-f225.google.com with SMTP id e9e14a558f8ab-43326c74911so16279035ab.2 for ; Sat, 22 Nov 2025 09:04:13 -0800 (PST) DKIM-Signature: v=1; a=rsa-sha256; c=relaxed/relaxed; d=iol.unh.edu; s=unh-iol; t=1763831052; x=1764435852; darn=dpdk.org; h=references:in-reply-to:cc:to:from:subject:message-id:date:from:to :cc:subject:date:message-id:reply-to; bh=EJUG9uWoTlWdgi4SgSvYlMCGzS6LBbI0iexACZUwBBs=; b=bjzf5lxJaNpHGrKIGSyHeam+SqwyZHSH4X89RVPbF2snNyTIvlX9/bRkAG8kyzrX3m QvdCRIdBjTt3Gfd6sS90Tz4zIEnp3nOlokwFQz/xRm3D45KA5Ue2Ntdzd0nVw9NKb9Zz ZqpDeDdNTn+rxl5o8cSkML4fyG9cGCFwO/6rE= X-Google-DKIM-Signature: v=1; a=rsa-sha256; c=relaxed/relaxed; d=1e100.net; s=20230601; t=1763831052; x=1764435852; h=references:in-reply-to:cc:to:from:subject:message-id:date:x-gm-gg :x-gm-message-state:from:to:cc:subject:date:message-id:reply-to; bh=EJUG9uWoTlWdgi4SgSvYlMCGzS6LBbI0iexACZUwBBs=; b=XzrGWiostrzZ4ms5xE3t/J9qR5LYV0pI9vR8R34VrAKVltlbDegriY/ObzIBz+DCbx TqdSSUKyXaCyEoUA4OAmHMc3Pu5fqe8yup6q/yZ06uoYxX5eJlzEo3k0nTHQSNvZyVkJ Z2gDYxmrHxQAO0d8JLoiYvSi53gxBz4ZcUmfkUXVcABf9wwd8PiZN2ZWQOYxYsNJ6UZb svgIojyG6dq3su+OQiuI6MUQK3Gx4Pe6HvVFihyo7DoRC/9SEKOZK22/BuduSqCO0QMA w0WOgorpBxNxbNbncdjRWN/krqoL6zoNO5t48Z9/zNOi14K/JQ6wCcZr7VNzyymWRlz3 FS3g== X-Gm-Message-State: AOJu0Yw25u2y3SW/eoscMvkxJQw5KE18KdRTfa1VX64F/LnMFmHDc4y4 Y3U4x8RZAgea8VEn35DGDU0vXo7EGkAaEFnLxSFOIVrgL9PfkqledLB/RBaHBpPF0S3GJqJMlBm OJuyuUGsRnRoALNWwLXUTnwIXL02dCa4YWDwLG/uSrCwPtjnbAa602qi4wuT2 X-Gm-Gg: ASbGncvIdF7DXueDlZfSNvq+O4Ql9c9wmxx4jbXgyXq/22NS4hxZDGDmECDqfr49xEw RmMcBQkYeXuCR99Z0ht1tVEY1XJn5SmmjHMM4wPe9S/CGR3Z80mzonp0CXqWaiFrDlgj3PHh+DL cB+XyaQ7cOimI/yqSW1RcuZAlGe2A7YlrrFx35ZXBAlEzedDgz48QAV9Ah0vNeNtnswYfy48J0f mpDGgtX1bdtwJoQKY38QHlQEAybaaiWhGN25Js2WW/rLa2YhD9bp9U3F/iIgpO7MVYR3wIthpjQ 2u8Purdw+I8mD+Etrg0J/6cPrC5YUnP0JVFKCUoyKAOLXh4DYzEpw2QiTGQFTv64wZgdhY8WuOk HpGsM2Ph+Irx/wUcFLBs= X-Google-Smtp-Source: AGHT+IFaStdU3FoXLgHIyYe0S6yURXhH5fhXc+ZnInuSTuEsEJfmZ0go1K+ohRbkMrFVn3qmisQfveay/PxG X-Received: by 2002:a05:6e02:1a25:b0:433:2cdf:6457 with SMTP id e9e14a558f8ab-435b8c21695mr46637855ab.12.1763831052657; Sat, 22 Nov 2025 09:04:12 -0800 (PST) Received: from postal.iol.unh.edu (postal.iol.unh.edu. [2606:4100:3880:1234::84]) by smtp-relay.gmail.com with ESMTPS id 8926c6da1cb9f-5b954a090f0sm826256173.5.2025.11.22.09.04.12 (version=TLS1_2 cipher=ECDHE-ECDSA-AES128-GCM-SHA256 bits=128/128); Sat, 22 Nov 2025 09:04:12 -0800 (PST) X-Relaying-Domain: iol.unh.edu Date: Sat, 22 Nov 2025 09:04:12 -0800 (PST) Message-ID: <6921ed0c.050a0220.6d91d.9920SMTPIN_ADDED_MISSING@mx.google.com> Received: from [172.21.0.2] (unknown [172.18.0.240]) by postal.iol.unh.edu (Postfix) with ESMTP id 322C16051830; Sat, 22 Nov 2025 12:04:12 -0500 (EST) Subject: |SUCCESS| pw158983 [PATCH] net/iavf: check PTP capabilities during i From: dpdklab@iol.unh.edu To: Test Report Cc: dpdk-test-reports@iol.unh.edu, Bruce Richardson In-Reply-To: <20251121-jk-dpdk-iavf-rx-timestamping-fix-v1-1-21c9a337a6f2@intel.com> References: <20251121-jk-dpdk-iavf-rx-timestamping-fix-v1-1-21c9a337a6f2@intel.com> Content-Type: text/plain X-BeenThere: test-report@dpdk.org X-Mailman-Version: 2.1.29 Precedence: list List-Id: automatic DPDK test reports List-Unsubscribe: , List-Archive: List-Post: List-Help: List-Subscribe: , Errors-To: test-report-bounces@dpdk.org Test-Label: iol-unit-amd64-testing Test-Status: SUCCESS http://dpdk.org/patch/158983 _Testing PASS_ Submitter: Jacob Keller Date: Friday, November 21 2025 23:39:37 DPDK git baseline: Repo:dpdk-next-net-intel Branch: master CommitID:ef98b88455bf4a7c8b7aa3106a761c9e9270d6a3 158983 --> testing pass Upstream job id: Generic-VM-Unit-Test-DPDK#32748 Test environment and result as below: +-------------------------------+----------------+ | Environment | dpdk_unit_test | +===============================+================+ | Red Hat Enterprise Linux 8.10 | PASS | +-------------------------------+----------------+ | CentOS Stream 10 | PASS | +-------------------------------+----------------+ | Debian GNU/Linux 12 | PASS | +-------------------------------+----------------+ | Ubuntu 20.04 | PASS | +-------------------------------+----------------+ | Fedora Linux 40 | PASS | +-------------------------------+----------------+ | Red Hat Enterprise Linux 9.5 | PASS | +-------------------------------+----------------+ | CentOS Stream 9 | PASS | +-------------------------------+----------------+ | Ubuntu 24.04 | PASS | +-------------------------------+----------------+ | Ubuntu 22.04 | PASS | +-------------------------------+----------------+ | Fedora Linux 41 | PASS | +-------------------------------+----------------+ | Fedora Linux 42 | PASS | +-------------------------------+----------------+ | Windows Server 2022 | PASS | +-------------------------------+----------------+ Red Hat Enterprise Linux 8.10 Kernel: 5.15 Compiler: gcc gcc (GCC) 8.5.0 20210514 (Red Hat 8.5.0-22) CentOS Stream 10 Kernel: 5.15 Compiler: gcc gcc (GCC) 14.2.1 20250110 (Red Hat 14.2.1-8) Debian GNU/Linux 12 Kernel: 5.15 Compiler: gcc gcc (Debian 12.2.0-14+deb12u1) 12.2.0 Ubuntu 20.04 Kernel: 5.15 Compiler: gcc gcc (Ubuntu 9.4.0-1ubuntu1~20.04.2) 9.4.0 Fedora Linux 40 Kernel: 5.15 Compiler: clang gcc (GCC) 14.2.1 20240912 (Red Hat 14.2.1-3) Red Hat Enterprise Linux 9.5 Kernel: 5.15 Compiler: gcc gcc (GCC) 11.5.0 20240719 (Red Hat 11.5.0-2) CentOS Stream 9 Kernel: 5.15 Compiler: gcc gcc (GCC) 11.5.0 20240719 (Red Hat 11.5.0-11) Ubuntu 24.04 Kernel: 5.15 Compiler: gcc gcc (Ubuntu 13.3.0-6ubuntu2~24.04) 13.3.0 Ubuntu 22.04 Kernel: 5.15 Compiler: gcc gcc (Ubuntu 11.4.0-1ubuntu1~22.04) 11.4.0 Fedora Linux 41 Kernel: 5.15 Compiler: clang gcc (GCC) 14.3.1 20250523 (Red Hat 14.3.1-1) Fedora Linux 42 Kernel: 5.15 Compiler: gcc gcc (GCC) 15.2.1 20250808 (Red Hat 15.2.1-1) Windows Server 2022 Kernel: 10.0.20348.2031 Compiler: clang 15.0.7, gcc 14.1.0 (MinGW), and MSVC VS 19.39.33521 To view detailed results, visit: https://lab.dpdk.org/results/dashboard/patchsets/34657/ UNH-IOL DPDK Community Lab To manage your email subscriptions, visit: https://lab.dpdk.org/results/dashboard/preferences/subscriptions/