From mboxrd@z Thu Jan 1 00:00:00 1970 Return-Path: Received: from mails.dpdk.org (mails.dpdk.org [217.70.189.124]) by inbox.dpdk.org (Postfix) with ESMTP id DFDA948B7B for ; Sat, 22 Nov 2025 20:36:29 +0100 (CET) Received: from mails.dpdk.org (localhost [127.0.0.1]) by mails.dpdk.org (Postfix) with ESMTP id BEF4C400D7; Sat, 22 Nov 2025 20:36:29 +0100 (CET) Received: from mail-io1-f97.google.com (mail-io1-f97.google.com [209.85.166.97]) by mails.dpdk.org (Postfix) with ESMTP id 2548F400D7 for ; Sat, 22 Nov 2025 20:36:29 +0100 (CET) Received: by mail-io1-f97.google.com with SMTP id ca18e2360f4ac-92aee734585so115903839f.3 for ; Sat, 22 Nov 2025 11:36:29 -0800 (PST) DKIM-Signature: v=1; a=rsa-sha256; c=relaxed/relaxed; d=iol.unh.edu; s=unh-iol; t=1763840188; x=1764444988; darn=dpdk.org; h=references:in-reply-to:cc:to:from:subject:message-id:date:from:to :cc:subject:date:message-id:reply-to; bh=+rVPq8GVBCbP5/DrDbkksZEuuNWP18uT+NVei05RTlw=; b=dBNJq3+q8wYScyyvioP5C2i0Z1SBdCAdNFFfYTm0xRUwOwjagTtxSZeu9wjAGi5smm ci2Ox/BtBHa7Z0hlyO+TsJeZEdNMO2iBrOeiBwd7ZUmuhbU4qhEsg9mqo/fawpx/SSuI YOTOPniF/c6QVLPtc40KG+L2QqvTSB0HtmaB8= X-Google-DKIM-Signature: v=1; a=rsa-sha256; c=relaxed/relaxed; d=1e100.net; s=20230601; t=1763840188; x=1764444988; h=references:in-reply-to:cc:to:from:subject:message-id:date:x-gm-gg :x-gm-message-state:from:to:cc:subject:date:message-id:reply-to; bh=+rVPq8GVBCbP5/DrDbkksZEuuNWP18uT+NVei05RTlw=; b=A7OBqMnrQ+MDiXU2jjmHxtAYRptMp/p7px018rw8lxEKr8kaKUMWMpXTsTETd638D/ lFFAgKbqyPOUamVyq3hfcwXRM1CrtWjYp+qQGBl4O1P+qsRUgUgOXOJipaR9dkyqSJEc 1HUGP5DpuGh6Kmcdo22+50Sy89QQ9LbG7ayOc981W7YXIO+6eR5CzP4n+qsCvkXLBoNJ csHYMtBYwD1i7+TanBsAswJLe23nfMQV5r+h4C7b3rCPvbieTjylFjC7czAzc3AsoZqo Q82cLc5rkpWjX7gdR8B2SsPCrh8xMvcEIzF4Bpv8i944/S6Kvev5luTBntgl67LGZFYq ly7g== X-Gm-Message-State: AOJu0YzwII1QNteszyZkNHHJgFMHhGf2oXj0yH0jQJRaNaG2nulnl9s+ TiVdiXVZ6SAM6ibhNhN1ejGBHIRnODqNqXBXQB0jb+ywOid2LriKKJKEH4I8O9Fa03FNB/cA8T2 J11x4wy7Ar78LpEruGl5LCpeSpVUGhlxae1QW12s5A2XK X-Gm-Gg: ASbGncs+L5O5g0Gl10RaLnQDY/94/oiGHbB4JGt+iawL84cZb/0foBrwKRJqmNbBb/n M84GEgS2HJaagS4w9Xw0GUbS9YWgRQ2UZJjyazGu9dPZthMlQ4/8XnkkXu6auXAfsyL+nvR9Mam f5Ue4J7pj/kbVIN4XUybYROGacvcBbvZ54640xMMcBgE/YatjVRJkO2gFYBtbY9AtRUywV0FqwF Hb+1XNV0SrYRc0SNtNGaRa86m4NG/zHICdaMjlPW8k15Ul1N/HdMOpm7XZJgpKguSm0mkaXD1M0 WgZ91R2mmRj6l4m0FF4SgetabjMwNG0x1YvHiq85FjmD83aBcPzD7mqtAmLLJ17gd65OGIz2PI7 qKfKNYnVWCMS8LJY6gz5p7dFydETy5vtumZIkjHNQzA== X-Google-Smtp-Source: AGHT+IGyUIN7KgBfI6xY5EpZRoMh4G2tSldQIrrTlh/H/P/e3AZj34dr2NEffv8MCjz300FL8IXoLo+wKFpm X-Received: by 2002:a05:6638:2415:b0:5b7:d710:6612 with SMTP id 8926c6da1cb9f-5b967acb9f7mr5119509173.21.1763840188307; Sat, 22 Nov 2025 11:36:28 -0800 (PST) Received: from postal.iol.unh.edu (postal.iol.unh.edu. [132.177.123.84]) by smtp-relay.gmail.com with ESMTPS id 8926c6da1cb9f-5b954b18366sm832038173.26.2025.11.22.11.36.28 (version=TLS1_2 cipher=ECDHE-ECDSA-AES128-GCM-SHA256 bits=128/128); Sat, 22 Nov 2025 11:36:28 -0800 (PST) X-Relaying-Domain: iol.unh.edu Date: Sat, 22 Nov 2025 11:36:28 -0800 (PST) Message-ID: <692210bc.050a0220.28a975.9379SMTPIN_ADDED_MISSING@mx.google.com> Received: from [172.21.0.2] (unknown [172.18.0.240]) by postal.iol.unh.edu (Postfix) with ESMTP id CF31A60003EA; Sat, 22 Nov 2025 14:36:27 -0500 (EST) Subject: |SUCCESS| pw158983 [PATCH] net/iavf: check PTP capabilities during i From: dpdklab@iol.unh.edu To: Test Report Cc: dpdk-test-reports@iol.unh.edu, Bruce Richardson In-Reply-To: <20251121-jk-dpdk-iavf-rx-timestamping-fix-v1-1-21c9a337a6f2@intel.com> References: <20251121-jk-dpdk-iavf-rx-timestamping-fix-v1-1-21c9a337a6f2@intel.com> Content-Type: text/plain X-BeenThere: test-report@dpdk.org X-Mailman-Version: 2.1.29 Precedence: list List-Id: automatic DPDK test reports List-Unsubscribe: , List-Archive: List-Post: List-Help: List-Subscribe: , Errors-To: test-report-bounces@dpdk.org Test-Label: iol-compile-arm64-testing Test-Status: SUCCESS http://dpdk.org/patch/158983 _Testing PASS_ Submitter: Jacob Keller Date: Friday, November 21 2025 23:39:37 DPDK git baseline: Repo:dpdk-next-net-intel Branch: master CommitID:ef98b88455bf4a7c8b7aa3106a761c9e9270d6a3 158983 --> testing pass Upstream job id: Generic-DPDK-Compile-Meson#446787 Test environment and result as below: +------------------------------+--------------------+ | Environment | dpdk_meson_compile | +==============================+====================+ | Debian GNU/Linux 12 | PASS | +------------------------------+--------------------+ | Fedora Linux 42 | PASS | +------------------------------+--------------------+ | Red Hat Enterprise Linux 9.5 | PASS | +------------------------------+--------------------+ | Ubuntu 20.04 | PASS | +------------------------------+--------------------+ | Ubuntu 22.04 | PASS | +------------------------------+--------------------+ | Ubuntu 24.04 | PASS | +------------------------------+--------------------+ | CentOS Stream 9 | PASS | +------------------------------+--------------------+ | CentOS Stream 10 | PASS | +------------------------------+--------------------+ Debian GNU/Linux 12 Kernel: 5.4 Compiler: gcc gcc (Debian 12.2.0-14+deb12u1) 12.2.0 Fedora Linux 42 Kernel: 5.4 Compiler: gcc gcc (GCC) 15.2.1 20250808 (Red Hat 15.2.1-1) Red Hat Enterprise Linux 9.5 Kernel: 5.4 Compiler: gcc gcc (GCC) 11.5.0 20240719 (Red Hat 11.5.0-2) Ubuntu 20.04 Kernel: 5.15 Compiler: aarch64-linux-gnu-gcc gcc (Ubuntu 9.4.0-1ubuntu1~20.04.2) 9.4.0 Ubuntu 22.04 Kernel: 5.4 Compiler: gcc gcc (Ubuntu 11.4.0-1ubuntu1~22.04) 11.4.0 Ubuntu 24.04 Kernel: 5.4 Compiler: gcc gcc (Ubuntu 13.3.0-6ubuntu2~24.04) 13.3.0 CentOS Stream 9 Kernel: 5.4 Compiler: gcc gcc (GCC) 11.5.0 20240719 (Red Hat 11.5.0-11) CentOS Stream 10 Kernel: 5.4 Compiler: gcc gcc (GCC) 14.2.1 20250110 (Red Hat 14.2.1-8) To view detailed results, visit: https://lab.dpdk.org/results/dashboard/patchsets/34657/ UNH-IOL DPDK Community Lab To manage your email subscriptions, visit: https://lab.dpdk.org/results/dashboard/preferences/subscriptions/