From mboxrd@z Thu Jan 1 00:00:00 1970 Return-Path: Received: from mails.dpdk.org (mails.dpdk.org [217.70.189.124]) by inbox.dpdk.org (Postfix) with ESMTP id C1EA548B7E for ; Sun, 23 Nov 2025 07:06:35 +0100 (CET) Received: from mails.dpdk.org (localhost [127.0.0.1]) by mails.dpdk.org (Postfix) with ESMTP id BB977400D7; Sun, 23 Nov 2025 07:06:35 +0100 (CET) Received: from mail-io1-f99.google.com (mail-io1-f99.google.com [209.85.166.99]) by mails.dpdk.org (Postfix) with ESMTP id 52165400D7 for ; Sun, 23 Nov 2025 07:06:34 +0100 (CET) Received: by mail-io1-f99.google.com with SMTP id ca18e2360f4ac-94964256caaso3683439f.3 for ; Sat, 22 Nov 2025 22:06:34 -0800 (PST) DKIM-Signature: v=1; a=rsa-sha256; c=relaxed/relaxed; d=iol.unh.edu; s=unh-iol; t=1763877993; x=1764482793; darn=dpdk.org; h=cc:to:from:subject:message-id:date:from:to:cc:subject:date :message-id:reply-to; bh=IFHDJb4FAJHLrWdhbVtxW7Jg4Xz8TsnjtWc+JW65eWA=; b=fCrMMXzA/HyIVdii+dqvaiWiAJGXKmA9CF74x4hwG74ztc1eYt8VMQGmMu3oq7wr60 1pblD7tiR686FjPdoZQsgCRqUJY0DxnwakHqSgjS6PtyVQWKVL2wD/q/ZiiGhwphR6xk 8K6pBVxmeC2+WxrL0UT3uyCHEl/6DdW6YKPjE= X-Google-DKIM-Signature: v=1; a=rsa-sha256; c=relaxed/relaxed; d=1e100.net; s=20230601; t=1763877993; x=1764482793; h=cc:to:from:subject:message-id:date:x-gm-gg:x-gm-message-state:from :to:cc:subject:date:message-id:reply-to; bh=IFHDJb4FAJHLrWdhbVtxW7Jg4Xz8TsnjtWc+JW65eWA=; b=GXRml+9ozFcgLPY8zAsFZq08FmdFZWPktSp3O/4RjQnkJerBAimLy1vLuF+8p8A3rp wSRK2maFxspFSOV6bttq+EdD4YKUSByaXPuJlSk2kUli05R2eaRO0HoAEULzZfQ0jHpM OE0ArdGovZ16MqYfNU5QAtW5SGHzDjiKwTb238pWvHpZI9+E9SFDzig4lj016eQOv9SU zz1dE2eL2EYyZz3XVcXb0IQ4CDpMDOO8FnkDubsuWabSXDvXZfuJeSM348g7f/nGLnv9 2D0yHe6EKmaLJDDyxK9xasRrLAPptZH9TK/NnV2CQvWg8Wr8qHRqBmk3nOc+aIXFyvpA S8EA== X-Gm-Message-State: AOJu0YzpzCS8CrYx7KEUuJL0L6Y4RrrUXwet+9YWshvJDBkp2nkqemCL J6tmKb3sxS0PRfRt7pH70j+svldcLKvnp7ZA2CF0laxaVIgLmV3NqIDjMJcrx+wDupTSrkKLDc1 DC1yKnFaHXah98egmrGigKlgZlw5+WuDf05By X-Gm-Gg: ASbGncsuKWsZRQTUmnRwN2kADKGpAv/omKdFou/2IvvYvDddnchcf/WSEbio/hV99sZ rA7yLW6LcYCAyXnIRKXtUId/w1o5A4mxQ4lbg31MpFNYQ6uooocPa4WsROB0uI0QvixyXWhiIpM nglMKm2ouBGZ9cPbI1TNLk9X+RXLJs4nb+p+b5E85/MXqa5dQ2gN23MrlMsFVQfLh9isLFeKBqW bm5Lh5jyKSYvBNWwsq6r41QWXBDT/3oT2h03uDWVVv9FTLT5xAVYUycaDzM7ycNmyQANxyU56hV 9FKZrL/mBKu/S+CBqvidVsFD/Sdw9hLKqBweRkylOea57SDWRzQgNsXKBUDvF8psr/uckbHrAY0 3/m7INTjKztmUpVrPmYowHMBRJ/zxquvdYywOlqfsFQ== X-Google-Smtp-Source: AGHT+IGF11R7WnTZs9PRqqWMd6mSt3/fd+O0615cghmn1+d4E8BtWZZWV6fxqgybFKABUb/6f3WSeTL8BSyd X-Received: by 2002:a05:6e02:1a87:b0:433:767e:8f47 with SMTP id e9e14a558f8ab-435b98d6d6dmr80482075ab.29.1763877993594; Sat, 22 Nov 2025 22:06:33 -0800 (PST) Received: from postal.iol.unh.edu (postal.iol.unh.edu. [132.177.123.84]) by smtp-relay.gmail.com with ESMTPS id e9e14a558f8ab-435a9054f21sm8974395ab.4.2025.11.22.22.06.33 (version=TLS1_2 cipher=ECDHE-ECDSA-AES128-GCM-SHA256 bits=128/128); Sat, 22 Nov 2025 22:06:33 -0800 (PST) X-Relaying-Domain: iol.unh.edu Date: Sat, 22 Nov 2025 22:06:33 -0800 (PST) Message-ID: <6922a469.050a0220.2b9083.cd6bSMTPIN_ADDED_MISSING@mx.google.com> Received: from [172.21.0.3] (unknown [172.18.0.240]) by postal.iol.unh.edu (Postfix) with ESMTP id 2A33F6051830; Sun, 23 Nov 2025 01:06:33 -0500 (EST) Subject: |SUCCESS| [GIT MASTER] d297bb24650efb7040a66a3270e01c94fc8ee4f5 From: dpdklab@iol.unh.edu To: Test Report Cc: dpdk-test-reports@iol.unh.edu, Xueming Li , Kevin Traynor , Luca Boccassi Content-Type: text/plain X-BeenThere: test-report@dpdk.org X-Mailman-Version: 2.1.29 Precedence: list List-Id: automatic DPDK test reports List-Unsubscribe: , List-Archive: List-Post: List-Help: List-Subscribe: , Errors-To: test-report-bounces@dpdk.org _Testing PASS_ Branch: tags/v22.11 d297bb24650efb7040a66a3270e01c94fc8ee4f5 --> testing pass Upstream job id: Generic-Unit-Test-DPDK#395242 Test environment and result as below: +-----------------+--------------+---------------------------+------------------------------+----------------+ | Environment | lpm_autotest | cryptodev_sw_zuc_autotest | cryptodev_sw_snow3g_autotest | dpdk_unit_test | +=================+==============+===========================+==============================+================+ | Ubuntu 20.04 | PASS | SKIPPED | SKIPPED | SKIPPED | +-----------------+--------------+---------------------------+------------------------------+----------------+ | Debian 12 (arm) | SKIPPED | PASS | PASS | SKIPPED | +-----------------+--------------+---------------------------+------------------------------+----------------+ | Ubuntu 22.04 | SKIPPED | SKIPPED | SKIPPED | PASS | +-----------------+--------------+---------------------------+------------------------------+----------------+ Ubuntu 20.04 Kernel: 5.4 Compiler: gcc gcc (Ubuntu 9.4.0-1ubuntu1~20.04.2) 9.4.0 Debian 12 (arm) Kernel: Depends on container host Compiler: gcc (Debian 12.2.0-14) 12.2.0 Ubuntu 22.04 Kernel: 5.15 Compiler: gcc gcc (Ubuntu 11.4.0-1ubuntu1~22.04.2) 11.4.0 To view detailed results, visit: https://lab.dpdk.org/results/dashboard/tarballs/35685/ UNH-IOL DPDK Community Lab To manage your email subscriptions, visit: https://lab.dpdk.org/results/dashboard/preferences/subscriptions/