From mboxrd@z Thu Jan 1 00:00:00 1970 Return-Path: Received: from mails.dpdk.org (mails.dpdk.org [217.70.189.124]) by inbox.dpdk.org (Postfix) with ESMTP id 0D34A48B7E for ; Sun, 23 Nov 2025 07:46:55 +0100 (CET) Received: from mails.dpdk.org (localhost [127.0.0.1]) by mails.dpdk.org (Postfix) with ESMTP id DAA22400D7; Sun, 23 Nov 2025 07:46:54 +0100 (CET) Received: from mail-pl1-f227.google.com (mail-pl1-f227.google.com [209.85.214.227]) by mails.dpdk.org (Postfix) with ESMTP id EDC3F400D7 for ; Sun, 23 Nov 2025 07:46:53 +0100 (CET) Received: by mail-pl1-f227.google.com with SMTP id d9443c01a7336-29812589890so39683135ad.3 for ; Sat, 22 Nov 2025 22:46:53 -0800 (PST) DKIM-Signature: v=1; a=rsa-sha256; c=relaxed/relaxed; d=iol.unh.edu; s=unh-iol; t=1763880413; x=1764485213; darn=dpdk.org; h=cc:to:from:subject:message-id:date:from:to:cc:subject:date :message-id:reply-to; bh=RaDx4mAjecsnwfN+GFj5g9b5hk2Gsi4kcfBVsFFPbtc=; b=bBw2AZxJIk7tYwn5uCbWAOk4P7mzriPMyTxjoC+e3RFOR35fjOwjt8IrVej8nw45Vn oe434n8kOYBFZMOzj+wA5WsDUzJep5+3LkpWYhgbIi3vuUh6BsvpFOyQlqYacwYU3KSP hW8EjtB13l/3zbn1VdDLjhN+7IyCYLpqbLPw0= X-Google-DKIM-Signature: v=1; a=rsa-sha256; c=relaxed/relaxed; d=1e100.net; s=20230601; t=1763880413; x=1764485213; h=cc:to:from:subject:message-id:date:x-gm-gg:x-gm-message-state:from :to:cc:subject:date:message-id:reply-to; bh=RaDx4mAjecsnwfN+GFj5g9b5hk2Gsi4kcfBVsFFPbtc=; b=acdNJ7duaBYJBIB73m3K8xbv3EnS9x19OaRzqi5782RKdscksKY+ir0d7W6Xv3Q6P2 8r4Qrk4hUH2uAhr3KQfGOPOeEOecUg2muLpAOYniDvcl7Nf3Ng3dbRpwe9xkFT/KSTBT sTMPXJJkRWCh1I3YzW3+Q0lpmWJnnXi1+1mLyCUqatNQoL1+Xg2ZuYi4pEKIMkJfhCgp YSz01qLc2V7d3x0ebyKOpHR9MGfSeE637mbAS8q3ZkVgFuB0xFF3ncmFS15lMk4MiU+u YG+HyLU4qW2Rcf4eafTxiwdq36eHmPkn1B2XcgQRn3kbngwp3lkL1GrXQS3lC4zqlrwj nUxQ== X-Gm-Message-State: AOJu0YxmCPlcVBHzOeshVFqbaBS5HCCppecsHQoa5vt2ZsHRsISUSu85 Q23l1bRMGNCRHew34QSVYTcGN6ZLt85jDHBuAv+ylMWbpgBLUQybhBfj1KPTGwI/3iWCs4xf+AV sLiSGneQZux24/FNmd/5cA9Qle54An84qr9SlbphD8MqWRja4ZI9K X-Gm-Gg: ASbGncu2Pjty76EMWEmL8PskpP7uWB/U5RTNOdGS+DeT0ePdAlMjhPU3ySSfJEEC5zS 0t4fSw6BuVp1HohSvsnowF/A90C10alK0QeQ+6XR4w0dpR7izxL1eeiwm89srVQP9NllB1gJxLD IB3a9lM16rygGmSSQk27t8VS5BnBcnrG9w29huP/oyw/uQTTE1od96ADb1Lu1FPRKG+F4jn5iXC twATNfSI+uUcIv1/rhbu+PLCvJeDs4HtO5nL9lurSYHXTv5lt4OGPwrfgXleE+UNvNVIKn+r2ls CXBGoIzBMGBdI/b5ulBUrz9D9QbfkOd5QbSlQyMyMMS+CXXT3K4tT7rBhf1TDpkufUiZRmgv7Kr zJ1uXchfwMcc0/riBFvk= X-Google-Smtp-Source: AGHT+IGtfwOy1roQX0oJSNrtHRoD1WGz7afvGGYbuyzu40zg4I9LDcEJK2Ckin/Z/4rfoB0Z7m2rb+27YyR2 X-Received: by 2002:a17:90b:2f4b:b0:341:8bda:d0ae with SMTP id 98e67ed59e1d1-34733f2de45mr8005085a91.20.1763880412980; Sat, 22 Nov 2025 22:46:52 -0800 (PST) Received: from postal.iol.unh.edu (postal.iol.unh.edu. [2606:4100:3880:1234::84]) by smtp-relay.gmail.com with ESMTPS id 98e67ed59e1d1-3472691a010sm885255a91.4.2025.11.22.22.46.52 (version=TLS1_2 cipher=ECDHE-ECDSA-AES128-GCM-SHA256 bits=128/128); Sat, 22 Nov 2025 22:46:52 -0800 (PST) X-Relaying-Domain: iol.unh.edu Date: Sat, 22 Nov 2025 22:46:52 -0800 (PST) Message-ID: <6922addc.170a0220.33f35b.c904SMTPIN_ADDED_MISSING@mx.google.com> Received: from [172.21.0.2] (unknown [172.18.0.240]) by postal.iol.unh.edu (Postfix) with ESMTP id C9C216051830; Sun, 23 Nov 2025 01:46:51 -0500 (EST) Subject: |SUCCESS| [GIT MASTER] 0bd935abcb823f581ce53986986aa54eaf6f8140 From: dpdklab@iol.unh.edu To: Test Report Cc: dpdk-test-reports@iol.unh.edu, Xueming Li , Kevin Traynor , Luca Boccassi Content-Type: text/plain X-BeenThere: test-report@dpdk.org X-Mailman-Version: 2.1.29 Precedence: list List-Id: automatic DPDK test reports List-Unsubscribe: , List-Archive: List-Post: List-Help: List-Subscribe: , Errors-To: test-report-bounces@dpdk.org _Testing PASS_ Branch: tags/v24.11 0bd935abcb823f581ce53986986aa54eaf6f8140 --> testing pass Upstream job id: Generic-DPDK-Compile-Meson#446854 Test environment and result as below: +-------------------------------+--------------------+------------------+-------------------+-------------------------+----------------------+ | Environment | dpdk_meson_compile | dpdk_compile_ovs | dpdk_msvc_compile | dpdk_llvm_clang_compile | dpdk_mingw64_compile | +===============================+====================+==================+===================+=========================+======================+ | Red Hat Enterprise Linux 9.5 | PASS | SKIPPED | SKIPPED | SKIPPED | SKIPPED | +-------------------------------+--------------------+------------------+-------------------+-------------------------+----------------------+ | Ubuntu 20.04 | PASS | SKIPPED | SKIPPED | SKIPPED | SKIPPED | +-------------------------------+--------------------+------------------+-------------------+-------------------------+----------------------+ | CentOS Stream 9 | PASS | SKIPPED | SKIPPED | SKIPPED | SKIPPED | +-------------------------------+--------------------+------------------+-------------------+-------------------------+----------------------+ | Debian GNU/Linux 12 | PASS | SKIPPED | SKIPPED | SKIPPED | SKIPPED | +-------------------------------+--------------------+------------------+-------------------+-------------------------+----------------------+ | CentOS Stream 10 | PASS | SKIPPED | SKIPPED | SKIPPED | SKIPPED | +-------------------------------+--------------------+------------------+-------------------+-------------------------+----------------------+ | Ubuntu 24.04 | PASS | PASS | SKIPPED | SKIPPED | SKIPPED | +-------------------------------+--------------------+------------------+-------------------+-------------------------+----------------------+ | openSUSE Leap 15.6 | PASS | SKIPPED | SKIPPED | SKIPPED | SKIPPED | +-------------------------------+--------------------+------------------+-------------------+-------------------------+----------------------+ | Fedora Linux 42 | PASS | PASS | SKIPPED | SKIPPED | SKIPPED | +-------------------------------+--------------------+------------------+-------------------+-------------------------+----------------------+ | Red Hat Enterprise Linux 8.10 | PASS | SKIPPED | SKIPPED | SKIPPED | SKIPPED | +-------------------------------+--------------------+------------------+-------------------+-------------------------+----------------------+ | Ubuntu 22.04 | PASS | SKIPPED | SKIPPED | SKIPPED | SKIPPED | +-------------------------------+--------------------+------------------+-------------------+-------------------------+----------------------+ | Alpine Linux 3.22.0 | PASS | SKIPPED | SKIPPED | SKIPPED | SKIPPED | +-------------------------------+--------------------+------------------+-------------------+-------------------------+----------------------+ | FreeBSD 14.2 | PASS | SKIPPED | SKIPPED | SKIPPED | SKIPPED | +-------------------------------+--------------------+------------------+-------------------+-------------------------+----------------------+ | Windows Server 2022 | SKIPPED | SKIPPED | PASS | SKIPPED | PASS | +-------------------------------+--------------------+------------------+-------------------+-------------------------+----------------------+ | Windows Server 2025 | SKIPPED | SKIPPED | SKIPPED | PASS | SKIPPED | +-------------------------------+--------------------+------------------+-------------------+-------------------------+----------------------+ Red Hat Enterprise Linux 9.5 Kernel: 5.15 Compiler: gcc gcc (GCC) 11.5.0 20240719 (Red Hat 11.5.0-2) Ubuntu 20.04 Kernel: 5.15 Compiler: gcc gcc (Ubuntu 9.4.0-1ubuntu1~20.04.2) 9.4.0 CentOS Stream 9 Kernel: 5.15 Compiler: gcc gcc (GCC) 11.5.0 20240719 (Red Hat 11.5.0-11) Debian GNU/Linux 12 Kernel: 5.15 Compiler: gcc gcc (Debian 12.2.0-14+deb12u1) 12.2.0 CentOS Stream 10 Kernel: 5.15 Compiler: gcc gcc (GCC) 14.2.1 20250110 (Red Hat 14.2.1-8) Ubuntu 24.04 Kernel: 5.15 Compiler: gcc gcc (Ubuntu 13.3.0-6ubuntu2~24.04) 13.3.0 openSUSE Leap 15.6 Kernel: 5.15 Compiler: gcc gcc (SUSE Linux) 7.5.0 Fedora Linux 42 Kernel: 5.15 Compiler: gcc gcc (GCC) 15.2.1 20250808 (Red Hat 15.2.1-1) Red Hat Enterprise Linux 8.10 Kernel: 5.15 Compiler: gcc gcc (GCC) 8.5.0 20210514 (Red Hat 8.5.0-22) Ubuntu 22.04 Kernel: 5.15 Compiler: gcc gcc (Ubuntu 11.4.0-1ubuntu1~22.04) 11.4.0 Alpine Linux 3.22.0 Kernel: 5.15 Compiler: gcc gcc (Alpine 14.2.0) 14.2.0 FreeBSD 14.2 Kernel: 14.2-RELEASE Compiler: clang 18.1.6 Windows Server 2022 Kernel: 10.0.20348.2031 Compiler: clang 15.0.7, gcc 14.1.0 (MinGW), and MSVC VS 19.39.33521 Windows Server 2025 Kernel: 10.0.26100 Compiler: clang 15.0.7, gcc 14.1.0 (MinGW), and MSVC VS 19.39.33521 To view detailed results, visit: https://lab.dpdk.org/results/dashboard/tarballs/35686/ UNH-IOL DPDK Community Lab To manage your email subscriptions, visit: https://lab.dpdk.org/results/dashboard/preferences/subscriptions/