From mboxrd@z Thu Jan 1 00:00:00 1970 Return-Path: Received: from mails.dpdk.org (mails.dpdk.org [217.70.189.124]) by inbox.dpdk.org (Postfix) with ESMTP id 1D2E748B7F for ; Sun, 23 Nov 2025 08:10:47 +0100 (CET) Received: from mails.dpdk.org (localhost [127.0.0.1]) by mails.dpdk.org (Postfix) with ESMTP id DFA99400D7; Sun, 23 Nov 2025 08:10:46 +0100 (CET) Received: from mail-pj1-f98.google.com (mail-pj1-f98.google.com [209.85.216.98]) by mails.dpdk.org (Postfix) with ESMTP id 838FF400D7 for ; Sun, 23 Nov 2025 08:10:45 +0100 (CET) Received: by mail-pj1-f98.google.com with SMTP id 98e67ed59e1d1-34361025290so2685820a91.1 for ; Sat, 22 Nov 2025 23:10:45 -0800 (PST) DKIM-Signature: v=1; a=rsa-sha256; c=relaxed/relaxed; d=iol.unh.edu; s=unh-iol; t=1763881844; x=1764486644; darn=dpdk.org; h=cc:to:from:subject:message-id:date:from:to:cc:subject:date :message-id:reply-to; bh=94uxk89erbP00p+IflRaHaMu8t7Hdg5si9zI0zmbOHc=; b=SvxPrZ3//kcDU1yAIgBAQkrhHtC+ty7y/CjxUL56+Q1yY/uiR185wQi7d6KSewjwq/ 6EQvNOZe2FnTahwKwqHxiUwEQ42PZhvTb7DKMxCcXsJ0MYrsJUyXC9a0z/GwYsDNU2Qz IJIaj8mC3kcJ7Np8sl0g9wqhK/eJWhOqgMKZA= X-Google-DKIM-Signature: v=1; a=rsa-sha256; c=relaxed/relaxed; d=1e100.net; s=20230601; t=1763881844; x=1764486644; h=cc:to:from:subject:message-id:date:x-gm-gg:x-gm-message-state:from :to:cc:subject:date:message-id:reply-to; bh=94uxk89erbP00p+IflRaHaMu8t7Hdg5si9zI0zmbOHc=; b=udY7ifMQknPLG6iWOXjv9ASvrmRBDZhckpYm3cuxqXjCMzu2+whFFmtjnpZbq5ilK6 Pt2E2cJp79obwQovuEkMCD/sT1R1WX0uW+jkRLm621H7/mn0PtwSy+JC+7guEAYr3Bqc EhmWl95YT5SlRdHf1uRQYfEaMP6WHg9BwvZ5qcbESmdC+QPk4maLiNzXnSRFOR0KsBs6 KPpzhLR8bvjhV/TtYOyzgR53BWQewfklyrcJCUQ7l0D7QMVPRcmKw9GXthiT7DSnID4h Ew61Jinhp4AqH9RowV2flT3daQNRmdz4ICYcffdk/VJIA7E7fJjOFup/afaMwJL2NPr1 j+Fw== X-Gm-Message-State: AOJu0YwcRH/gQKZceWU2recQnpQLbD5zEjmRo9PNqJ6jDZpj+jWjlgNj Q8Y+X5LDYpunt9KRmXHizZ0+duK+mjBTDIAOIqrLBgLpUXf3WgKiUsrxb28IvqwV5V4viBPTGhr S0itRE2c2BKw3v1m5WZtb9zvVLdJ9CbSAV30J X-Gm-Gg: ASbGncsB1m99e8nNcTZKcGy8T0ek7ephI9wwftyKZbowaI7VIVOPZs8IpZaM27SZmSe AWFg0J0IflT18oXuRiPXKgL3aidHs0Y9PuG9Vt+SJnP1OchY9W6AoByU+GN3V9SwsIjg99wieKr D2R4ZobcagNB8WkKfo7MwCOS5u4Kk9NsgA5rk0HjXa+6qC/5w8thNv0b+4ED//uGXpNEab54xAT eL2y+W4ZIjGIQqIKnVrUlGP5nqdDX3RWweDOf1qZn6qKLIIM0BS2ABQso/OLTKKZZySK+viJwH2 OflD+uBaiwXjw0htELx4Q8oXvFo4CnmYICl+mAWsWZZQwwGGYtMKQasW+JcyuLS+T7N5z0FJ/uw iDfD/+VCPTl+fXiYU2cpmvAKUUihvcSpucLxzYhME6Q== X-Google-Smtp-Source: AGHT+IGq5fceO9P22CzknIlLBEprnUkNpHqywI6+7rh5yJHxPD0vrEnSHC7xeO4rWS8vIJj2nwr0RbkJD58x X-Received: by 2002:a17:90b:2f85:b0:340:be4d:a718 with SMTP id 98e67ed59e1d1-34733e4a4eemr9914854a91.7.1763881844534; Sat, 22 Nov 2025 23:10:44 -0800 (PST) Received: from postal.iol.unh.edu (postal.iol.unh.edu. [132.177.123.84]) by smtp-relay.gmail.com with ESMTPS id 98e67ed59e1d1-34727c37a3dsm736435a91.6.2025.11.22.23.10.44 (version=TLS1_2 cipher=ECDHE-ECDSA-AES128-GCM-SHA256 bits=128/128); Sat, 22 Nov 2025 23:10:44 -0800 (PST) X-Relaying-Domain: iol.unh.edu Date: Sat, 22 Nov 2025 23:10:44 -0800 (PST) Message-ID: <6922b374.170a0220.2506df.471dSMTPIN_ADDED_MISSING@mx.google.com> Received: from [172.21.0.2] (unknown [172.18.0.240]) by postal.iol.unh.edu (Postfix) with ESMTP id 9299860003EA; Sun, 23 Nov 2025 02:10:43 -0500 (EST) Subject: |SUCCESS| [GIT MASTER] 0bd935abcb823f581ce53986986aa54eaf6f8140 From: dpdklab@iol.unh.edu To: Test Report Cc: dpdk-test-reports@iol.unh.edu, Xueming Li , Kevin Traynor , Luca Boccassi Content-Type: text/plain X-BeenThere: test-report@dpdk.org X-Mailman-Version: 2.1.29 Precedence: list List-Id: automatic DPDK test reports List-Unsubscribe: , List-Archive: List-Post: List-Help: List-Subscribe: , Errors-To: test-report-bounces@dpdk.org _Testing PASS_ Branch: tags/v24.11 0bd935abcb823f581ce53986986aa54eaf6f8140 --> testing pass Upstream job id: Generic-Unit-Test-DPDK#395292 Test environment and result as below: +-------------------------------+----------------+ | Environment | dpdk_unit_test | +===============================+================+ | Debian GNU/Linux 12 | PASS | +-------------------------------+----------------+ | Fedora Linux 40 | PASS | +-------------------------------+----------------+ | Fedora Linux 42 | PASS | +-------------------------------+----------------+ | Ubuntu 20.04 | PASS | +-------------------------------+----------------+ | CentOS Stream 10 | PASS | +-------------------------------+----------------+ | CentOS Stream 9 | PASS | +-------------------------------+----------------+ | Fedora Linux 41 | PASS | +-------------------------------+----------------+ | Ubuntu 22.04 | PASS | +-------------------------------+----------------+ | Red Hat Enterprise Linux 9.5 | PASS | +-------------------------------+----------------+ | Ubuntu 24.04 | PASS | +-------------------------------+----------------+ | Red Hat Enterprise Linux 8.10 | PASS | +-------------------------------+----------------+ | Windows Server 2022 | PASS | +-------------------------------+----------------+ Debian GNU/Linux 12 Kernel: 5.15 Compiler: gcc gcc (Debian 12.2.0-14+deb12u1) 12.2.0 Fedora Linux 40 Kernel: 5.15 Compiler: gcc gcc (GCC) 14.2.1 20240912 (Red Hat 14.2.1-3) Fedora Linux 42 Kernel: 5.15 Compiler: clang gcc (GCC) 15.2.1 20250808 (Red Hat 15.2.1-1) Ubuntu 20.04 Kernel: 5.15 Compiler: gcc gcc (Ubuntu 9.4.0-1ubuntu1~20.04.2) 9.4.0 CentOS Stream 10 Kernel: 5.15 Compiler: gcc gcc (GCC) 14.2.1 20250110 (Red Hat 14.2.1-8) CentOS Stream 9 Kernel: 5.15 Compiler: gcc gcc (GCC) 11.5.0 20240719 (Red Hat 11.5.0-11) Fedora Linux 41 Kernel: 5.15 Compiler: gcc gcc (GCC) 14.3.1 20250523 (Red Hat 14.3.1-1) Ubuntu 22.04 Kernel: 5.15 Compiler: gcc gcc (Ubuntu 11.4.0-1ubuntu1~22.04) 11.4.0 Red Hat Enterprise Linux 9.5 Kernel: 5.15 Compiler: gcc gcc (GCC) 11.5.0 20240719 (Red Hat 11.5.0-2) Ubuntu 24.04 Kernel: 5.15 Compiler: gcc gcc (Ubuntu 13.3.0-6ubuntu2~24.04) 13.3.0 Red Hat Enterprise Linux 8.10 Kernel: 5.15 Compiler: gcc gcc (GCC) 8.5.0 20210514 (Red Hat 8.5.0-22) Windows Server 2022 Kernel: 10.0.20348.2031 Compiler: clang 15.0.7, gcc 14.1.0 (MinGW), and MSVC VS 19.39.33521 To view detailed results, visit: https://lab.dpdk.org/results/dashboard/tarballs/35686/ UNH-IOL DPDK Community Lab To manage your email subscriptions, visit: https://lab.dpdk.org/results/dashboard/preferences/subscriptions/