* [dpdk-test-report] |SUCCESS| pw85375-85379 [PATCH] [v6, 4/4] test: change external memory test to use system page sz
@ 2020-12-17 20:21 dpdklab
0 siblings, 0 replies; 5+ messages in thread
From: dpdklab @ 2020-12-17 20:21 UTC (permalink / raw)
To: Ajit Khaparde, Test Report; +Cc: dpdk-test-reports
[-- Attachment #1: Type: text/plain, Size: 807 bytes --]
Test-Label: iol-broadcom-Functional
Test-Status: SUCCESS
http://dpdk.org/patch/85379
_Functional Testing PASS_
Submitter: Nithin Dabilpuram <ndabilpuram@marvell.com>
Date: Thursday, December 17 2020 19:06:04
DPDK git baseline: Repo:dpdk
Branch: master
CommitID:e682b020840a9035beacd24cba4f6baabcfaf5ff
85375-85379 --> functional testing pass
Test environment and result as below:
Ubuntu 18.04
Kernel: 4.15.0-65-generic
Compiler: gcc gcc (Ubuntu 7.4.0-1ubuntu1~18.04.1) 7.4.0
NIC: Broadcom Inc. brcm_57414 25000 Mbps
Target: x86_64-native-linuxapp-gcc
Fail/Total: 0/3
To view detailed results, visit:
https://lab.dpdk.org/results/dashboard/patchsets/14860/
UNH-IOL DPDK Community Lab
To manage your email subscriptions, visit:
https://lab.dpdk.org/results/dashboard/preferences/subscriptions/
^ permalink raw reply [flat|nested] 5+ messages in thread
* [dpdk-test-report] |SUCCESS| pw85375-85379 [PATCH] [v6, 4/4] test: change external memory test to use system page sz
@ 2020-12-17 22:04 dpdklab
0 siblings, 0 replies; 5+ messages in thread
From: dpdklab @ 2020-12-17 22:04 UTC (permalink / raw)
To: Test Report; +Cc: dpdk-test-reports
[-- Attachment #1: Type: text/plain, Size: 2924 bytes --]
Test-Label: iol-testing
Test-Status: SUCCESS
http://dpdk.org/patch/85379
_Testing PASS_
Submitter: Nithin Dabilpuram <ndabilpuram@marvell.com>
Date: Thursday, December 17 2020 19:06:04
DPDK git baseline: Repo:dpdk
Branch: master
CommitID:e682b020840a9035beacd24cba4f6baabcfaf5ff
85375-85379 --> testing pass
Test environment and result as below:
+---------------------+----------------------+--------------------+----------------+----------+-------------------+
| Environment | dpdk_mingw64_compile | dpdk_meson_compile | dpdk_unit_test | abi_test | dpdk_compile_spdk |
+=====================+======================+====================+================+==========+===================+
| Windows Server 2019 | PASS | PASS | SKIPPED | SKIPPED | SKIPPED |
+---------------------+----------------------+--------------------+----------------+----------+-------------------+
| CentOS 8 | SKIPPED | PASS | SKIPPED | SKIPPED | SKIPPED |
+---------------------+----------------------+--------------------+----------------+----------+-------------------+
| FreeBSD 11.2 | SKIPPED | PASS | SKIPPED | SKIPPED | SKIPPED |
+---------------------+----------------------+--------------------+----------------+----------+-------------------+
| Fedora 31 | SKIPPED | PASS | SKIPPED | SKIPPED | PASS |
+---------------------+----------------------+--------------------+----------------+----------+-------------------+
| openSUSE Leap 15 | SKIPPED | PASS | SKIPPED | SKIPPED | SKIPPED |
+---------------------+----------------------+--------------------+----------------+----------+-------------------+
| Arch Linux | SKIPPED | PASS | SKIPPED | SKIPPED | SKIPPED |
+---------------------+----------------------+--------------------+----------------+----------+-------------------+
| Ubuntu 18.04 | SKIPPED | PASS | PASS | PASS | PASS |
+---------------------+----------------------+--------------------+----------------+----------+-------------------+
Windows Server 2019
Kernel: 10.0
Compiler: clang 9.0
CentOS 8
Kernel: 4.18.0.el8_0
Compiler: gcc 8.3.1
FreeBSD 11.2
Kernel: 11.2
Compiler: gcc 8.3
Fedora 31
Kernel: 5.3.16
Compiler: gcc 9.2.1
openSUSE Leap 15
Kernel: 4.12.14
Compiler: gcc 7.4.1
Arch Linux
Kernel: latest
Compiler: gcc latest
Ubuntu 18.04
Kernel: 4.15.0-generic
Compiler: gcc 7.5
To view detailed results, visit:
https://lab.dpdk.org/results/dashboard/patchsets/14860/
UNH-IOL DPDK Community Lab
To manage your email subscriptions, visit:
https://lab.dpdk.org/results/dashboard/preferences/subscriptions/
^ permalink raw reply [flat|nested] 5+ messages in thread
* [dpdk-test-report] |SUCCESS| pw85375-85379 [PATCH] [v6, 4/4] test: change external memory test to use system page sz
@ 2020-12-17 20:42 dpdklab
0 siblings, 0 replies; 5+ messages in thread
From: dpdklab @ 2020-12-17 20:42 UTC (permalink / raw)
To: Test Report; +Cc: dpdk-test-reports
[-- Attachment #1: Type: text/plain, Size: 1929 bytes --]
Test-Label: iol-intel-Performance
Test-Status: SUCCESS
http://dpdk.org/patch/85379
_Performance Testing PASS_
Submitter: Nithin Dabilpuram <ndabilpuram@marvell.com>
Date: Thursday, December 17 2020 19:06:04
DPDK git baseline: Repo:dpdk
Branch: master
CommitID:e682b020840a9035beacd24cba4f6baabcfaf5ff
85375-85379 --> performance testing pass
Test environment and result as below:
Ubuntu 18.04
Kernel: 4.15.0-generic
Compiler: gcc 7.4
NIC: Intel Corporation Ethernet Converged Network Adapter XL710-QDA2 40000 Mbps
Target: x86_64-native-linuxapp-gcc
Fail/Total: 0/2
Detail performance results:
+------------+---------+-------------------------------------+
| frame_size | txd/rxd | throughput difference from expected |
+============+=========+=====================================+
| 64 | 512 | 2.856 |
+------------+---------+-------------------------------------+
| 64 | 2048 | 1.991 |
+------------+---------+-------------------------------------+
Ubuntu 18.04
Kernel: 4.15.0-generic
Compiler: gcc 7.4
NIC: Intel Corporation Ethernet Converged Network Adapter 82599ES 10000 Mbps
Target: x86_64-native-linuxapp-gcc
Fail/Total: 0/2
Detail performance results:
+------------+---------+-------------------------------------+
| frame_size | txd/rxd | throughput difference from expected |
+============+=========+=====================================+
| 64 | 512 | 1.966 |
+------------+---------+-------------------------------------+
| 64 | 2048 | 0.986 |
+------------+---------+-------------------------------------+
To view detailed results, visit:
https://lab.dpdk.org/results/dashboard/patchsets/14860/
UNH-IOL DPDK Community Lab
To manage your email subscriptions, visit:
https://lab.dpdk.org/results/dashboard/preferences/subscriptions/
^ permalink raw reply [flat|nested] 5+ messages in thread
* [dpdk-test-report] |SUCCESS| pw85375-85379 [PATCH] [v6, 4/4] test: change external memory test to use system page sz
@ 2020-12-17 20:31 dpdklab
0 siblings, 0 replies; 5+ messages in thread
From: dpdklab @ 2020-12-17 20:31 UTC (permalink / raw)
To: Test Report; +Cc: dpdk-test-reports
[-- Attachment #1: Type: text/plain, Size: 986 bytes --]
Test-Label: iol-intel-Functional
Test-Status: SUCCESS
http://dpdk.org/patch/85379
_Functional Testing PASS_
Submitter: Nithin Dabilpuram <ndabilpuram@marvell.com>
Date: Thursday, December 17 2020 19:06:04
DPDK git baseline: Repo:dpdk
Branch: master
CommitID:e682b020840a9035beacd24cba4f6baabcfaf5ff
85375-85379 --> functional testing pass
Test environment and result as below:
Ubuntu 18.04
Kernel: 4.15.0-generic
Compiler: gcc 7.4
NIC: Intel Corporation Ethernet Converged Network Adapter XL710-QDA2 40000 Mbps
Target: x86_64-native-linuxapp-gcc
Fail/Total: 0/3
Ubuntu 18.04
Kernel: 4.15.0-generic
Compiler: gcc 7.4
NIC: Intel Corporation Ethernet Converged Network Adapter 82599ES 10000 Mbps
Target: x86_64-native-linuxapp-gcc
Fail/Total: 0/5
To view detailed results, visit:
https://lab.dpdk.org/results/dashboard/patchsets/14860/
UNH-IOL DPDK Community Lab
To manage your email subscriptions, visit:
https://lab.dpdk.org/results/dashboard/preferences/subscriptions/
^ permalink raw reply [flat|nested] 5+ messages in thread
* [dpdk-test-report] |SUCCESS| pw85375-85379 [PATCH] [v6, 4/4] test: change external memory test to use system page sz
@ 2020-12-17 20:12 dpdklab
0 siblings, 0 replies; 5+ messages in thread
From: dpdklab @ 2020-12-17 20:12 UTC (permalink / raw)
To: Ajit Khaparde, Test Report; +Cc: dpdk-test-reports
[-- Attachment #1: Type: text/plain, Size: 1280 bytes --]
Test-Label: iol-broadcom-Performance
Test-Status: SUCCESS
http://dpdk.org/patch/85379
_Performance Testing PASS_
Submitter: Nithin Dabilpuram <ndabilpuram@marvell.com>
Date: Thursday, December 17 2020 19:06:04
DPDK git baseline: Repo:dpdk
Branch: master
CommitID:e682b020840a9035beacd24cba4f6baabcfaf5ff
85375-85379 --> performance testing pass
Test environment and result as below:
Ubuntu 18.04
Kernel: 4.15.0-65-generic
Compiler: gcc gcc (Ubuntu 7.4.0-1ubuntu1~18.04.1) 7.4.0
NIC: Broadcom Inc. brcm_57414 25000 Mbps
Target: x86_64-native-linuxapp-gcc
Fail/Total: 0/2
Detail performance results:
+------------+---------+-------------------------------------+
| frame_size | txd/rxd | throughput difference from expected |
+============+=========+=====================================+
| 64 | 512 | 0 |
+------------+---------+-------------------------------------+
| 64 | 2048 | -0.050 |
+------------+---------+-------------------------------------+
To view detailed results, visit:
https://lab.dpdk.org/results/dashboard/patchsets/14860/
UNH-IOL DPDK Community Lab
To manage your email subscriptions, visit:
https://lab.dpdk.org/results/dashboard/preferences/subscriptions/
^ permalink raw reply [flat|nested] 5+ messages in thread
end of thread, other threads:[~2020-12-17 22:04 UTC | newest]
Thread overview: 5+ messages (download: mbox.gz / follow: Atom feed)
-- links below jump to the message on this page --
2020-12-17 20:21 [dpdk-test-report] |SUCCESS| pw85375-85379 [PATCH] [v6, 4/4] test: change external memory test to use system page sz dpdklab
-- strict thread matches above, loose matches on Subject: below --
2020-12-17 22:04 dpdklab
2020-12-17 20:42 dpdklab
2020-12-17 20:31 dpdklab
2020-12-17 20:12 dpdklab
This is a public inbox, see mirroring instructions
for how to clone and mirror all data and code used for this inbox;
as well as URLs for NNTP newsgroup(s).