automatic DPDK test reports
 help / color / Atom feed
* [dpdk-test-report] |SUCCESS| pw62744-62765 [PATCH] [v15, 01/19] net/i40e: i40e support ipn3ke FPGA port bonding
@ 2019-11-08 10:57 dpdklab
  0 siblings, 0 replies; 3+ messages in thread
From: dpdklab @ 2019-11-08 10:57 UTC (permalink / raw)
  To: Test Report; +Cc: dpdk-test-reports

[-- Attachment #1: Type: text/plain, Size: 1328 bytes --]

Test-Label: iol-compilation
Test-Status: SUCCESS
http://dpdk.org/patch/62744

_Compile Testing PASS_

Submitter: Rosen Xu <rosen.xu@intel.com>
Date: Friday, November 08 2019 10:19:31 
DPDK git baseline: Repo:dpdk
  Branch: master
  CommitID:9a643edb2b74c5993465089aa23178cd9ad612cc

62744-62765 --> compile testing pass

Test environment and result as below:

+--------------+------------------+-------------------+--------------+
| Environment  | dpdk_compile_ovs | dpdk_compile_spdk | dpdk_compile |
+==============+==================+===================+==============+
| Ubuntu 18.04 | PASS             | PASS              | PASS         |
+--------------+------------------+-------------------+--------------+
| CentOS 8     | PASS             |                   | PASS         |
+--------------+------------------+-------------------+--------------+
| FreeBSD 11.2 |                  | PASS              | PASS         |
+--------------+------------------+-------------------+--------------+

Ubuntu 18.04
	Kernel: 4.15.0-generic
	GCC: 7.4

CentOS 8
	Kernel: 4.18.0.el8_0
	GCC: 8.2

FreeBSD 11.2
	Kernel: 11.2
	GCC: 8.3

https://lab.dpdk.org/results/dashboard/patchsets/8437/

UNH-IOL DPDK Performance Test Lab

To manage your email subscriptions visit: 
https://lab.dpdk.org/results/dashboard/preferences/subscriptions/

^ permalink raw reply	[flat|nested] 3+ messages in thread

* [dpdk-test-report] |SUCCESS| pw62744-62765 [PATCH] [v15, 01/19] net/i40e: i40e support ipn3ke FPGA port bonding
@ 2019-11-08 15:13 dpdklab
  0 siblings, 0 replies; 3+ messages in thread
From: dpdklab @ 2019-11-08 15:13 UTC (permalink / raw)
  To: Ali Alnubani, Test Report; +Cc: dpdk-test-reports

[-- Attachment #1: Type: text/plain, Size: 3909 bytes --]

Test-Label: iol-mellanox-Performance
Test-Status: SUCCESS
http://dpdk.org/patch/62744

_Performance Testing PASS_

Submitter: Xu, Rosen <rosen.xu@intel.com>
Date: Friday, November 08 2019 10:19:31 
DPDK git baseline: Repo:dpdk
  Branch: master
  CommitID:9a643edb2b74c5993465089aa23178cd9ad612cc

62744-62765 --> performance testing pass

Test environment and result as below:

Ubuntu 18.04
Kernel: 4.15.0-generic
GCC: 7.4
NIC: Mellanox ConnectX-4 Lx 25000 Mbps
Target: x86_64-native-linuxapp-gcc
Fail/Total: 0/6

Detail performance results: 
+------------+---------+-------------------------------------+
| frame_size | txd/rxd | throughput difference from expected |
+============+=========+=====================================+
| 64         | 256     | 0.060                               |
+------------+---------+-------------------------------------+
| 128        | 256     | -0.092                              |
+------------+---------+-------------------------------------+
| 256        | 256     | -0.010                              |
+------------+---------+-------------------------------------+
| 512        | 256     | 0.029                               |
+------------+---------+-------------------------------------+
| 1024       | 256     | 0.001                               |
+------------+---------+-------------------------------------+
| 1518       | 256     | 0.001                               |
+------------+---------+-------------------------------------+

Ubuntu 18.04
Kernel: 4.15.0-generic
GCC: 7.4
NIC: Mellanox ConnectX-4 Lx 40000 Mbps
Target: x86_64-native-linuxapp-gcc
Fail/Total: 0/6

Detail performance results: 
+------------+---------+-------------------------------------+
| frame_size | txd/rxd | throughput difference from expected |
+============+=========+=====================================+
| 64         | 256     | 0.103                               |
+------------+---------+-------------------------------------+
| 128        | 256     | 0.218                               |
+------------+---------+-------------------------------------+
| 256        | 256     | 0.045                               |
+------------+---------+-------------------------------------+
| 512        | 256     | -0.044                              |
+------------+---------+-------------------------------------+
| 1024       | 256     | 0.026                               |
+------------+---------+-------------------------------------+
| 1518       | 256     | 0.005                               |
+------------+---------+-------------------------------------+

Ubuntu 18.04
Kernel: 4.15.0-generic
GCC: 7.4
NIC: Mellanox ConnectX-5 100000 Mbps
Target: x86_64-native-linuxapp-gcc
Fail/Total: 0/6

Detail performance results: 
+------------+---------+-------------------------------------+
| frame_size | txd/rxd | throughput difference from expected |
+============+=========+=====================================+
| 64         | 256     | -0.316                              |
+------------+---------+-------------------------------------+
| 128        | 256     | 0.019                               |
+------------+---------+-------------------------------------+
| 256        | 256     | -0.098                              |
+------------+---------+-------------------------------------+
| 512        | 256     | 0.074                               |
+------------+---------+-------------------------------------+
| 1024       | 256     | 0.033                               |
+------------+---------+-------------------------------------+
| 1518       | 256     | -0.020                              |
+------------+---------+-------------------------------------+

https://lab.dpdk.org/results/dashboard/patchsets/8437/

UNH-IOL DPDK Performance Test Lab

To manage your email subscriptions visit: 
https://lab.dpdk.org/results/dashboard/preferences/subscriptions/

^ permalink raw reply	[flat|nested] 3+ messages in thread

* [dpdk-test-report] |SUCCESS| pw62744-62765 [PATCH] [v15, 01/19] net/i40e: i40e support ipn3ke FPGA port bonding
@ 2019-11-08 10:56 dpdklab
  0 siblings, 0 replies; 3+ messages in thread
From: dpdklab @ 2019-11-08 10:56 UTC (permalink / raw)
  To: Test Report; +Cc: dpdk-test-reports

[-- Attachment #1: Type: text/plain, Size: 1993 bytes --]

Test-Label: iol-intel-Performance
Test-Status: SUCCESS
http://dpdk.org/patch/62744

_Performance Testing PASS_

Submitter: Rosen Xu <rosen.xu@intel.com>
Date: Friday, November 08 2019 10:19:31 
DPDK git baseline: Repo:dpdk
  Branch: master
  CommitID:9a643edb2b74c5993465089aa23178cd9ad612cc

62744-62765 --> performance testing pass

Test environment and result as below:

Ubuntu 18.04
Kernel: 4.15.0-generic
GCC: 7.4
NIC: Intel Corporation Ethernet Converged Network Adapter 82599ES 10000 Mbps
Target: x86_64-native-linuxapp-gcc
Fail/Total: 0/3

Detail performance results: 
+------------+---------+-------------------------------------+
| frame_size | txd/rxd | throughput difference from expected |
+============+=========+=====================================+
| 64         | 128     | -0.143                              |
+------------+---------+-------------------------------------+
| 64         | 512     | -0.365                              |
+------------+---------+-------------------------------------+
| 64         | 2048    | 0.368                               |
+------------+---------+-------------------------------------+

Ubuntu 18.04
Kernel: 4.15.0-generic
GCC: 7.4
NIC: Intel Corporation Ethernet Converged Network Adapter XL710-QDA2 40000 Mbps
Target: x86_64-native-linuxapp-gcc
Fail/Total: 0/2

Detail performance results: 
+------------+---------+-------------------------------------+
| frame_size | txd/rxd | throughput difference from expected |
+============+=========+=====================================+
| 64         | 512     | -0.290                              |
+------------+---------+-------------------------------------+
| 64         | 2048    | -0.137                              |
+------------+---------+-------------------------------------+

https://lab.dpdk.org/results/dashboard/patchsets/8437/

UNH-IOL DPDK Performance Test Lab

To manage your email subscriptions visit: 
https://lab.dpdk.org/results/dashboard/preferences/subscriptions/

^ permalink raw reply	[flat|nested] 3+ messages in thread

end of thread, back to index

Thread overview: 3+ messages (download: mbox.gz / follow: Atom feed)
-- links below jump to the message on this page --
2019-11-08 10:57 [dpdk-test-report] |SUCCESS| pw62744-62765 [PATCH] [v15, 01/19] net/i40e: i40e support ipn3ke FPGA port bonding dpdklab
  -- strict thread matches above, loose matches on Subject: below --
2019-11-08 15:13 dpdklab
2019-11-08 10:56 dpdklab

automatic DPDK test reports

Archives are clonable:
	git clone --mirror http://inbox.dpdk.org/test-report/0 test-report/git/0.git

	# If you have public-inbox 1.1+ installed, you may
	# initialize and index your mirror using the following commands:
	public-inbox-init -V2 test-report test-report/ http://inbox.dpdk.org/test-report \
		test-report@dpdk.org
	public-inbox-index test-report


Newsgroup available over NNTP:
	nntp://inbox.dpdk.org/inbox.dpdk.test-report


AGPL code for this site: git clone https://public-inbox.org/ public-inbox