* [dpdk-test-report] |SUCCESS| pw65137 [PATCH] app/testpmd: use correct RFC addresses for tx-only
@ 2020-01-27 16:38 dpdklab
0 siblings, 0 replies; 4+ messages in thread
From: dpdklab @ 2020-01-27 16:38 UTC (permalink / raw)
To: Test Report; +Cc: dpdk-test-reports
[-- Attachment #1: Type: text/plain, Size: 2260 bytes --]
Test-Label: iol-testing
Test-Status: SUCCESS
http://dpdk.org/patch/65137
_Testing PASS_
Submitter: Stephen Hemminger <stephen@networkplumber.org>
Date: Monday, January 27 2020 03:34:58
DPDK git baseline: Repo:dpdk
Branch: master
CommitID:c465e6b94be343303303f26b95f3c2ae4969063e
65137 --> testing pass
Test environment and result as below:
+------------------+-------------------+--------------+------------------+----------------+--------------------+
| Environment | dpdk_compile_spdk | dpdk_compile | dpdk_compile_ovs | dpdk_unit_test | dpdk_meson_compile |
+==================+===================+==============+==================+================+====================+
| FreeBSD 11.2 | PASS | PASS | SKIPPED | SKIPPED | PASS |
+------------------+-------------------+--------------+------------------+----------------+--------------------+
| Ubuntu 18.04 | PASS | PASS | PASS | PASS | PASS |
+------------------+-------------------+--------------+------------------+----------------+--------------------+
| openSUSE Leap 15 | SKIPPED | PASS | PASS | SKIPPED | PASS |
+------------------+-------------------+--------------+------------------+----------------+--------------------+
| Arch Linux | SKIPPED | PASS | PASS | SKIPPED | PASS |
+------------------+-------------------+--------------+------------------+----------------+--------------------+
| Fedora 31 | SKIPPED | PASS | PASS | SKIPPED | PASS |
+------------------+-------------------+--------------+------------------+----------------+--------------------+
FreeBSD 11.2
Kernel: 11.2
GCC: 8.3
Ubuntu 18.04
Kernel: 4.15.0-generic
GCC: 7.4
openSUSE Leap 15
Kernel: 4.12.14
GCC: 7.4.1
Arch Linux
Kernel: latest
GCC: latest
Fedora 31
Kernel: 5.3.16
GCC: 9.2.1
To view detailed results, visit:
https://lab.dpdk.org/results/dashboard/patchsets/9370/
UNH-IOL DPDK Community Lab
To manage your email subscriptions, visit:
https://lab.dpdk.org/results/dashboard/preferences/subscriptions/
^ permalink raw reply [flat|nested] 4+ messages in thread
* [dpdk-test-report] |SUCCESS| pw65137 [PATCH] app/testpmd: use correct RFC addresses for tx-only
@ 2020-01-27 17:36 dpdklab
0 siblings, 0 replies; 4+ messages in thread
From: dpdklab @ 2020-01-27 17:36 UTC (permalink / raw)
To: Ruoshan Shi, Test Report; +Cc: dpdk-test-reports
[-- Attachment #1: Type: text/plain, Size: 1201 bytes --]
Test-Label: iol-nxp-Performance
Test-Status: SUCCESS
http://dpdk.org/patch/65137
_Performance Testing PASS_
Submitter: Stephen Hemminger <stephen@networkplumber.org>
Date: Monday, January 27 2020 03:34:58
DPDK git baseline: Repo:dpdk
Branch: master
CommitID:c465e6b94be343303303f26b95f3c2ae4969063e
65137 --> performance testing pass
Test environment and result as below:
Ubuntu 18.04
Kernel: 4.14.122
GCC: 7.3.0
NIC: NXP LS2088A 10000 Mbps
Target: x86_64-native-linuxapp-gcc
Fail/Total: 0/2
Detail performance results:
+------------+---------+-------------------------------------+
| frame_size | txd/rxd | throughput difference from expected |
+============+=========+=====================================+
| 64 | 512 | -0.040 |
+------------+---------+-------------------------------------+
| 64 | 2048 | 0.175 |
+------------+---------+-------------------------------------+
To view detailed results, visit:
https://lab.dpdk.org/results/dashboard/patchsets/9370/
UNH-IOL DPDK Community Lab
To manage your email subscriptions, visit:
https://lab.dpdk.org/results/dashboard/preferences/subscriptions/
^ permalink raw reply [flat|nested] 4+ messages in thread
* [dpdk-test-report] |SUCCESS| pw65137 [PATCH] app/testpmd: use correct RFC addresses for tx-only
@ 2020-01-27 17:36 dpdklab
0 siblings, 0 replies; 4+ messages in thread
From: dpdklab @ 2020-01-27 17:36 UTC (permalink / raw)
To: Ali Alnubani, Test Report; +Cc: dpdk-test-reports
[-- Attachment #1: Type: text/plain, Size: 3945 bytes --]
Test-Label: iol-mellanox-Performance
Test-Status: SUCCESS
http://dpdk.org/patch/65137
_Performance Testing PASS_
Submitter: Stephen Hemminger <stephen@networkplumber.org>
Date: Monday, January 27 2020 03:34:58
DPDK git baseline: Repo:dpdk
Branch: master
CommitID:c465e6b94be343303303f26b95f3c2ae4969063e
65137 --> performance testing pass
Test environment and result as below:
Ubuntu 18.04
Kernel: 4.15.0-generic
GCC: 7.4
NIC: Mellanox ConnectX-4 Lx 40000 Mbps
Target: x86_64-native-linuxapp-gcc
Fail/Total: 0/6
Detail performance results:
+------------+---------+-------------------------------------+
| frame_size | txd/rxd | throughput difference from expected |
+============+=========+=====================================+
| 64 | 256 | 0.055 |
+------------+---------+-------------------------------------+
| 128 | 256 | -0.205 |
+------------+---------+-------------------------------------+
| 256 | 256 | -0.018 |
+------------+---------+-------------------------------------+
| 512 | 256 | -0.025 |
+------------+---------+-------------------------------------+
| 1024 | 256 | -0.009 |
+------------+---------+-------------------------------------+
| 1518 | 256 | 0 |
+------------+---------+-------------------------------------+
Ubuntu 18.04
Kernel: 4.15.0-generic
GCC: 7.4
NIC: Mellanox ConnectX-4 Lx 25000 Mbps
Target: x86_64-native-linuxapp-gcc
Fail/Total: 0/6
Detail performance results:
+------------+---------+-------------------------------------+
| frame_size | txd/rxd | throughput difference from expected |
+============+=========+=====================================+
| 64 | 256 | -0.003 |
+------------+---------+-------------------------------------+
| 128 | 256 | -0.130 |
+------------+---------+-------------------------------------+
| 256 | 256 | 0.126 |
+------------+---------+-------------------------------------+
| 512 | 256 | 0.005 |
+------------+---------+-------------------------------------+
| 1024 | 256 | 0.010 |
+------------+---------+-------------------------------------+
| 1518 | 256 | -0.012 |
+------------+---------+-------------------------------------+
Ubuntu 18.04
Kernel: 4.15.0-generic
GCC: 7.4
NIC: Mellanox ConnectX-5 100000 Mbps
Target: x86_64-native-linuxapp-gcc
Fail/Total: 0/6
Detail performance results:
+------------+---------+-------------------------------------+
| frame_size | txd/rxd | throughput difference from expected |
+============+=========+=====================================+
| 64 | 256 | -0.285 |
+------------+---------+-------------------------------------+
| 128 | 256 | -0.153 |
+------------+---------+-------------------------------------+
| 256 | 256 | 0.024 |
+------------+---------+-------------------------------------+
| 512 | 256 | -0.123 |
+------------+---------+-------------------------------------+
| 1024 | 256 | -0.061 |
+------------+---------+-------------------------------------+
| 1518 | 256 | -0.007 |
+------------+---------+-------------------------------------+
To view detailed results, visit:
https://lab.dpdk.org/results/dashboard/patchsets/9370/
UNH-IOL DPDK Community Lab
To manage your email subscriptions, visit:
https://lab.dpdk.org/results/dashboard/preferences/subscriptions/
^ permalink raw reply [flat|nested] 4+ messages in thread
* [dpdk-test-report] |SUCCESS| pw65137 [PATCH] app/testpmd: use correct RFC addresses for tx-only
[not found] <20200127033458.30275-1-stephen@networkplumber.org>
@ 2020-01-27 3:36 ` checkpatch
0 siblings, 0 replies; 4+ messages in thread
From: checkpatch @ 2020-01-27 3:36 UTC (permalink / raw)
To: test-report
Test-Label: checkpatch
Test-Status: SUCCESS
http://dpdk.org/patch/65137
_coding style OK_
^ permalink raw reply [flat|nested] 4+ messages in thread
end of thread, other threads:[~2020-01-27 17:36 UTC | newest]
Thread overview: 4+ messages (download: mbox.gz / follow: Atom feed)
-- links below jump to the message on this page --
2020-01-27 16:38 [dpdk-test-report] |SUCCESS| pw65137 [PATCH] app/testpmd: use correct RFC addresses for tx-only dpdklab
-- strict thread matches above, loose matches on Subject: below --
2020-01-27 17:36 dpdklab
2020-01-27 17:36 dpdklab
[not found] <20200127033458.30275-1-stephen@networkplumber.org>
2020-01-27 3:36 ` checkpatch
This is a public inbox, see mirroring instructions
for how to clone and mirror all data and code used for this inbox;
as well as URLs for NNTP newsgroup(s).