* [dpdk-test-report] |SUCCESS| [GIT MASTER] c6420a36328b9c6b71770aaa982abacd0e2440b8
@ 2020-02-06 7:46 dpdklab
0 siblings, 0 replies; 3+ messages in thread
From: dpdklab @ 2020-02-06 7:46 UTC (permalink / raw)
To: Ali Alnubani, Test Report; +Cc: dpdk-test-reports
[-- Attachment #1: Type: text/plain, Size: 3736 bytes --]
_Performance Testing PASS_
Branch: dpdk
c6420a36328b9c6b71770aaa982abacd0e2440b8 --> performance testing pass
Test environment and result as below:
Ubuntu 18.04
Kernel: 4.15.0-generic
Compiler: gcc 7.4
NIC: Mellanox ConnectX-5 100000 Mbps
Target: x86_64-native-linuxapp-gcc
Fail/Total: 0/6
Detail performance results:
+------------+---------+-------------------------------------+
| frame_size | txd/rxd | throughput difference from expected |
+============+=========+=====================================+
| 64 | 256 | -0.130 |
+------------+---------+-------------------------------------+
| 128 | 256 | -0.090 |
+------------+---------+-------------------------------------+
| 256 | 256 | -0.020 |
+------------+---------+-------------------------------------+
| 512 | 256 | -0.237 |
+------------+---------+-------------------------------------+
| 1024 | 256 | 0.012 |
+------------+---------+-------------------------------------+
| 1518 | 256 | -0.017 |
+------------+---------+-------------------------------------+
Ubuntu 18.04
Kernel: 4.15.0-generic
Compiler: gcc 7.4
NIC: Mellanox ConnectX-4 Lx 25000 Mbps
Target: x86_64-native-linuxapp-gcc
Fail/Total: 0/6
Detail performance results:
+------------+---------+-------------------------------------+
| frame_size | txd/rxd | throughput difference from expected |
+============+=========+=====================================+
| 64 | 256 | -0.255 |
+------------+---------+-------------------------------------+
| 128 | 256 | -0.193 |
+------------+---------+-------------------------------------+
| 256 | 256 | 0.242 |
+------------+---------+-------------------------------------+
| 512 | 256 | 0.004 |
+------------+---------+-------------------------------------+
| 1024 | 256 | -0.009 |
+------------+---------+-------------------------------------+
| 1518 | 256 | -0.012 |
+------------+---------+-------------------------------------+
Ubuntu 18.04
Kernel: 4.15.0-generic
Compiler: gcc 7.4
NIC: Mellanox ConnectX-4 Lx 40000 Mbps
Target: x86_64-native-linuxapp-gcc
Fail/Total: 0/6
Detail performance results:
+------------+---------+-------------------------------------+
| frame_size | txd/rxd | throughput difference from expected |
+============+=========+=====================================+
| 64 | 256 | -0.317 |
+------------+---------+-------------------------------------+
| 128 | 256 | -0.020 |
+------------+---------+-------------------------------------+
| 256 | 256 | 0.043 |
+------------+---------+-------------------------------------+
| 512 | 256 | -0.021 |
+------------+---------+-------------------------------------+
| 1024 | 256 | -0.005 |
+------------+---------+-------------------------------------+
| 1518 | 256 | -0.006 |
+------------+---------+-------------------------------------+
To view detailed results, visit:
https://lab.dpdk.org/results/dashboard/tarballs/8052/
UNH-IOL DPDK Community Lab
To manage your email subscriptions, visit:
https://lab.dpdk.org/results/dashboard/preferences/subscriptions/
^ permalink raw reply [flat|nested] 3+ messages in thread
* [dpdk-test-report] |SUCCESS| [GIT MASTER] c6420a36328b9c6b71770aaa982abacd0e2440b8
@ 2020-02-05 23:15 dpdklab
0 siblings, 0 replies; 3+ messages in thread
From: dpdklab @ 2020-02-05 23:15 UTC (permalink / raw)
To: Ruoshan Shi, Test Report; +Cc: dpdk-test-reports
[-- Attachment #1: Type: text/plain, Size: 979 bytes --]
_Performance Testing PASS_
Branch: dpdk
c6420a36328b9c6b71770aaa982abacd0e2440b8 --> performance testing pass
Test environment and result as below:
Ubuntu 18.04
Kernel: 4.14.122
Compiler: gcc 7.3.0
NIC: NXP LS2088A 10000 Mbps
Target: x86_64-native-linuxapp-gcc
Fail/Total: 0/2
Detail performance results:
+------------+---------+-------------------------------------+
| frame_size | txd/rxd | throughput difference from expected |
+============+=========+=====================================+
| 64 | 512 | 0.107 |
+------------+---------+-------------------------------------+
| 64 | 2048 | 0.046 |
+------------+---------+-------------------------------------+
To view detailed results, visit:
https://lab.dpdk.org/results/dashboard/tarballs/8052/
UNH-IOL DPDK Community Lab
To manage your email subscriptions, visit:
https://lab.dpdk.org/results/dashboard/preferences/subscriptions/
^ permalink raw reply [flat|nested] 3+ messages in thread
* [dpdk-test-report] |SUCCESS| [GIT MASTER] c6420a36328b9c6b71770aaa982abacd0e2440b8
@ 2020-02-05 23:11 dpdklab
0 siblings, 0 replies; 3+ messages in thread
From: dpdklab @ 2020-02-05 23:11 UTC (permalink / raw)
To: Test Report; +Cc: dpdk-test-reports
[-- Attachment #1: Type: text/plain, Size: 2694 bytes --]
_Testing PASS_
Branch: dpdk
c6420a36328b9c6b71770aaa982abacd0e2440b8 --> testing pass
Test environment and result as below:
+---------------------+--------------------+-------------------+----------------+--------------+------------------+
| Environment | dpdk_meson_compile | dpdk_compile_spdk | dpdk_unit_test | dpdk_compile | dpdk_compile_ovs |
+=====================+====================+===================+================+==============+==================+
| Windows Server 2019 | PASS | SKIPPED | SKIPPED | SKIPPED | SKIPPED |
+---------------------+--------------------+-------------------+----------------+--------------+------------------+
| Arch Linux | PASS | SKIPPED | SKIPPED | PASS | PASS |
+---------------------+--------------------+-------------------+----------------+--------------+------------------+
| Ubuntu 18.04 | PASS | PASS | PASS | PASS | PASS |
+---------------------+--------------------+-------------------+----------------+--------------+------------------+
| openSUSE Leap 15 | PASS | SKIPPED | SKIPPED | PASS | PASS |
+---------------------+--------------------+-------------------+----------------+--------------+------------------+
| Fedora 31 | PASS | PASS | SKIPPED | PASS | PASS |
+---------------------+--------------------+-------------------+----------------+--------------+------------------+
| FreeBSD 11.2 | PASS | PASS | SKIPPED | PASS | SKIPPED |
+---------------------+--------------------+-------------------+----------------+--------------+------------------+
| CentOS 8 | PASS | PASS | SKIPPED | PASS | PASS |
+---------------------+--------------------+-------------------+----------------+--------------+------------------+
Windows Server 2019
Kernel: 10.0
Compiler: clang 9.0
Arch Linux
Kernel: latest
Compiler: gcc latest
Ubuntu 18.04
Kernel: 4.15.0-generic
Compiler: gcc 7.4
openSUSE Leap 15
Kernel: 4.12.14
Compiler: gcc 7.4.1
Fedora 31
Kernel: 5.3.16
Compiler: gcc 9.2.1
FreeBSD 11.2
Kernel: 11.2
Compiler: gcc 8.3
CentOS 8
Kernel: 4.18.0.el8_0
Compiler: gcc 8.3.1
To view detailed results, visit:
https://lab.dpdk.org/results/dashboard/tarballs/8052/
UNH-IOL DPDK Community Lab
To manage your email subscriptions, visit:
https://lab.dpdk.org/results/dashboard/preferences/subscriptions/
^ permalink raw reply [flat|nested] 3+ messages in thread
end of thread, other threads:[~2020-02-06 7:47 UTC | newest]
Thread overview: 3+ messages (download: mbox.gz / follow: Atom feed)
-- links below jump to the message on this page --
2020-02-06 7:46 [dpdk-test-report] |SUCCESS| [GIT MASTER] c6420a36328b9c6b71770aaa982abacd0e2440b8 dpdklab
-- strict thread matches above, loose matches on Subject: below --
2020-02-05 23:15 dpdklab
2020-02-05 23:11 dpdklab
This is a public inbox, see mirroring instructions
for how to clone and mirror all data and code used for this inbox;
as well as URLs for NNTP newsgroup(s).