* [dpdk-test-report] |SUCCESS| pw69890 [PATCH] [v3] app/testpmd: add cmdline option to set Rx mq mode
@ 2020-05-12 21:59 dpdklab
0 siblings, 0 replies; 5+ messages in thread
From: dpdklab @ 2020-05-12 21:59 UTC (permalink / raw)
To: Test Report; +Cc: dpdk-test-reports
[-- Attachment #1: Type: text/plain, Size: 2903 bytes --]
Test-Label: iol-testing
Test-Status: SUCCESS
http://dpdk.org/patch/69890
_Testing PASS_
Submitter: Xiaoyu Min <jackmin@mellanox.com>
Date: Thursday, May 07 2020 00:51:59
DPDK git baseline: Repo:dpdk
Branch: master
CommitID:0efc99bed3a0a78a02d55da02cedb5028dbcd6f1
69890 --> testing pass
Test environment and result as below:
+---------------------+-------------------+--------------------+------------------+--------------+----------------+
| Environment | dpdk_compile_spdk | dpdk_meson_compile | dpdk_compile_ovs | dpdk_compile | dpdk_unit_test |
+=====================+===================+====================+==================+==============+================+
| Ubuntu 18.04 | PASS | PASS | PASS | PASS | PASS |
+---------------------+-------------------+--------------------+------------------+--------------+----------------+
| FreeBSD 11.2 | PASS | PASS | SKIPPED | PASS | SKIPPED |
+---------------------+-------------------+--------------------+------------------+--------------+----------------+
| CentOS 8 | PASS | PASS | PASS | PASS | SKIPPED |
+---------------------+-------------------+--------------------+------------------+--------------+----------------+
| openSUSE Leap 15 | PASS | PASS | PASS | PASS | SKIPPED |
+---------------------+-------------------+--------------------+------------------+--------------+----------------+
| Fedora 31 | PASS | PASS | PASS | PASS | SKIPPED |
+---------------------+-------------------+--------------------+------------------+--------------+----------------+
| Windows Server 2019 | SKIPPED | PASS | SKIPPED | SKIPPED | SKIPPED |
+---------------------+-------------------+--------------------+------------------+--------------+----------------+
| Arch Linux | SKIPPED | PASS | PASS | PASS | SKIPPED |
+---------------------+-------------------+--------------------+------------------+--------------+----------------+
Ubuntu 18.04
Kernel: 4.15.0-generic
Compiler: gcc 7.4
FreeBSD 11.2
Kernel: 11.2
Compiler: gcc 8.3
CentOS 8
Kernel: 4.18.0.el8_0
Compiler: gcc 8.3.1
openSUSE Leap 15
Kernel: 4.12.14
Compiler: gcc 7.4.1
Fedora 31
Kernel: 5.3.16
Compiler: gcc 9.2.1
Windows Server 2019
Kernel: 10.0
Compiler: clang 9.0
Arch Linux
Kernel: latest
Compiler: gcc latest
To view detailed results, visit:
https://lab.dpdk.org/results/dashboard/patchsets/10949/
UNH-IOL DPDK Community Lab
To manage your email subscriptions, visit:
https://lab.dpdk.org/results/dashboard/preferences/subscriptions/
^ permalink raw reply [flat|nested] 5+ messages in thread
* [dpdk-test-report] |SUCCESS| pw69890 [PATCH] [v3] app/testpmd: add cmdline option to set Rx mq mode
@ 2020-05-07 17:45 dpdklab
0 siblings, 0 replies; 5+ messages in thread
From: dpdklab @ 2020-05-07 17:45 UTC (permalink / raw)
To: Ali Alnubani, Test Report; +Cc: dpdk-test-reports
[-- Attachment #1: Type: text/plain, Size: 3958 bytes --]
Test-Label: iol-mellanox-Performance
Test-Status: SUCCESS
http://dpdk.org/patch/69890
_Performance Testing PASS_
Submitter: Xiaoyu Min <jackmin@mellanox.com>
Date: Thursday, May 07 2020 00:51:59
DPDK git baseline: Repo:dpdk
Branch: master
CommitID:0efc99bed3a0a78a02d55da02cedb5028dbcd6f1
69890 --> performance testing pass
Test environment and result as below:
Ubuntu 18.04
Kernel: 4.15.0-generic
Compiler: gcc 7.4
NIC: Mellanox ConnectX-5 100000 Mbps
Target: x86_64-native-linuxapp-gcc
Fail/Total: 0/6
Detail performance results:
+------------+---------+-------------------------------------+
| frame_size | txd/rxd | throughput difference from expected |
+============+=========+=====================================+
| 64 | 256 | 0.564 |
+------------+---------+-------------------------------------+
| 128 | 256 | -0.025 |
+------------+---------+-------------------------------------+
| 256 | 256 | 0.041 |
+------------+---------+-------------------------------------+
| 512 | 256 | -0.011 |
+------------+---------+-------------------------------------+
| 1024 | 256 | 0.120 |
+------------+---------+-------------------------------------+
| 1518 | 256 | 0.010 |
+------------+---------+-------------------------------------+
Ubuntu 18.04
Kernel: 4.15.0-generic
Compiler: gcc 7.4
NIC: Mellanox ConnectX-4 Lx 25000 Mbps
Target: x86_64-native-linuxapp-gcc
Fail/Total: 0/6
Detail performance results:
+------------+---------+-------------------------------------+
| frame_size | txd/rxd | throughput difference from expected |
+============+=========+=====================================+
| 64 | 256 | -0.457 |
+------------+---------+-------------------------------------+
| 128 | 256 | 0.110 |
+------------+---------+-------------------------------------+
| 256 | 256 | 0.044 |
+------------+---------+-------------------------------------+
| 512 | 256 | -0.006 |
+------------+---------+-------------------------------------+
| 1024 | 256 | -0.015 |
+------------+---------+-------------------------------------+
| 1518 | 256 | 0.006 |
+------------+---------+-------------------------------------+
Ubuntu 18.04
Kernel: 4.15.0-generic
Compiler: gcc 7.4
NIC: Mellanox ConnectX-4 Lx 40000 Mbps
Target: x86_64-native-linuxapp-gcc
Fail/Total: 0/6
Detail performance results:
+------------+---------+-------------------------------------+
| frame_size | txd/rxd | throughput difference from expected |
+============+=========+=====================================+
| 64 | 256 | 0.188 |
+------------+---------+-------------------------------------+
| 128 | 256 | -0.008 |
+------------+---------+-------------------------------------+
| 256 | 256 | -0.067 |
+------------+---------+-------------------------------------+
| 512 | 256 | 0.020 |
+------------+---------+-------------------------------------+
| 1024 | 256 | -0.002 |
+------------+---------+-------------------------------------+
| 1518 | 256 | 0 |
+------------+---------+-------------------------------------+
To view detailed results, visit:
https://lab.dpdk.org/results/dashboard/patchsets/10949/
UNH-IOL DPDK Community Lab
To manage your email subscriptions, visit:
https://lab.dpdk.org/results/dashboard/preferences/subscriptions/
^ permalink raw reply [flat|nested] 5+ messages in thread
* [dpdk-test-report] |SUCCESS| pw69890 [PATCH] [v3] app/testpmd: add cmdline option to set Rx mq mode
@ 2020-05-07 6:46 dpdklab
0 siblings, 0 replies; 5+ messages in thread
From: dpdklab @ 2020-05-07 6:46 UTC (permalink / raw)
To: Ruoshan Shi, Test Report; +Cc: dpdk-test-reports
[-- Attachment #1: Type: text/plain, Size: 1196 bytes --]
Test-Label: iol-nxp-Performance
Test-Status: SUCCESS
http://dpdk.org/patch/69890
_Performance Testing PASS_
Submitter: Xiaoyu Min <jackmin@mellanox.com>
Date: Thursday, May 07 2020 00:51:59
DPDK git baseline: Repo:dpdk
Branch: master
CommitID:0efc99bed3a0a78a02d55da02cedb5028dbcd6f1
69890 --> performance testing pass
Test environment and result as below:
Ubuntu 18.04
Kernel: 4.14.122
Compiler: gcc 7.3.0
NIC: NXP LS2088A 10000 Mbps
Target: x86_64-native-linuxapp-gcc
Fail/Total: 0/2
Detail performance results:
+------------+---------+-------------------------------------+
| frame_size | txd/rxd | throughput difference from expected |
+============+=========+=====================================+
| 64 | 512 | 0.109 |
+------------+---------+-------------------------------------+
| 64 | 2048 | 0.045 |
+------------+---------+-------------------------------------+
To view detailed results, visit:
https://lab.dpdk.org/results/dashboard/patchsets/10949/
UNH-IOL DPDK Community Lab
To manage your email subscriptions, visit:
https://lab.dpdk.org/results/dashboard/preferences/subscriptions/
^ permalink raw reply [flat|nested] 5+ messages in thread
* [dpdk-test-report] |SUCCESS| pw69890 [PATCH] [v3] app/testpmd: add cmdline option to set Rx mq mode
@ 2020-05-07 1:31 dpdklab
0 siblings, 0 replies; 5+ messages in thread
From: dpdklab @ 2020-05-07 1:31 UTC (permalink / raw)
To: Test Report; +Cc: dpdk-test-reports
[-- Attachment #1: Type: text/plain, Size: 1251 bytes --]
Test-Label: iol-intel-Performance
Test-Status: SUCCESS
http://dpdk.org/patch/69890
_Performance Testing PASS_
Submitter: Xiaoyu Min <jackmin@mellanox.com>
Date: Thursday, May 07 2020 00:51:59
DPDK git baseline: Repo:dpdk
Branch: master
CommitID:0efc99bed3a0a78a02d55da02cedb5028dbcd6f1
69890 --> performance testing pass
Test environment and result as below:
Ubuntu 18.04
Kernel: 4.15.0-generic
Compiler: gcc 7.4
NIC: Intel Corporation Ethernet Converged Network Adapter 82599ES 10000 Mbps
Target: x86_64-native-linuxapp-gcc
Fail/Total: 0/2
Detail performance results:
+------------+---------+-------------------------------------+
| frame_size | txd/rxd | throughput difference from expected |
+============+=========+=====================================+
| 64 | 512 | 0.047 |
+------------+---------+-------------------------------------+
| 64 | 2048 | 0.005 |
+------------+---------+-------------------------------------+
To view detailed results, visit:
https://lab.dpdk.org/results/dashboard/patchsets/10949/
UNH-IOL DPDK Community Lab
To manage your email subscriptions, visit:
https://lab.dpdk.org/results/dashboard/preferences/subscriptions/
^ permalink raw reply [flat|nested] 5+ messages in thread
* [dpdk-test-report] |SUCCESS| pw69890 [PATCH v3] app/testpmd: add cmdline option to set Rx mq mode
[not found] <7610a1501291e224dce3cf7e00c968e24b5c9289.1588812049.git.jackmin@mellanox.com>
@ 2020-05-07 0:52 ` checkpatch
0 siblings, 0 replies; 5+ messages in thread
From: checkpatch @ 2020-05-07 0:52 UTC (permalink / raw)
To: test-report
Test-Label: checkpatch
Test-Status: SUCCESS
http://dpdk.org/patch/69890
_coding style OK_
^ permalink raw reply [flat|nested] 5+ messages in thread
end of thread, other threads:[~2020-05-12 21:59 UTC | newest]
Thread overview: 5+ messages (download: mbox.gz / follow: Atom feed)
-- links below jump to the message on this page --
2020-05-12 21:59 [dpdk-test-report] |SUCCESS| pw69890 [PATCH] [v3] app/testpmd: add cmdline option to set Rx mq mode dpdklab
-- strict thread matches above, loose matches on Subject: below --
2020-05-07 17:45 dpdklab
2020-05-07 6:46 dpdklab
2020-05-07 1:31 dpdklab
[not found] <7610a1501291e224dce3cf7e00c968e24b5c9289.1588812049.git.jackmin@mellanox.com>
2020-05-07 0:52 ` [dpdk-test-report] |SUCCESS| pw69890 [PATCH v3] " checkpatch
This is a public inbox, see mirroring instructions
for how to clone and mirror all data and code used for this inbox;
as well as URLs for NNTP newsgroup(s).