automatic DPDK test reports
 help / color / mirror / Atom feed
* [dpdk-test-report] |SUCCESS| pw72579-72583 [PATCH] [v3, 1/5] net/i40e: add private APIs
@ 2020-07-01 19:21 dpdklab
  0 siblings, 0 replies; 5+ messages in thread
From: dpdklab @ 2020-07-01 19:21 UTC (permalink / raw)
  To: Ali Alnubani, Test Report; +Cc: dpdk-test-reports

[-- Attachment #1: Type: text/plain, Size: 3965 bytes --]

Test-Label: iol-mellanox-Performance
Test-Status: SUCCESS
http://dpdk.org/patch/72579

_Performance Testing PASS_

Submitter: Chenxu Di <chenxux.di@intel.com>
Date: Wednesday, July 01 2020 08:24:47 
DPDK git baseline: Repo:dpdk
  Branch: master
  CommitID:4f299b7169000aa55fe7a48fe98736f728e4f710

72579-72583 --> performance testing pass

Test environment and result as below:

Ubuntu 18.04
Kernel: 4.15.0-generic
Compiler: gcc 7.4
NIC: Mellanox ConnectX-5 100000 Mbps
Target: x86_64-native-linuxapp-gcc
Fail/Total: 0/6

Detail performance results: 
+------------+---------+-------------------------------------+
| frame_size | txd/rxd | throughput difference from expected |
+============+=========+=====================================+
| 64         | 256     | 0.257                               |
+------------+---------+-------------------------------------+
| 128        | 256     | 0.178                               |
+------------+---------+-------------------------------------+
| 256        | 256     | 0.189                               |
+------------+---------+-------------------------------------+
| 512        | 256     | -0.009                              |
+------------+---------+-------------------------------------+
| 1024       | 256     | 0.020                               |
+------------+---------+-------------------------------------+
| 1518       | 256     | -0.004                              |
+------------+---------+-------------------------------------+

Ubuntu 18.04
Kernel: 4.15.0-generic
Compiler: gcc 7.4
NIC: Mellanox ConnectX-4 Lx 25000 Mbps
Target: x86_64-native-linuxapp-gcc
Fail/Total: 0/6

Detail performance results: 
+------------+---------+-------------------------------------+
| frame_size | txd/rxd | throughput difference from expected |
+============+=========+=====================================+
| 64         | 256     | -0.343                              |
+------------+---------+-------------------------------------+
| 128        | 256     | -0.048                              |
+------------+---------+-------------------------------------+
| 256        | 256     | -0.043                              |
+------------+---------+-------------------------------------+
| 512        | 256     | -0.015                              |
+------------+---------+-------------------------------------+
| 1024       | 256     | 0                                   |
+------------+---------+-------------------------------------+
| 1518       | 256     | -0.006                              |
+------------+---------+-------------------------------------+

Ubuntu 18.04
Kernel: 4.15.0-generic
Compiler: gcc 7.4
NIC: Mellanox ConnectX-4 Lx 40000 Mbps
Target: x86_64-native-linuxapp-gcc
Fail/Total: 0/6

Detail performance results: 
+------------+---------+-------------------------------------+
| frame_size | txd/rxd | throughput difference from expected |
+============+=========+=====================================+
| 64         | 256     | -0.648                              |
+------------+---------+-------------------------------------+
| 128        | 256     | 0.083                               |
+------------+---------+-------------------------------------+
| 256        | 256     | 0.079                               |
+------------+---------+-------------------------------------+
| 512        | 256     | 0.002                               |
+------------+---------+-------------------------------------+
| 1024       | 256     | 0.012                               |
+------------+---------+-------------------------------------+
| 1518       | 256     | 0.001                               |
+------------+---------+-------------------------------------+

To view detailed results, visit:
https://lab.dpdk.org/results/dashboard/patchsets/11759/

UNH-IOL DPDK Community Lab

To manage your email subscriptions, visit: 
https://lab.dpdk.org/results/dashboard/preferences/subscriptions/

^ permalink raw reply	[flat|nested] 5+ messages in thread

* [dpdk-test-report] |SUCCESS| pw72579-72583 [PATCH] [v3, 1/5] net/i40e: add private APIs
@ 2020-07-02  1:28 dpdklab
  0 siblings, 0 replies; 5+ messages in thread
From: dpdklab @ 2020-07-02  1:28 UTC (permalink / raw)
  To: Test Report; +Cc: dpdk-test-reports

[-- Attachment #1: Type: text/plain, Size: 2910 bytes --]

Test-Label: iol-testing
Test-Status: SUCCESS
http://dpdk.org/patch/72579

_Testing PASS_

Submitter: Chenxu Di <chenxux.di@intel.com>
Date: Wednesday, July 01 2020 08:24:47 
DPDK git baseline: Repo:dpdk
  Branch: master
  CommitID:4f299b7169000aa55fe7a48fe98736f728e4f710

72579-72583 --> testing pass

Test environment and result as below:

+---------------------+--------------------+-------------------+----------------+--------------+------------------+
|     Environment     | dpdk_meson_compile | dpdk_compile_spdk | dpdk_unit_test | dpdk_compile | dpdk_compile_ovs |
+=====================+====================+===================+================+==============+==================+
| Windows Server 2019 | PASS               | SKIPPED           | SKIPPED        | SKIPPED      | SKIPPED          |
+---------------------+--------------------+-------------------+----------------+--------------+------------------+
| Fedora 31           | PASS               | PASS              | SKIPPED        | PASS         | PASS             |
+---------------------+--------------------+-------------------+----------------+--------------+------------------+
| CentOS 8            | PASS               | PASS              | SKIPPED        | PASS         | PASS             |
+---------------------+--------------------+-------------------+----------------+--------------+------------------+
| Ubuntu 18.04        | PASS               | PASS              | PASS           | PASS         | PASS             |
+---------------------+--------------------+-------------------+----------------+--------------+------------------+
| openSUSE Leap 15    | PASS               | PASS              | SKIPPED        | PASS         | PASS             |
+---------------------+--------------------+-------------------+----------------+--------------+------------------+
| Arch Linux          | PASS               | SKIPPED           | SKIPPED        | PASS         | PASS             |
+---------------------+--------------------+-------------------+----------------+--------------+------------------+
| FreeBSD 11.2        | PASS               | PASS              | SKIPPED        | PASS         | SKIPPED          |
+---------------------+--------------------+-------------------+----------------+--------------+------------------+

Windows Server 2019
	Kernel: 10.0
	Compiler: clang 9.0

Fedora 31
	Kernel: 5.3.16
	Compiler: gcc 9.2.1

CentOS 8
	Kernel: 4.18.0.el8_0
	Compiler: gcc 8.3.1

Ubuntu 18.04
	Kernel: 4.15.0-generic
	Compiler: gcc 7.4

openSUSE Leap 15
	Kernel: 4.12.14
	Compiler: gcc 7.4.1

Arch Linux
	Kernel: latest
	Compiler: gcc latest

FreeBSD 11.2
	Kernel: 11.2
	Compiler: gcc 8.3

To view detailed results, visit:
https://lab.dpdk.org/results/dashboard/patchsets/11759/

UNH-IOL DPDK Community Lab

To manage your email subscriptions, visit: 
https://lab.dpdk.org/results/dashboard/preferences/subscriptions/

^ permalink raw reply	[flat|nested] 5+ messages in thread

* [dpdk-test-report] |SUCCESS| pw72579-72583 [PATCH] [v3, 1/5] net/i40e: add private APIs
@ 2020-07-01 12:05 dpdklab
  0 siblings, 0 replies; 5+ messages in thread
From: dpdklab @ 2020-07-01 12:05 UTC (permalink / raw)
  To: Ruoshan Shi, Test Report; +Cc: dpdk-test-reports

[-- Attachment #1: Type: text/plain, Size: 1203 bytes --]

Test-Label: iol-nxp-Performance
Test-Status: SUCCESS
http://dpdk.org/patch/72579

_Performance Testing PASS_

Submitter: Chenxu Di <chenxux.di@intel.com>
Date: Wednesday, July 01 2020 08:24:47 
DPDK git baseline: Repo:dpdk
  Branch: master
  CommitID:4f299b7169000aa55fe7a48fe98736f728e4f710

72579-72583 --> performance testing pass

Test environment and result as below:

Ubuntu 18.04
Kernel: 4.14.122
Compiler: gcc 7.3.0
NIC: NXP LS2088A 10000 Mbps
Target: x86_64-native-linuxapp-gcc
Fail/Total: 0/2

Detail performance results: 
+------------+---------+-------------------------------------+
| frame_size | txd/rxd | throughput difference from expected |
+============+=========+=====================================+
| 64         | 512     | 0.047                               |
+------------+---------+-------------------------------------+
| 64         | 2048    | 0.193                               |
+------------+---------+-------------------------------------+

To view detailed results, visit:
https://lab.dpdk.org/results/dashboard/patchsets/11759/

UNH-IOL DPDK Community Lab

To manage your email subscriptions, visit: 
https://lab.dpdk.org/results/dashboard/preferences/subscriptions/

^ permalink raw reply	[flat|nested] 5+ messages in thread

* [dpdk-test-report] |SUCCESS| pw72579-72583 [PATCH] [v3, 1/5] net/i40e: add private APIs
@ 2020-07-01 11:38 dpdklab
  0 siblings, 0 replies; 5+ messages in thread
From: dpdklab @ 2020-07-01 11:38 UTC (permalink / raw)
  To: Test Report; +Cc: dpdk-test-reports

[-- Attachment #1: Type: text/plain, Size: 1915 bytes --]

Test-Label: iol-intel-Performance
Test-Status: SUCCESS
http://dpdk.org/patch/72579

_Performance Testing PASS_

Submitter: Chenxu Di <chenxux.di@intel.com>
Date: Wednesday, July 01 2020 08:24:47 
DPDK git baseline: Repo:dpdk
  Branch: master
  CommitID:4f299b7169000aa55fe7a48fe98736f728e4f710

72579-72583 --> performance testing pass

Test environment and result as below:

Ubuntu 18.04
Kernel: 4.15.0-generic
Compiler: gcc 7.4
NIC: Intel Corporation Ethernet Converged Network Adapter XL710-QDA2 40000 Mbps
Target: x86_64-native-linuxapp-gcc
Fail/Total: 0/2

Detail performance results: 
+------------+---------+-------------------------------------+
| frame_size | txd/rxd | throughput difference from expected |
+============+=========+=====================================+
| 64         | 512     | 5.009                               |
+------------+---------+-------------------------------------+
| 64         | 2048    | 2.892                               |
+------------+---------+-------------------------------------+

Ubuntu 18.04
Kernel: 4.15.0-generic
Compiler: gcc 7.4
NIC: Intel Corporation Ethernet Converged Network Adapter 82599ES 10000 Mbps
Target: x86_64-native-linuxapp-gcc
Fail/Total: 0/2

Detail performance results: 
+------------+---------+-------------------------------------+
| frame_size | txd/rxd | throughput difference from expected |
+============+=========+=====================================+
| 64         | 512     | 2.715                               |
+------------+---------+-------------------------------------+
| 64         | 2048    | 0.926                               |
+------------+---------+-------------------------------------+

To view detailed results, visit:
https://lab.dpdk.org/results/dashboard/patchsets/11759/

UNH-IOL DPDK Community Lab

To manage your email subscriptions, visit: 
https://lab.dpdk.org/results/dashboard/preferences/subscriptions/

^ permalink raw reply	[flat|nested] 5+ messages in thread

* [dpdk-test-report] |SUCCESS| pw72579-72583 [PATCH] [v3, 1/5] net/i40e: add private APIs
@ 2020-07-01  9:22 dpdklab
  0 siblings, 0 replies; 5+ messages in thread
From: dpdklab @ 2020-07-01  9:22 UTC (permalink / raw)
  To: Ajit Khaparde, Test Report; +Cc: dpdk-test-reports

[-- Attachment #1: Type: text/plain, Size: 1266 bytes --]

Test-Label: iol-broadcom-Performance
Test-Status: SUCCESS
http://dpdk.org/patch/72579

_Performance Testing PASS_

Submitter: Chenxu Di <chenxux.di@intel.com>
Date: Wednesday, July 01 2020 08:24:47 
DPDK git baseline: Repo:dpdk
  Branch: master
  CommitID:4f299b7169000aa55fe7a48fe98736f728e4f710

72579-72583 --> performance testing pass

Test environment and result as below:

Ubuntu 18.04
Kernel: 4.15.0-65-generic
Compiler: gcc gcc (Ubuntu 7.4.0-1ubuntu1~18.04.1) 7.4.0
NIC: Broadcom Inc. brcm_57414 25000 Mbps
Target: x86_64-native-linuxapp-gcc
Fail/Total: 0/2

Detail performance results: 
+------------+---------+-------------------------------------+
| frame_size | txd/rxd | throughput difference from expected |
+============+=========+=====================================+
| 64         | 512     | 0.067                               |
+------------+---------+-------------------------------------+
| 64         | 2048    | -0.046                              |
+------------+---------+-------------------------------------+

To view detailed results, visit:
https://lab.dpdk.org/results/dashboard/patchsets/11759/

UNH-IOL DPDK Community Lab

To manage your email subscriptions, visit: 
https://lab.dpdk.org/results/dashboard/preferences/subscriptions/

^ permalink raw reply	[flat|nested] 5+ messages in thread

end of thread, other threads:[~2020-07-02  1:28 UTC | newest]

Thread overview: 5+ messages (download: mbox.gz / follow: Atom feed)
-- links below jump to the message on this page --
2020-07-01 19:21 [dpdk-test-report] |SUCCESS| pw72579-72583 [PATCH] [v3, 1/5] net/i40e: add private APIs dpdklab
  -- strict thread matches above, loose matches on Subject: below --
2020-07-02  1:28 dpdklab
2020-07-01 12:05 dpdklab
2020-07-01 11:38 dpdklab
2020-07-01  9:22 dpdklab

automatic DPDK test reports

This inbox may be cloned and mirrored by anyone:

	git clone --mirror http://inbox.dpdk.org/test-report/0 test-report/git/0.git

	# If you have public-inbox 1.1+ installed, you may
	# initialize and index your mirror using the following commands:
	public-inbox-init -V2 test-report test-report/ http://inbox.dpdk.org/test-report \
		test-report@dpdk.org
	public-inbox-index test-report

Example config snippet for mirrors.
Newsgroup available over NNTP:
	nntp://inbox.dpdk.org/inbox.dpdk.test-report


AGPL code for this site: git clone https://public-inbox.org/public-inbox.git