* [dpdk-test-report] |SUCCESS| pw74895 [PATCH] [v2] vdpa/ifc: fix vring update after device config
@ 2020-07-28 14:27 dpdklab
0 siblings, 0 replies; 5+ messages in thread
From: dpdklab @ 2020-07-28 14:27 UTC (permalink / raw)
To: Ali Alnubani, Test Report; +Cc: dpdk-test-reports
[-- Attachment #1: Type: text/plain, Size: 3959 bytes --]
Test-Label: iol-mellanox-Performance
Test-Status: SUCCESS
http://dpdk.org/patch/74895
_Performance Testing PASS_
Submitter: Xia, Chenbo <chenbo.xia@intel.com>
Date: Tuesday, July 28 2020 14:32:24
DPDK git baseline: Repo:dpdk
Branch: master
CommitID:ec0b862d5e52db12932c3125d06081307aea6af4
74895 --> performance testing pass
Test environment and result as below:
Ubuntu 18.04
Kernel: 4.15.0-generic
Compiler: gcc 7.4
NIC: Mellanox ConnectX-5 100000 Mbps
Target: x86_64-native-linuxapp-gcc
Fail/Total: 0/6
Detail performance results:
+------------+---------+-------------------------------------+
| frame_size | txd/rxd | throughput difference from expected |
+============+=========+=====================================+
| 64 | 256 | -0.070 |
+------------+---------+-------------------------------------+
| 128 | 256 | 0.112 |
+------------+---------+-------------------------------------+
| 256 | 256 | -0.051 |
+------------+---------+-------------------------------------+
| 512 | 256 | 0.062 |
+------------+---------+-------------------------------------+
| 1024 | 256 | 0.064 |
+------------+---------+-------------------------------------+
| 1518 | 256 | 0.003 |
+------------+---------+-------------------------------------+
Ubuntu 18.04
Kernel: 4.15.0-generic
Compiler: gcc 7.4
NIC: Mellanox ConnectX-4 Lx 25000 Mbps
Target: x86_64-native-linuxapp-gcc
Fail/Total: 0/6
Detail performance results:
+------------+---------+-------------------------------------+
| frame_size | txd/rxd | throughput difference from expected |
+============+=========+=====================================+
| 64 | 256 | 0.045 |
+------------+---------+-------------------------------------+
| 128 | 256 | 0.067 |
+------------+---------+-------------------------------------+
| 256 | 256 | 0.007 |
+------------+---------+-------------------------------------+
| 512 | 256 | 0.027 |
+------------+---------+-------------------------------------+
| 1024 | 256 | -0.002 |
+------------+---------+-------------------------------------+
| 1518 | 256 | -0.001 |
+------------+---------+-------------------------------------+
Ubuntu 18.04
Kernel: 4.15.0-generic
Compiler: gcc 7.4
NIC: Mellanox ConnectX-4 Lx 40000 Mbps
Target: x86_64-native-linuxapp-gcc
Fail/Total: 0/6
Detail performance results:
+------------+---------+-------------------------------------+
| frame_size | txd/rxd | throughput difference from expected |
+============+=========+=====================================+
| 64 | 256 | -0.072 |
+------------+---------+-------------------------------------+
| 128 | 256 | -0.080 |
+------------+---------+-------------------------------------+
| 256 | 256 | 0.410 |
+------------+---------+-------------------------------------+
| 512 | 256 | 0.050 |
+------------+---------+-------------------------------------+
| 1024 | 256 | -0.007 |
+------------+---------+-------------------------------------+
| 1518 | 256 | -0.008 |
+------------+---------+-------------------------------------+
To view detailed results, visit:
https://lab.dpdk.org/results/dashboard/patchsets/12364/
UNH-IOL DPDK Community Lab
To manage your email subscriptions, visit:
https://lab.dpdk.org/results/dashboard/preferences/subscriptions/
^ permalink raw reply [flat|nested] 5+ messages in thread
* [dpdk-test-report] |SUCCESS| pw74895 [PATCH] [v2] vdpa/ifc: fix vring update after device config
@ 2020-07-28 14:20 dpdklab
0 siblings, 0 replies; 5+ messages in thread
From: dpdklab @ 2020-07-28 14:20 UTC (permalink / raw)
To: Test Report; +Cc: dpdk-test-reports
[-- Attachment #1: Type: text/plain, Size: 2904 bytes --]
Test-Label: iol-testing
Test-Status: SUCCESS
http://dpdk.org/patch/74895
_Testing PASS_
Submitter: Xia, Chenbo <chenbo.xia@intel.com>
Date: Tuesday, July 28 2020 14:32:24
DPDK git baseline: Repo:dpdk
Branch: master
CommitID:ec0b862d5e52db12932c3125d06081307aea6af4
74895 --> testing pass
Test environment and result as below:
+---------------------+--------------+--------------------+----------------+------------------+-------------------+
| Environment | dpdk_compile | dpdk_meson_compile | dpdk_unit_test | dpdk_compile_ovs | dpdk_compile_spdk |
+=====================+==============+====================+================+==================+===================+
| FreeBSD 11.2 | PASS | PASS | SKIPPED | SKIPPED | PASS |
+---------------------+--------------+--------------------+----------------+------------------+-------------------+
| openSUSE Leap 15 | PASS | PASS | SKIPPED | PASS | PASS |
+---------------------+--------------+--------------------+----------------+------------------+-------------------+
| Ubuntu 18.04 | PASS | PASS | PASS | PASS | PASS |
+---------------------+--------------+--------------------+----------------+------------------+-------------------+
| CentOS 8 | PASS | PASS | SKIPPED | PASS | PASS |
+---------------------+--------------+--------------------+----------------+------------------+-------------------+
| Fedora 31 | PASS | PASS | SKIPPED | PASS | PASS |
+---------------------+--------------+--------------------+----------------+------------------+-------------------+
| Arch Linux | PASS | PASS | SKIPPED | PASS | SKIPPED |
+---------------------+--------------+--------------------+----------------+------------------+-------------------+
| Windows Server 2019 | SKIPPED | PASS | SKIPPED | SKIPPED | SKIPPED |
+---------------------+--------------+--------------------+----------------+------------------+-------------------+
FreeBSD 11.2
Kernel: 11.2
Compiler: gcc 8.3
openSUSE Leap 15
Kernel: 4.12.14
Compiler: gcc 7.4.1
Ubuntu 18.04
Kernel: 4.15.0-generic
Compiler: gcc 7.4
CentOS 8
Kernel: 4.18.0.el8_0
Compiler: gcc 8.3.1
Fedora 31
Kernel: 5.3.16
Compiler: gcc 9.2.1
Arch Linux
Kernel: latest
Compiler: gcc latest
Windows Server 2019
Kernel: 10.0
Compiler: clang 9.0
To view detailed results, visit:
https://lab.dpdk.org/results/dashboard/patchsets/12364/
UNH-IOL DPDK Community Lab
To manage your email subscriptions, visit:
https://lab.dpdk.org/results/dashboard/preferences/subscriptions/
^ permalink raw reply [flat|nested] 5+ messages in thread
* [dpdk-test-report] |SUCCESS| pw74895 [PATCH] [v2] vdpa/ifc: fix vring update after device config
@ 2020-07-28 13:55 dpdklab
0 siblings, 0 replies; 5+ messages in thread
From: dpdklab @ 2020-07-28 13:55 UTC (permalink / raw)
To: Test Report; +Cc: dpdk-test-reports
[-- Attachment #1: Type: text/plain, Size: 1909 bytes --]
Test-Label: iol-intel-Performance
Test-Status: SUCCESS
http://dpdk.org/patch/74895
_Performance Testing PASS_
Submitter: Xia, Chenbo <chenbo.xia@intel.com>
Date: Tuesday, July 28 2020 14:32:24
DPDK git baseline: Repo:dpdk
Branch: master
CommitID:ec0b862d5e52db12932c3125d06081307aea6af4
74895 --> performance testing pass
Test environment and result as below:
Ubuntu 18.04
Kernel: 4.15.0-generic
Compiler: gcc 7.4
NIC: Intel Corporation Ethernet Converged Network Adapter XL710-QDA2 40000 Mbps
Target: x86_64-native-linuxapp-gcc
Fail/Total: 0/2
Detail performance results:
+------------+---------+-------------------------------------+
| frame_size | txd/rxd | throughput difference from expected |
+============+=========+=====================================+
| 64 | 512 | 5.166 |
+------------+---------+-------------------------------------+
| 64 | 2048 | 2.909 |
+------------+---------+-------------------------------------+
Ubuntu 18.04
Kernel: 4.15.0-generic
Compiler: gcc 7.4
NIC: Intel Corporation Ethernet Converged Network Adapter 82599ES 10000 Mbps
Target: x86_64-native-linuxapp-gcc
Fail/Total: 0/2
Detail performance results:
+------------+---------+-------------------------------------+
| frame_size | txd/rxd | throughput difference from expected |
+============+=========+=====================================+
| 64 | 512 | 2.270 |
+------------+---------+-------------------------------------+
| 64 | 2048 | 0.803 |
+------------+---------+-------------------------------------+
To view detailed results, visit:
https://lab.dpdk.org/results/dashboard/patchsets/12364/
UNH-IOL DPDK Community Lab
To manage your email subscriptions, visit:
https://lab.dpdk.org/results/dashboard/preferences/subscriptions/
^ permalink raw reply [flat|nested] 5+ messages in thread
* [dpdk-test-report] |SUCCESS| pw74895 [PATCH] [v2] vdpa/ifc: fix vring update after device config
@ 2020-07-28 13:36 dpdklab
0 siblings, 0 replies; 5+ messages in thread
From: dpdklab @ 2020-07-28 13:36 UTC (permalink / raw)
To: Ajit Khaparde, Test Report; +Cc: dpdk-test-reports
[-- Attachment #1: Type: text/plain, Size: 1260 bytes --]
Test-Label: iol-broadcom-Performance
Test-Status: SUCCESS
http://dpdk.org/patch/74895
_Performance Testing PASS_
Submitter: Xia, Chenbo <chenbo.xia@intel.com>
Date: Tuesday, July 28 2020 14:32:24
DPDK git baseline: Repo:dpdk
Branch: master
CommitID:ec0b862d5e52db12932c3125d06081307aea6af4
74895 --> performance testing pass
Test environment and result as below:
Ubuntu 18.04
Kernel: 4.15.0-65-generic
Compiler: gcc gcc (Ubuntu 7.4.0-1ubuntu1~18.04.1) 7.4.0
NIC: Broadcom Inc. brcm_57414 25000 Mbps
Target: x86_64-native-linuxapp-gcc
Fail/Total: 0/2
Detail performance results:
+------------+---------+-------------------------------------+
| frame_size | txd/rxd | throughput difference from expected |
+============+=========+=====================================+
| 64 | 512 | -0.002 |
+------------+---------+-------------------------------------+
| 64 | 2048 | -0.012 |
+------------+---------+-------------------------------------+
To view detailed results, visit:
https://lab.dpdk.org/results/dashboard/patchsets/12364/
UNH-IOL DPDK Community Lab
To manage your email subscriptions, visit:
https://lab.dpdk.org/results/dashboard/preferences/subscriptions/
^ permalink raw reply [flat|nested] 5+ messages in thread
* [dpdk-test-report] |SUCCESS| pw74895 [PATCH v2] vdpa/ifc: fix vring update after device config
[not found] <20200728143224.99949-1-chenbo.xia@intel.com>
@ 2020-07-28 5:43 ` checkpatch
0 siblings, 0 replies; 5+ messages in thread
From: checkpatch @ 2020-07-28 5:43 UTC (permalink / raw)
To: test-report
Test-Label: checkpatch
Test-Status: SUCCESS
http://dpdk.org/patch/74895
_coding style OK_
^ permalink raw reply [flat|nested] 5+ messages in thread
end of thread, other threads:[~2020-07-28 14:27 UTC | newest]
Thread overview: 5+ messages (download: mbox.gz / follow: Atom feed)
-- links below jump to the message on this page --
2020-07-28 14:27 [dpdk-test-report] |SUCCESS| pw74895 [PATCH] [v2] vdpa/ifc: fix vring update after device config dpdklab
-- strict thread matches above, loose matches on Subject: below --
2020-07-28 14:20 dpdklab
2020-07-28 13:55 dpdklab
2020-07-28 13:36 dpdklab
[not found] <20200728143224.99949-1-chenbo.xia@intel.com>
2020-07-28 5:43 ` [dpdk-test-report] |SUCCESS| pw74895 [PATCH v2] " checkpatch
This is a public inbox, see mirroring instructions
for how to clone and mirror all data and code used for this inbox;
as well as URLs for NNTP newsgroup(s).